Workbook
Name BEC: 'Validation Lists'!$E$2:$E$230
Name Day: 'Validation Lists'!$B$17:$B$47
Name declared_etc: #REF!
Name District: 'Validation Lists'!$C$2:$C$30
Name FHFCode: 'Validation Lists'!$J$2:$J$271
Name FHFNames: 'Validation Lists'!#REF!
Name MapSheet: 'Validation Lists'!$I$2:$I$89
Name MITD: 'Validation Lists'!$A$53:$A$59
Name Month: 'Validation Lists'!$B$2:$B$13
Name Part3: #REF!
Name PEST: #REF!
Name SilvTrmts: 'Validation Lists'!$H$10:$H$26
Name Species: '[1]Validation Lists'!#REF!
Name TreeSpecies: 'Validation Lists'!$F$2:$F$46
Name Trmts: 'Validation Lists'!$L$2:$L$179
Name TSA: 'Validation Lists'!$D$2:$D$38
Name UTM: 'Validation Lists'!$H$2:$H$6
Name Year: 'Validation Lists'!$A$25:$A$46
Name Year1: 'Validation Lists'!$A$3:$A$46

Sheet Cover Sheet
A1: 2014 | B1: Stand Development Monitoring - Polygon Cover Sheet | R1: Last saved on | S1: =NOW() -> 41718.615
A2: (completed during office review of onsite files and RESULTS database information)
A3: REQUIRED INFORMATION | I3: TSA: | O3: OPTIONAL INFORMATION
A4: Mapsheet Identifier* | G4: Polygon** | I4: District: | O4: Previous Survey Information:
A5: Mapsheet | C5: Submapsheet | E5: Opening | I5: Location: | P5: If pre-SDM survey information is available then please fill in the following fields. Ensure that the actual activity area matches the current polygon area.
B7: Opening ID: | F7: Polygon NAR: | I7: BEC: | O7: IF POLYGON WAS PLANTED
A8: FC ID:*** | F8: Disturbance Yr: | I8: Year Declared FG: | O8: How many times?
O9: If available, provide info for last planting
A10: DESIRABLE INFORMATION FROM MOST RECENT PRIOR SURVEY | O10: Year Planted:
O11: Total Trees Planted:
D12: Most Recent Survey: | E12: FG | I12: If not FG, describe type: | O12: Area Planted:
D13: Method of Survey: | G13: MITD: | I13: 2 | J13: M-value: | O13: Species:
D14: Year of Survey: | G14: MSS: | J14: TSS: | O14: Stock Age:
D15: Total Tree Density: | G15: Top Height ‡: | J15: Top Height Species: | O15: REGENERATION SURVEY
D16: Total Conifers: | G16: Preferred Spp. (Orig): | M16: Min. Ht.
D17: Total Well-spaced Density†: | O17: Year Surveyed:
D18: Well-spaced Density (M): | G18: Acceptable Spp. (Orig): | M18: Min. Ht. | O18: Total Density:
D19: Free-growing Density (M): | O19: Inventory Label:
O20: Silviculture Label:
A21: SILVICULTURE LABEL | D21: Minor Spp. | J21: TOP 3 FOREST HEALTH FACTORS | O21: Well-spaced Density:
A22: Ldg Spp | J22: FHF | O22: Site Index:
A23: % | B23: Age | C23: Ht(m) | D23: % | E23: % | F23: % | G23: % | H23: % | J23: %
O24: DP: | P24: SDM | R24: Pre-SDM
A26: INVENTORY LABEL | G26: Minor Spp. | K26: Total Density | L26: Site Index | M26: SI Source | N26: Crown Closure | P26: Reference Year | R26: Data input by:
A27: Ldg Spp | D27: 2 nd Spp
A28: % | B28: Age | C28: Ht(m) | D28: % | E28: Age | F28: Ht(m) | G28: % | H28: % | I28: % | J28: %
A31: SILVICULTURE TREATMENTS | P31: SDM Surveyors:
A32: YEAR
A33: ACTIVITY
A35: NOTES:
A39: * Keep Mapsheet Identifier split into three groups with leading zeros and no dashes - along with polygon this is the main identifier for the polygon.
A40: ** This polygon identifer MUST match the 'SILV_POLYGON_NO' entry from the random sample population list for the TSA.
A41: *** Refers to FOREST_COVER_ID field in TSA random sample list or from FOR ID in Opening Details Reports. This number is unique to a polygon.
A42: † Total Well-spaced Density is the well-spaced tree count before capping by M-value, while Well-spaced Density is capped. Free-growing density is capped.
A43: ‡ This is the maximum tree height used to determine site index using the growth intercept method. This can be an average. Include the associated tree species in the next field.

Sheet Plot (1)
G1: STAND DEVELOPMENT MONITORING FIELD CARD | N1: SURVEYOR NAME(S) | Z1: YR | AA1: MO | AB1: DAY | AC1: PAGE | AE1: OF
N2: ='Cover Sheet'!P32 -> 0 | Z2: ='Cover Sheet'!A1 -> 2014 | AC2: 1 | AE2: 10
A3: MAPSHEET - OPENING NO. | G3: POLYGON | J3: LOCATION | W3: DISTRICT | Z3: TSA | AC3: BEC
A4: =CONCATENATE('Cover Sheet'!A6," ",'Cover Sheet'!C6," ",'Cover Sheet'!E6) | G4: ='Cover Sheet'!G6 -> 0 | J4: ='Cover Sheet'!K5 -> 0 | W4: ='Cover Sheet'!K4 -> 0 | Z4: ='Cover Sheet'!K3 -> 0 | AC4: ='Cover Sheet'!K7 -> 0
A5: POINT OF COMMENCEMENT / BEARING & DISTANCE TO THIS PLOT | W5: UTM ZONE | Y5: EASTING | AC5: NORTHING
A7: PLOT NO. (3.99m) | F7: MITD (ORIG) | H7: M-VALUE (ORIG) | J7: FOREST HEALTH DAMAGE AGENTS | V7: PREF./ACC. | X7: PREFERRED SPP (ORIG): | AB7: =IF(ISBLANK('Cover Sheet'!$J$16),"No species listed",CONCATENATE(IF(ISBLANK('Cover Sheet'!$J$16),"",'Cover Sheet'!$J$16),IF(ISBLANK('Cover Sheet'!$K$16),"",CONCATENATE(", ",'Cover Sheet'!$K$16)),IF(ISBLANK('Cover Sheet'!$L$16),"",CONCATENATE(", ",'Cover Sheet'!$L$16)),IF(ISBLANK('Cover Sheet'!$J$17),"",CONCATENATE(", ",'Cover Sheet'!$J$17)),IF(ISBLANK('Cover Sheet'!$K$17),"",CONCATENATE(", ",'Cover Sheet'!$K$17)),IF(ISBLANK('Cover Sheet'!$L$17),"",CONCATENATE(", ",'Cover Sheet'!$L$17)))) -> No species listed | AC7: =IF(ISBLANK($J$15),"No species listed",CONCATENATE(IF(ISBLANK($J$15),"",$J$15),IF(ISBLANK($K$15),"",CONCATENATE(", ",$K$15)),IF(ISBLANK($L$15),"",CONCATENATE(", ",$L$15)),IF(ISBLANK($M$15),"",CONCATENATE(", ",$M$15)),IF(ISBLANK($J$16),"",CONCATENATE(", ",$J$16)),IF(ISBLANK($K$16),"",CONCATENATE(", ",$K$16)),IF(ISBLANK($L$16),"",CONCATENATE(", ",$L$16)),IF(ISBLANK($M$16),"",CONCATENATE(", ",$M$16)))) -> No species listed | AD7: =IF(ISBLANK($J$15),"No species listed",CONCATENATE(IF(ISBLANK($J$15),"",$J$15),IF(ISBLANK($K$15),"",CONCATENATE(", ",$K$15)),IF(ISBLANK($L$15),"",CONCATENATE(", ",$L$15)),IF(ISBLANK($M$15),"",CONCATENATE(", ",$M$15)),IF(ISBLANK($J$16),"",CONCATENATE(", ",$J$16)),IF(ISBLANK($K$16),"",CONCATENATE(", ",$K$16)),IF(ISBLANK($L$16),"",CONCATENATE(", ",$L$16)),IF(ISBLANK($M$16),"",CONCATENATE(", ",$M$16)))) -> No species listed | AE7: =IF(ISBLANK($J$15),"No species listed",CONCATENATE(IF(ISBLANK($J$15),"",$J$15),IF(ISBLANK($K$15),"",CONCATENATE(", ",$K$15)),IF(ISBLANK($L$15),"",CONCATENATE(", ",$L$15)),IF(ISBLANK($M$15),"",CONCATENATE(", ",$M$15)),IF(ISBLANK($J$16),"",CONCATENATE(", ",$J$16)),IF(ISBLANK($K$16),"",CONCATENATE(", ",$K$16)),IF(ISBLANK($L$16),"",CONCATENATE(", ",$L$16)),IF(ISBLANK($M$16),"",CONCATENATE(", ",$M$16)))) -> No species listed | AF7: =IF(ISBLANK($J$15),"No species listed",CONCATENATE(IF(ISBLANK($J$15),"",$J$15),IF(ISBLANK($K$15),"",CONCATENATE(", ",$K$15)),IF(ISBLANK($L$15),"",CONCATENATE(", ",$L$15)),IF(ISBLANK($M$15),"",CONCATENATE(", ",$M$15)),IF(ISBLANK($J$16),"",CONCATENATE(", ",$J$16)),IF(ISBLANK($K$16),"",CONCATENATE(", ",$K$16)),IF(ISBLANK($L$16),"",CONCATENATE(", ",$L$16)),IF(ISBLANK($M$16),"",CONCATENATE(", ",$M$16)))) -> No species listed
F8: ='Cover Sheet'!I13 -> 2 | H8: ='Cover Sheet'!L13 -> 0 | AB8: =IF(ISBLANK($J$15),"No species listed",CONCATENATE(IF(ISBLANK($J$15),"",$J$15),IF(ISBLANK($K$15),"",CONCATENATE(", ",$K$15)),IF(ISBLANK($L$15),"",CONCATENATE(", ",$L$15)),IF(ISBLANK($M$15),"",CONCATENATE(", ",$M$15)),IF(ISBLANK($J$16),"",CONCATENATE(", ",$J$16)),IF(ISBLANK($K$16),"",CONCATENATE(", ",$K$16)),IF(ISBLANK($L$16),"",CONCATENATE(", ",$L$16)),IF(ISBLANK($M$16),"",CONCATENATE(", ",$M$16)))) -> No species listed | AC8: =IF(ISBLANK($J$15),"No species listed",CONCATENATE(IF(ISBLANK($J$15),"",$J$15),IF(ISBLANK($K$15),"",CONCATENATE(", ",$K$15)),IF(ISBLANK($L$15),"",CONCATENATE(", ",$L$15)),IF(ISBLANK($M$15),"",CONCATENATE(", ",$M$15)),IF(ISBLANK($J$16),"",CONCATENATE(", ",$J$16)),IF(ISBLANK($K$16),"",CONCATENATE(", ",$K$16)),IF(ISBLANK($L$16),"",CONCATENATE(", ",$L$16)),IF(ISBLANK($M$16),"",CONCATENATE(", ",$M$16)))) -> No species listed | AD8: =IF(ISBLANK($J$15),"No species listed",CONCATENATE(IF(ISBLANK($J$15),"",$J$15),IF(ISBLANK($K$15),"",CONCATENATE(", ",$K$15)),IF(ISBLANK($L$15),"",CONCATENATE(", ",$L$15)),IF(ISBLANK($M$15),"",CONCATENATE(", ",$M$15)),IF(ISBLANK($J$16),"",CONCATENATE(", ",$J$16)),IF(ISBLANK($K$16),"",CONCATENATE(", ",$K$16)),IF(ISBLANK($L$16),"",CONCATENATE(", ",$L$16)),IF(ISBLANK($M$16),"",CONCATENATE(", ",$M$16)))) -> No species listed | AE8: =IF(ISBLANK($J$15),"No species listed",CONCATENATE(IF(ISBLANK($J$15),"",$J$15),IF(ISBLANK($K$15),"",CONCATENATE(", ",$K$15)),IF(ISBLANK($L$15),"",CONCATENATE(", ",$L$15)),IF(ISBLANK($M$15),"",CONCATENATE(", ",$M$15)),IF(ISBLANK($J$16),"",CONCATENATE(", ",$J$16)),IF(ISBLANK($K$16),"",CONCATENATE(", ",$K$16)),IF(ISBLANK($L$16),"",CONCATENATE(", ",$L$16)),IF(ISBLANK($M$16),"",CONCATENATE(", ",$M$16)))) -> No species listed | AF8: =IF(ISBLANK($J$15),"No species listed",CONCATENATE(IF(ISBLANK($J$15),"",$J$15),IF(ISBLANK($K$15),"",CONCATENATE(", ",$K$15)),IF(ISBLANK($L$15),"",CONCATENATE(", ",$L$15)),IF(ISBLANK($M$15),"",CONCATENATE(", ",$M$15)),IF(ISBLANK($J$16),"",CONCATENATE(", ",$J$16)),IF(ISBLANK($K$16),"",CONCATENATE(", ",$K$16)),IF(ISBLANK($L$16),"",CONCATENATE(", ",$L$16)),IF(ISBLANK($M$16),"",CONCATENATE(", ",$M$16)))) -> No species listed
A9: TREE SPP | C9: LAYER | D9: LIVE TREES | E9: LIVE CON. | F9: DEAD TREES | G9: DEAD CON. | H9: WS | I9: FG | J9: LIVE | K9: DEAD | L9: LIVE | M9: DEAD | N9: LIVE | O9: DEAD | P9: LIVE | Q9: DEAD | R9: LIVE | S9: DEAD | T9: LIVE | U9: DEAD | V9: WS | W9: FG | X9: ACCEPTABLE SPP (ORIG): | AB9: =IF(ISBLANK('Cover Sheet'!$J$18),"No species listed",CONCATENATE(IF(ISBLANK('Cover Sheet'!$J$18),"",'Cover Sheet'!$J$18),IF(ISBLANK('Cover Sheet'!$K$18),"",CONCATENATE(", ",'Cover Sheet'!$K$18)),IF(ISBLANK('Cover Sheet'!$L$18),"",CONCATENATE(", ",'Cover Sheet'!$L$18)),IF(ISBLANK('Cover Sheet'!$J$19),"",CONCATENATE(", ",'Cover Sheet'!$J$19)),IF(ISBLANK('Cover Sheet'!$K$19),"",CONCATENATE(", ",'Cover Sheet'!$K$19)),IF(ISBLANK('Cover Sheet'!$L$19),"",CONCATENATE(", ",'Cover Sheet'!$L$19)))) -> No species listed | AC9: =IF(ISBLANK($J$17),"No species listed",CONCATENATE(IF(ISBLANK($J$17),"",$J$17),IF(ISBLANK($K$17),"",CONCATENATE(", ",$K$17)),IF(ISBLANK($L$17),"",CONCATENATE(", ",$L$17)),IF(ISBLANK($M$17),"",CONCATENATE(", ",$M$17)),IF(ISBLANK($J$18),"",CONCATENATE(", ",$J$18)),IF(ISBLANK($K$18),"",CONCATENATE(", ",$K$18)),IF(ISBLANK($L$18),"",CONCATENATE(", ",$L$18)),IF(ISBLANK($M$18),"",CONCATENATE(", ",$M$18)))) -> No species listed | AD9: =IF(ISBLANK($J$17),"No species listed",CONCATENATE(IF(ISBLANK($J$17),"",$J$17),IF(ISBLANK($K$17),"",CONCATENATE(", ",$K$17)),IF(ISBLANK($L$17),"",CONCATENATE(", ",$L$17)),IF(ISBLANK($M$17),"",CONCATENATE(", ",$M$17)),IF(ISBLANK($J$18),"",CONCATENATE(", ",$J$18)),IF(ISBLANK($K$18),"",CONCATENATE(", ",$K$18)),IF(ISBLANK($L$18),"",CONCATENATE(", ",$L$18)),IF(ISBLANK($M$18),"",CONCATENATE(", ",$M$18)))) -> No species listed | AE9: =IF(ISBLANK($J$17),"No species listed",CONCATENATE(IF(ISBLANK($J$17),"",$J$17),IF(ISBLANK($K$17),"",CONCATENATE(", ",$K$17)),IF(ISBLANK($L$17),"",CONCATENATE(", ",$L$17)),IF(ISBLANK($M$17),"",CONCATENATE(", ",$M$17)),IF(ISBLANK($J$18),"",CONCATENATE(", ",$J$18)),IF(ISBLANK($K$18),"",CONCATENATE(", ",$K$18)),IF(ISBLANK($L$18),"",CONCATENATE(", ",$L$18)),IF(ISBLANK($M$18),"",CONCATENATE(", ",$M$18)))) -> No species listed | AF9: =IF(ISBLANK($J$17),"No species listed",CONCATENATE(IF(ISBLANK($J$17),"",$J$17),IF(ISBLANK($K$17),"",CONCATENATE(", ",$K$17)),IF(ISBLANK($L$17),"",CONCATENATE(", ",$L$17)),IF(ISBLANK($M$17),"",CONCATENATE(", ",$M$17)),IF(ISBLANK($J$18),"",CONCATENATE(", ",$J$18)),IF(ISBLANK($K$18),"",CONCATENATE(", ",$K$18)),IF(ISBLANK($L$18),"",CONCATENATE(", ",$L$18)),IF(ISBLANK($M$18),"",CONCATENATE(", ",$M$18)))) -> No species listed
C10: TOTALS> | D10: =SUM(D11:D40) -> 0 | E10: =SUM(E11:E40) -> 0 | F10: =SUM(F11:F40) -> 0 | G10: =SUM(G11:G40) -> 0 | H10: =SUM(H11:H40) -> 0 | I10: =SUM(I11:I40) -> 0 | J10: =SUM(J11:J40) -> 0 | K10: =SUM(K11:K40) -> 0 | ... W10: =SUM(W11:W40) -> 0 | X10: DATA VOLUME TREES | AC10: GROWTH INTERCEPT SAMPLE (5.64m)
C11: 1 | X11: L/D | Y11: SPP | Z11: DBH | AA11: HT | AB11: FHF
C12: 2 | X12: L | AC12: SPP
C13: 3 | X13: L | AC13: DBH
C14: 1 | X14: L | AC14: TOT HT
C15: 2 | X15: L | AC15: AGE@1.3M
C16: 3 | X16: L | AC16: SITE INDEX
C17: 1 | X17: L | AC17: NOTES
C18: 2 | X18: L
C19: 3 | X19: L
C20: 1 | X20: L
C21: 2 | X21: L
C22: 3 | X22: L
C23: 1 | X23: L
C24: 2 | X24: L
C25: 3 | X25: L
C26: 1 | X26: L
C27: 2 | X27: L
C28: 3 | X28: L
C29: 1 | X29: L
... C40: 3 | X40: L
A41: ACCESS NOTES: | V41: INVENTORY LABEL | AB41: Minor Spp. | AF41: CR CL
V42: Ldg Spp | Y42: 2 nd Spp
V43: % | W43: Age | X43: Ht(m) | Y43: % | Z43: Age | AA43: Ht(m) | AB43: % | AC43: % | AD43: % | AE43: % | AF43: %

Sheet Plot (2)
G1: STAND DEVELOPMENT MONITORING FIELD CARD | N1: SURVEYOR NAME(S) | Z1: YR | AA1: MO | AB1: DAY | AC1: PAGE | AE1: OF
N2: ='Plot (1)'!N2:Y2 -> 0 | Z2: ='Plot (1)'!Z2 -> 2014 | AA2: ='Plot (1)'!AA2 -> 0 | AB2: ='Plot (1)'!AB2 -> 0 | AC2: 2 | AE2: 10
A3: MAPSHEET - OPENING NO. | G3: POLYGON | J3: LOCATION | W3: DISTRICT | Z3: TSA | AC3: BEC
A4: =CONCATENATE('Cover Sheet'!A6," ",'Cover Sheet'!C6," ",'Cover Sheet'!E6) | G4: ='Cover Sheet'!G6 -> 0 | J4: ='Plot (1)'!J4:V4 -> 0 | W4: ='Plot (1)'!W4:Y4 -> 0 | Z4: ='Plot (1)'!Z4:AB4 -> 0 | AC4: ='Plot (1)'!AC4:AF4 -> 0
A5: POINT OF COMMENCEMENT / BEARING & DISTANCE TO THIS PLOT | W5: UTM ZONE | Y5: EASTING | AC5: NORTHING
W6: ='Plot (1)'!W6:X6 -> 0
A7: PLOT NO. (3.99m) | F7: MITD (ORIG) | H7: M-VALUE (ORIG) | J7: FOREST HEALTH DAMAGE AGENTS | V7: PREF./ACC. | X7: PREFERRED SPP (ORIG): | AB7: ='Plot (1)'!AB7:AF8 -> No species listed
F8: ='Plot (1)'!F8:G8 -> 2 | H8: ='Plot (1)'!H8:I8 -> 0
A9: TREE SPP | C9: LAYER | D9: LIVE TREES | E9: LIVE CON. | F9: DEAD TREES | G9: DEAD CON. | H9: WS | I9: FG | J9: LIVE | K9: DEAD | L9: LIVE | M9: DEAD | N9: LIVE | O9: DEAD | P9: LIVE | Q9: DEAD | R9: LIVE | S9: DEAD | T9: LIVE | U9: DEAD | V9: WS | W9: FG | X9: ACCEPTABLE SPP (ORIG): | AB9: ='Plot (1)'!AB9:AF9 -> No species listed
C10: TOTALS> | D10: =SUM(D11:D40) -> 0 | E10: =SUM(E11:E40) -> 0 | F10: =SUM(F11:F40) -> 0 | G10: =SUM(G11:G40) -> 0 | H10: =SUM(H11:H40) -> 0 | I10: =SUM(I11:I40) -> 0 | J10: =SUM(J11:J40) -> 0 | K10: =SUM(K11:K40) -> 0 | ... W10: =SUM(W11:W40) -> 0 | X10: DATA VOLUME TREES | AC10: GROWTH INTERCEPT SAMPLE (5.64m)
C11: 1 | X11: L/D | Y11: SPP | Z11: DBH | AA11: HT | AB11: FHF
C12: 2 | X12: L | AC12: SPP
C13: 3 | X13: L | AC13: DBH
C14: 1 | X14: L | AC14: TOT HT
C15: 2 | X15: L | AC15: AGE@1.3M
C16: 3 | X16: L | AC16: SITE INDEX
C17: 1 | X17: L | AC17: NOTES
C18: 2 | X18: L
C19: 3 | X19: L
C20: 1 | X20: L
C21: 2 | X21: L
C22: 3 | X22: L
C23: 1 | X23: L
C24: 2 | X24: L
C25: 3 | X25: L
C26: 1 | X26: L
C27: 2 | X27: L
C28: 3 | X28: L
C29: 1 | X29: L
... C40: 3 | X40: L
A41: ACCESS NOTES: | V41: INVENTORY LABEL | AB41: Minor Spp. | AF41: CR CL
V42: Ldg Spp | Y42: 2 nd Spp
V43: % | W43: Age | X43: Ht(m) | Y43: % | Z43: Age | AA43: Ht(m) | AB43: % | AC43: % | AD43: % | AE43: % | AF43: %

Sheet Plot (3)
G1: STAND DEVELOPMENT MONITORING FIELD CARD | N1: SURVEYOR NAME(S) | Z1: YR | AA1: MO | AB1: DAY | AC1: PAGE | AE1: OF
N2: ='Plot (1)'!N2:Y2 -> 0 | Z2: ='Plot (1)'!Z2 -> 2014 | AA2: ='Plot (1)'!AA2 -> 0 | AB2: ='Plot (1)'!AB2 -> 0 | AC2: 3 | AE2: 10
A3: MAPSHEET - OPENING NO. | G3: POLYGON | J3: LOCATION | W3: DISTRICT | Z3: TSA | AC3: BEC
A4: =CONCATENATE('Cover Sheet'!A6," ",'Cover Sheet'!C6," ",'Cover Sheet'!E6) | G4: ='Cover Sheet'!G6 -> 0 | J4: ='Plot (1)'!J4:V4 -> 0 | W4: ='Plot (1)'!W4:Y4 -> 0 | Z4: ='Plot (1)'!Z4:AB4 -> 0 | AC4: ='Plot (1)'!AC4:AF4 -> 0
A5: POINT OF COMMENCEMENT / BEARING & DISTANCE TO THIS PLOT | W5: UTM ZONE | Y5: EASTING | AC5: NORTHING
W6: ='Plot (1)'!W6:X6 -> 0
A7: PLOT NO. (3.99m) | F7: MITD (ORIG) | H7: M-VALUE (ORIG) | J7: FOREST HEALTH DAMAGE AGENTS | V7: PREF./ACC. | X7: PREFERRED SPP (ORIG): | AB7: ='Plot (1)'!AB7:AF8 -> No species listed
F8: ='Plot (1)'!F8:G8 -> 2 | H8: ='Plot (1)'!H8:I8 -> 0
A9: TREE SPP | C9: LAYER | D9: LIVE TREES | E9: LIVE CON. | F9: DEAD TREES | G9: DEAD CON. | H9: WS | I9: FG | J9: LIVE | K9: DEAD | L9: LIVE | M9: DEAD | N9: LIVE | O9: DEAD | P9: LIVE | Q9: DEAD | R9: LIVE | S9: DEAD | T9: LIVE | U9: DEAD | V9: WS | W9: FG | X9: ACCEPTABLE SPP (ORIG): | AB9: ='Plot (1)'!AB9:AF9 -> No species listed
C10: TOTALS> | D10: =SUM(D11:D40) -> 0 | E10: =SUM(E11:E40) -> 0 | F10: =SUM(F11:F40) -> 0 | G10: =SUM(G11:G40) -> 0 | H10: =SUM(H11:H40) -> 0 | I10: =SUM(I11:I40) -> 0 | J10: =SUM(J11:J40) -> 0 | K10: =SUM(K11:K40) -> 0 | ... W10: =SUM(W11:W40) -> 0 | X10: DATA VOLUME TREES | AC10: GROWTH INTERCEPT SAMPLE (5.64m)
C11: 1 | X11: L/D | Y11: SPP | Z11: DBH | AA11: HT | AB11: FHF
C12: 2 | X12: L | AC12: SPP
C13: 3 | X13: L | AC13: DBH
C14: 1 | X14: L | AC14: TOT HT
C15: 2 | X15: L | AC15: AGE@1.3M
C16: 3 | X16: L | AC16: SITE INDEX
C17: 1 | X17: L | AC17: NOTES
C18: 2 | X18: L
C19: 3 | X19: L
C20: 1 | X20: L
C21: 2 | X21: L
C22: 3 | X22: L
C23: 1 | X23: L
C24: 2 | X24: L
C25: 3 | X25: L
C26: 1 | X26: L
C27: 2 | X27: L
C28: 3 | X28: L
C29: 1 | X29: L
... C40: 3 | X40: L
A41: ACCESS NOTES: | V41: INVENTORY LABEL | AB41: Minor Spp. | AF41: CR CL
V42: Ldg Spp | Y42: 2 nd Spp
V43: % | W43: Age | X43: Ht(m) | Y43: % | Z43: Age | AA43: Ht(m) | AB43: % | AC43: % | AD43: % | AE43: % | AF43: %

Sheet Plot (4)
G1: STAND DEVELOPMENT MONITORING FIELD CARD | N1: SURVEYOR NAME(S) | Z1: YR | AA1: MO | AB1: DAY | AC1: PAGE | AE1: OF
N2: ='Plot (1)'!N2:Y2 -> 0 | Z2: ='Plot (1)'!Z2 -> 2014 | AA2: ='Plot (1)'!AA2 -> 0 | AB2: ='Plot (1)'!AB2 -> 0 | AC2: 4 | AE2: 10
A3: MAPSHEET - OPENING NO. | G3: POLYGON | J3: LOCATION | W3: DISTRICT | Z3: TSA | AC3: BEC
A4: =CONCATENATE('Cover Sheet'!A6," ",'Cover Sheet'!C6," ",'Cover Sheet'!E6) | G4: ='Cover Sheet'!G6 -> 0 | J4: ='Plot (1)'!J4:V4 -> 0 | W4: ='Plot (1)'!W4:Y4 -> 0 | Z4: ='Plot (1)'!Z4:AB4 -> 0 | AC4: ='Plot (1)'!AC4:AF4 -> 0
A5: POINT OF COMMENCEMENT / BEARING & DISTANCE TO THIS PLOT | W5: UTM ZONE | Y5: EASTING | AC5: NORTHING
W6: ='Plot (1)'!W6:X6 -> 0
A7: PLOT NO. (3.99m) | F7: MITD (ORIG) | H7: M-VALUE (ORIG) | J7: FOREST HEALTH DAMAGE AGENTS | V7: PREF./ACC. | X7: PREFERRED SPP (ORIG) | AB7: ='Plot (1)'!AB7:AF8 -> No species listed
F8: ='Plot (1)'!F8:G8 -> 2 | H8: ='Plot (1)'!H8:I8 -> 0
A9: TREE SPP | C9: LAYER | D9: LIVE TREES | E9: LIVE CON. | F9: DEAD TREES | G9: DEAD CON. | H9: WS | I9: FG | J9: LIVE | K9: DEAD | L9: LIVE | M9: DEAD | N9: LIVE | O9: DEAD | P9: LIVE | Q9: DEAD | R9: LIVE | S9: DEAD | T9: LIVE | U9: DEAD | V9: WS | W9: FG | X9: ACCEPTABLE SPP (ORIG) | AB9: ='Plot (1)'!AB9:AF9 -> No species listed
C10: TOTALS> | D10: =SUM(D11:D40) -> 0 | E10: =SUM(E11:E40) -> 0 | F10: =SUM(F11:F40) -> 0 | G10: =SUM(G11:G40) -> 0 | H10: =SUM(H11:H40) -> 0 | I10: =SUM(I11:I40) -> 0 | J10: =SUM(J11:J40) -> 0 | K10: =SUM(K11:K40) -> 0 | ... W10: =SUM(W11:W40) -> 0 | X10: DATA VOLUME TREES | AC10: GROWTH INTERCEPT SAMPLE (5.64m)
C11: 1 | X11: L/D | Y11: SPP | Z11: DBH | AA11: HT | AB11: FHF
C12: 2 | X12: L | AC12: SPP
C13: 3 | X13: L | AC13: DBH
C14: 1 | X14: L | AC14: TOT HT
C15: 2 | X15: L | AC15: AGE@1.3M
C16: 3 | X16: L | AC16: SITE INDEX
C17: 1 | X17: L | AC17: NOTES
C18: 2 | X18: L
C19: 3 | X19: L
C20: 1 | X20: L
C21: 2 | X21: L
C22: 3 | X22: L
C23: 1 | X23: L
C24: 2 | X24: L
C25: 3 | X25: L
C26: 1 | X26: L
C27: 2 | X27: L
C28: 3 | X28: L
C29: 1 | X29: L
... C40: 3 | X40: L
A41: ACCESS NOTES: | V41: INVENTORY LABEL | AB41: Minor Spp. | AF41: CR CL
V42: Ldg Spp | Y42: 2 nd Spp
V43: % | W43: Age | X43: Ht(m) | Y43: % | Z43: Age | AA43: Ht(m) | AB43: % | AC43: % | AD43: % | AE43: % | AF43: %

Sheet Plot (5)
G1: STAND DEVELOPMENT MONITORING FIELD CARD | N1: SURVEYOR NAME(S) | Z1: YR | AA1: MO | AB1: DAY | AC1: PAGE | AE1: OF
N2: ='Plot (1)'!N2:Y2 -> 0 | Z2: ='Plot (1)'!Z2 -> 2014 | AA2: ='Plot (1)'!AA2 -> 0 | AB2: ='Plot (1)'!AB2 -> 0 | AC2: 5 | AE2: 10
A3: MAPSHEET - OPENING NO. | G3: POLYGON | J3: LOCATION | W3: DISTRICT | Z3: TSA | AC3: BEC
A4: =CONCATENATE('Cover Sheet'!A6," ",'Cover Sheet'!C6," ",'Cover Sheet'!E6) | G4: ='Cover Sheet'!G6 -> 0 | J4: ='Plot (1)'!J4:V4 -> 0 | W4: ='Plot (1)'!W4:Y4 -> 0 | Z4: ='Plot (1)'!Z4:AB4 -> 0 | AC4: ='Plot (1)'!AC4:AF4 -> 0
A5: POINT OF COMMENCEMENT / BEARING & DISTANCE TO THIS PLOT | W5: UTM ZONE | Y5: EASTING | AC5: NORTHING
W6: ='Plot (1)'!W6:X6 -> 0
A7: PLOT NO. (3.99m) | F7: MITD (ORIG) | H7: M-VALUE (ORIG) | J7: FOREST HEALTH DAMAGE AGENTS | V7: PREF./ACC. | X7: PREFERRED SPP (ORIG): | AB7: ='Plot (1)'!AB7:AF8 -> No species listed
F8: ='Plot (1)'!F8:G8 -> 2 | H8: ='Plot (1)'!H8:I8 -> 0
A9: TREE SPP | C9: LAYER | D9: LIVE TREES | E9: LIVE CON. | F9: DEAD TREES | G9: DEAD CON. | H9: WS | I9: FG | J9: LIVE | K9: DEAD | L9: LIVE | M9: DEAD | N9: LIVE | O9: DEAD | P9: LIVE | Q9: DEAD | R9: LIVE | S9: DEAD | T9: LIVE | U9: DEAD | V9: WS | W9: FG | X9: ACCEPTABLE SPP (ORIG): | AB9: ='Plot (1)'!AB9:AF9 -> No species listed
C10: TOTALS> | D10: =SUM(D11:D40) -> 0 | E10: =SUM(E11:E40) -> 0 | F10: =SUM(F11:F40) -> 0 | G10: =SUM(G11:G40) -> 0 | H10: =SUM(H11:H40) -> 0 | I10: =SUM(I11:I40) -> 0 | J10: =SUM(J11:J40) -> 0 | K10: =SUM(K11:K40) -> 0 | ... W10: =SUM(W11:W40) -> 0 | X10: DATA VOLUME TREES | AC10: GROWTH INTERCEPT SAMPLE (5.64m)
C11: 1 | X11: L/D | Y11: SPP | Z11: DBH | AA11: HT | AB11: FHF
C12: 2 | X12: L | AC12: SPP
C13: 3 | X13: L | AC13: DBH
C14: 1 | X14: L | AC14: TOT HT
C15: 2 | X15: L | AC15: AGE@1.3M
C16: 3 | X16: L | AC16: SITE INDEX
C17: 1 | X17: L | AC17: NOTES
C18: 2 | X18: L
C19: 3 | X19: L
C20: 1 | X20: L
C21: 2 | X21: L
C22: 3 | X22: L
C23: 1 | X23: L
C24: 2 | X24: L
C25: 3 | X25: L
C26: 1 | X26: L
C27: 2 | X27: L
C28: 3 | X28: L
C29: 1 | X29: L
... C40: 3 | X40: L
A41: ACCESS NOTES: | V41: INVENTORY LABEL | AB41: Minor Spp. | AF41: CR CL
V42: Ldg Spp | Y42: 2 nd Spp
V43: % | W43: Age | X43: Ht(m) | Y43: % | Z43: Age | AA43: Ht(m) | AB43: % | AC43: % | AD43: % | AE43: % | AF43: %

Sheet Plot (6)
G1: STAND DEVELOPMENT MONITORING FIELD CARD | N1: SURVEYOR NAME(S) | Z1: YR | AA1: MO | AB1: DAY | AC1: PAGE | AE1: OF
N2: ='Plot (1)'!N2:Y2 -> 0 | Z2: ='Plot (1)'!Z2 -> 2014 | AA2: ='Plot (1)'!AA2 -> 0 | AB2: ='Plot (1)'!AB2 -> 0 | AC2: 6 | AE2: 10
A3: MAPSHEET - OPENING NO. | G3: POLYGON | J3: LOCATION | W3: DISTRICT | Z3: TSA | AC3: BEC
A4: =CONCATENATE('Cover Sheet'!A6," ",'Cover Sheet'!C6," ",'Cover Sheet'!E6) | G4: ='Cover Sheet'!G6 -> 0 | J4: ='Plot (1)'!J4:V4 -> 0 | W4: ='Plot (1)'!W4:Y4 -> 0 | Z4: ='Plot (1)'!Z4:AB4 -> 0 | AC4: ='Plot (1)'!AC4:AF4 -> 0
A5: POINT OF COMMENCEMENT / BEARING & DISTANCE TO THIS PLOT | W5: UTM ZONE | Y5: EASTING | AC5: NORTHING
W6: ='Plot (1)'!W6:X6 -> 0
A7: PLOT NO. (3.99m) | F7: MITD (ORIG) | H7: M-VALUE (ORIG) | J7: FOREST HEALTH DAMAGE AGENTS | V7: PREF./ACC. | X7: PREFERRED SPP (ORIG): | AB7: ='Plot (1)'!AB7:AF8 -> No species listed
F8: ='Plot (1)'!F8:G8 -> 2 | H8: ='Plot (1)'!H8:I8 -> 0
A9: TREE SPP | C9: LAYER | D9: LIVE TREES | E9: LIVE CON. | F9: DEAD TREES | G9: DEAD CON. | H9: WS | I9: FG | J9: LIVE | K9: DEAD | L9: LIVE | M9: DEAD | N9: LIVE | O9: DEAD | P9: LIVE | Q9: DEAD | R9: LIVE | S9: DEAD | T9: LIVE | U9: DEAD | V9: WS | W9: FG | X9: ACCEPTABLE SPP (ORIG): | AB9: ='Plot (1)'!AB9:AF9 -> No species listed
C10: TOTALS> | D10: =SUM(D11:D40) -> 0 | E10: =SUM(E11:E40) -> 0 | F10: =SUM(F11:F40) -> 0 | G10: =SUM(G11:G40) -> 0 | H10: =SUM(H11:H40) -> 0 | I10: =SUM(I11:I40) -> 0 | J10: =SUM(J11:J40) -> 0 | K10: =SUM(K11:K40) -> 0 | ... W10: =SUM(W11:W40) -> 0 | X10: DATA VOLUME TREES | AC10: GROWTH INTERCEPT SAMPLE (5.64m)
C11: 1 | X11: L/D | Y11: SPP | Z11: DBH | AA11: HT | AB11: FHF
C12: 2 | X12: L | AC12: SPP
C13: 3 | X13: L | AC13: DBH
C14: 1 | X14: L | AC14: TOT HT
C15: 2 | X15: L | AC15: AGE@1.3M
C16: 3 | X16: L | AC16: SITE INDEX
C17: 1 | X17: L | AC17: NOTES
C18: 2 | X18: L
C19: 3 | X19: L
C20: 1 | X20: L
C21: 2 | X21: L
C22: 3 | X22: L
C23: 1 | X23: L
C24: 2 | X24: L
C25: 3 | X25: L
C26: 1 | X26: L
C27: 2 | X27: L
C28: 3 | X28: L
C29: 1 | X29: L
... C40: 3 | X40: L
A41: ACCESS NOTES: | V41: INVENTORY LABEL | AB41: Minor Spp. | AF41: CR CL
V42: Ldg Spp | Y42: 2 nd Spp
V43: % | W43: Age | X43: Ht(m) | Y43: % | Z43: Age | AA43: Ht(m) | AB43: % | AC43: % | AD43: % | AE43: % | AF43: %

Sheet Plot (7)
G1: STAND DEVELOPMENT MONITORING FIELD CARD | N1: SURVEYOR NAME(S) | Z1: YR | AA1: MO | AB1: DAY | AC1: PAGE | AE1: OF
N2: ='Plot (1)'!N2:Y2 -> 0 | Z2: ='Plot (1)'!Z2 -> 2014 | AA2: ='Plot (1)'!AA2 -> 0 | AB2: ='Plot (1)'!AB2 -> 0 | AC2: 7 | AE2: 10
A3: MAPSHEET - OPENING NO. | G3: POLYGON | J3: LOCATION | W3: DISTRICT | Z3: TSA | AC3: BEC
A4: =CONCATENATE('Cover Sheet'!A6," ",'Cover Sheet'!C6," ",'Cover Sheet'!E6) | G4: ='Cover Sheet'!G6 -> 0 | J4: ='Plot (1)'!J4:V4 -> 0 | W4: ='Plot (1)'!W4:Y4 -> 0 | Z4: ='Plot (1)'!Z4:AB4 -> 0 | AC4: ='Plot (1)'!AC4:AF4 -> 0
A5: POINT OF COMMENCEMENT / BEARING & DISTANCE TO THIS PLOT | W5: UTM ZONE | Y5: EASTING | AC5: NORTHING
W6: ='Plot (1)'!W6:X6 -> 0
A7: PLOT NO. (3.99m) | F7: MITD (ORIG) | H7: M-VALUE (ORIG) | J7: FOREST HEALTH DAMAGE AGENTS | V7: PREF./ACC. | X7: PREFERRED SPP (ORIG): | AB7: ='Plot (1)'!AB7:AF8 -> No species listed
F8: ='Plot (1)'!F8:G8 -> 2 | H8: ='Plot (1)'!H8:I8 -> 0
A9: TREE SPP | C9: LAYER | D9: LIVE TREES | E9: LIVE CON. | F9: DEAD TREES | G9: DEAD CON. | H9: WS | I9: FG | J9: LIVE | K9: DEAD | L9: LIVE | M9: DEAD | N9: LIVE | O9: DEAD | P9: LIVE | Q9: DEAD | R9: LIVE | S9: DEAD | T9: LIVE | U9: DEAD | V9: WS | W9: FG | X9: ACCEPTABLE SPP (ORIG): | AB9: ='Plot (1)'!AB9:AF9 -> No species listed
C10: TOTALS> | D10: =SUM(D11:D40) -> 0 | E10: =SUM(E11:E40) -> 0 | F10: =SUM(F11:F40) -> 0 | G10: =SUM(G11:G40) -> 0 | H10: =SUM(H11:H40) -> 0 | I10: =SUM(I11:I40) -> 0 | J10: =SUM(J11:J40) -> 0 | K10: =SUM(K11:K40) -> 0 | ... W10: =SUM(W11:W40) -> 0 | X10: DATA VOLUME TREES | AC10: GROWTH INTERCEPT SAMPLE (5.64m)
C11: 1 | X11: L/D | Y11: SPP | Z11: DBH | AA11: HT | AB11: FHF
C12: 2 | X12: L | AC12: SPP
C13: 3 | X13: L | AC13: DBH
C14: 1 | X14: L | AC14: TOT HT
C15: 2 | X15: L | AC15: AGE@1.3M
C16: 3 | X16: L | AC16: SITE INDEX
C17: 1 | X17: L | AC17: NOTES
C18: 2 | X18: L
C19: 3 | X19: L
C20: 1 | X20: L
C21: 2 | X21: L
C22: 3 | X22: L
C23: 1 | X23: L
C24: 2 | X24: L
C25: 3 | X25: L
C26: 1 | X26: L
C27: 2 | X27: L
C28: 3 | X28: L
C29: 1 | X29: L
... C40: 3 | X40: L
A41: ACCESS NOTES: | V41: INVENTORY LABEL | AB41: Minor Spp. | AF41: CR CL
V42: Ldg Spp | Y42: 2 nd Spp
V43: % | W43: Age | X43: Ht(m) | Y43: % | Z43: Age | AA43: Ht(m) | AB43: % | AC43: % | AD43: % | AE43: % | AF43: %

Sheet Plot (8)
G1: STAND DEVELOPMENT MONITORING FIELD CARD | N1: SURVEYOR NAME(S) | Z1: YR | AA1: MO | AB1: DAY | AC1: PAGE | AE1: OF
N2: ='Plot (1)'!N2:Y2 -> 0 | Z2: ='Plot (1)'!Z2 -> 2014 | AA2: ='Plot (1)'!AA2 -> 0 | AB2: ='Plot (1)'!AB2 -> 0 | AC2: 8 | AE2: 10
A3: MAPSHEET - OPENING NO. | G3: POLYGON | J3: LOCATION | W3: DISTRICT | Z3: TSA | AC3: BEC
A4: =CONCATENATE('Cover Sheet'!A6," ",'Cover Sheet'!C6," ",'Cover Sheet'!E6) | G4: ='Cover Sheet'!G6 -> 0 | J4: ='Plot (1)'!J4:V4 -> 0 | W4: ='Plot (1)'!W4:Y4 -> 0 | Z4: ='Plot (1)'!Z4:AB4 -> 0 | AC4: ='Plot (1)'!AC4:AF4 -> 0
A5: POINT OF COMMENCEMENT / BEARING & DISTANCE TO THIS PLOT | W5: UTM ZONE | Y5: EASTING | AC5: NORTHING
W6: ='Plot (1)'!W6:X6 -> 0
A7: PLOT NO. (3.99m) | F7: MITD (ORIG) | H7: M-VALUE (ORIG) | J7: FOREST HEALTH DAMAGE AGENTS | V7: PREF./ACC. | X7: PREFERRED SPP (ORIG): | AB7: ='Plot (1)'!AB7:AF8 -> No species listed
F8: ='Plot (1)'!F8:G8 -> 2 | H8: ='Plot (1)'!H8:I8 -> 0
A9: TREE SPP | C9: LAYER | D9: LIVE TREES | E9: LIVE CON. | F9: DEAD TREES | G9: DEAD CON. | H9: WS | I9: FG | J9: LIVE | K9: DEAD | L9: LIVE | M9: DEAD | N9: LIVE | O9: DEAD | P9: LIVE | Q9: DEAD | R9: LIVE | S9: DEAD | T9: LIVE | U9: DEAD | V9: WS | W9: FG | X9: ACCEPTABLE SPP (ORIG): | AB9: ='Plot (1)'!AB9:AF9 -> No species listed
C10: TOTALS> | D10: =SUM(D11:D40) -> 0 | E10: =SUM(E11:E40) -> 0 | F10: =SUM(F11:F40) -> 0 | G10: =SUM(G11:G40) -> 0 | H10: =SUM(H11:H40) -> 0 | I10: =SUM(I11:I40) -> 0 | J10: =SUM(J11:J40) -> 0 | K10: =SUM(K11:K40) -> 0 | ... W10: =SUM(W11:W40) -> 0 | X10: DATA VOLUME TREES | AC10: GROWTH INTERCEPT SAMPLE (5.64m)
C11: 1 | X11: L/D | Y11: SPP | Z11: DBH | AA11: HT | AB11: FHF
C12: 2 | X12: L | AC12: SPP
C13: 3 | X13: L | AC13: DBH
C14: 1 | X14: L | AC14: TOT HT
C15: 2 | X15: L | AC15: AGE@1.3M
C16: 3 | X16: L | AC16: SITE INDEX
C17: 1 | X17: L | AC17: NOTES
C18: 2 | X18: L
C19: 3 | X19: L
C20: 1 | X20: L
C21: 2 | X21: L
C22: 3 | X22: L
C23: 1 | X23: L
C24: 2 | X24: L
C25: 3 | X25: L
C26: 1 | X26: L
C27: 2 | X27: L
C28: 3 | X28: L
C29: 1 | X29: L
... C40: 3 | X40: L
A41: ACCESS NOTES: | V41: INVENTORY LABEL | AB41: Minor Spp. | AF41: CR CL
V42: Ldg Spp | Y42: 2 nd Spp
V43: % | W43: Age | X43: Ht(m) | Y43: % | Z43: Age | AA43: Ht(m) | AB43: % | AC43: % | AD43: % | AE43: % | AF43: %

Sheet Plot (9)
G1: STAND DEVELOPMENT MONITORING FIELD CARD | N1: SURVEYOR NAME(S) | Z1: YR | AA1: MO | AB1: DAY | AC1: PAGE | AE1: OF
N2: ='Plot (1)'!N2:Y2 -> 0 | Z2: ='Plot (1)'!Z2 -> 2014 | AA2: ='Plot (1)'!AA2 -> 0 | AB2: ='Plot (1)'!AB2 -> 0 | AC2: 9 | AE2: 10
A3: MAPSHEET - OPENING NO. | G3: POLYGON | J3: LOCATION | W3: DISTRICT | Z3: TSA | AC3: BEC
A4: =CONCATENATE('Cover Sheet'!A6," ",'Cover Sheet'!C6," ",'Cover Sheet'!E6) | G4: ='Cover Sheet'!G6 -> 0 | J4: ='Plot (1)'!J4:V4 -> 0 | W4: ='Plot (1)'!W4:Y4 -> 0 | Z4: ='Plot (1)'!Z4:AB4 -> 0 | AC4: ='Plot (1)'!AC4:AF4 -> 0
A5: POINT OF COMMENCEMENT / BEARING & DISTANCE TO THIS PLOT | W5: UTM ZONE | Y5: EASTING | AC5: NORTHING
W6: ='Plot (1)'!W6:X6 -> 0
A7: PLOT NO. (3.99m) | F7: MITD (ORIG) | H7: M-VALUE (ORIG) | J7: FOREST HEALTH DAMAGE AGENTS | V7: PREF./ACC. | X7: PREFERRED SPP (ORIG): | AB7: ='Plot (1)'!AB7:AF8 -> No species listed
F8: ='Plot (1)'!F8:G8 -> 2 | H8: ='Plot (1)'!H8:I8 -> 0
A9: TREE SPP | C9: LAYER | D9: LIVE TREES | E9: LIVE CON. | F9: DEAD TREES | G9: DEAD CON. | H9: WS | I9: FG | J9: LIVE | K9: DEAD | L9: LIVE | M9: DEAD | N9: LIVE | O9: DEAD | P9: LIVE | Q9: DEAD | R9: LIVE | S9: DEAD | T9: LIVE | U9: DEAD | V9: WS | W9: FG | X9: ACCEPTABLE SPP (ORIG): | AB9: ='Plot (1)'!AB9:AF9 -> No species listed
C10: TOTALS> | D10: =SUM(D11:D40) -> 0 | E10: =SUM(E11:E40) -> 0 | F10: =SUM(F11:F40) -> 0 | G10: =SUM(G11:G40) -> 0 | H10: =SUM(H11:H40) -> 0 | I10: =SUM(I11:I40) -> 0 | J10: =SUM(J11:J40) -> 0 | K10: =SUM(K11:K40) -> 0 | ... W10: =SUM(W11:W40) -> 0 | X10: DATA VOLUME TREES | AC10: GROWTH INTERCEPT SAMPLE (5.64m)
C11: 1 | X11: L/D | Y11: SPP | Z11: DBH | AA11: HT | AB11: FHF
C12: 2 | X12: L | AC12: SPP
C13: 3 | X13: L | AC13: DBH
C14: 1 | X14: L | AC14: TOT HT
C15: 2 | X15: L | AC15: AGE@1.3M
C16: 3 | X16: L | AC16: SITE INDEX
C17: 1 | X17: L | AC17: NOTES
C18: 2 | X18: L
C19: 3 | X19: L
C20: 1 | X20: L
C21: 2 | X21: L
C22: 3 | X22: L
C23: 1 | X23: L
C24: 2 | X24: L
C25: 3 | X25: L
C26: 1 | X26: L
C27: 2 | X27: L
C28: 3 | X28: L
C29: 1 | X29: L
... C40: 3 | X40: L
A41: ACCESS NOTES: | V41: INVENTORY LABEL | AB41: Minor Spp. | AF41: CR CL
V42: Ldg Spp | Y42: 2 nd Spp
V43: % | W43: Age | X43: Ht(m) | Y43: % | Z43: Age | AA43: Ht(m) | AB43: % | AC43: % | AD43: % | AE43: % | AF43: %

Sheet Plot (10)
G1: STAND DEVELOPMENT MONITORING FIELD CARD | N1: SURVEYOR NAME(S) | Z1: YR | AA1: MO | AB1: DAY | AC1: PAGE | AE1: OF
N2: ='Plot (1)'!N2:Y2 -> 0 | Z2: ='Plot (1)'!Z2 -> 2014 | AA2: ='Plot (1)'!AA2 -> 0 | AB2: ='Plot (1)'!AB2 -> 0 | AC2: 10 | AE2: 10
A3: MAPSHEET - OPENING NO. | G3: POLYGON | J3: LOCATION | W3: DISTRICT | Z3: TSA | AC3: BEC
A4: =CONCATENATE('Cover Sheet'!A6," ",'Cover Sheet'!C6," ",'Cover Sheet'!E6) | G4: ='Cover Sheet'!G6 -> 0 | J4: ='Plot (1)'!J4:V4 -> 0 | W4: ='Plot (1)'!W4:Y4 -> 0 | Z4: ='Plot (1)'!Z4:AB4 -> 0 | AC4: ='Plot (1)'!AC4:AF4 -> 0
A5: POINT OF COMMENCEMENT / BEARING & DISTANCE TO THIS PLOT | W5: UTM ZONE | Y5: EASTING | AC5: NORTHING
W6: ='Plot (1)'!W6:X6 -> 0
A7: PLOT NO. (3.99m) | F7: MITD (ORIG) | H7: M-VALUE (ORIG) | J7: FOREST HEALTH DAMAGE AGENTS | V7: PREF./ACC. | X7: PREFERRED SPP (ORIG): | AB7: ='Plot (1)'!AB7:AF8 -> No species listed
F8: ='Plot (1)'!F8:G8 -> 2 | H8: ='Plot (1)'!H8:I8 -> 0
A9: TREE SPP | C9: LAYER | D9: TOTAL TREES | E9: TOTAL CON. | F9: DEAD TREES | G9: DEAD CON. | H9: WS | I9: FG | J9: LIVE | K9: DEAD | L9: LIVE | M9: DEAD | N9: LIVE | O9: DEAD | P9: LIVE | Q9: DEAD | R9: LIVE | S9: DEAD | T9: LIVE | U9: DEAD | V9: WS | W9: FG | X9: ACCEPTABLE SPP (ORIG): | AB9: ='Plot (1)'!AB9:AF9 -> No species listed
C10: TOTALS> | D10: =SUM(D11:D40) -> 0 | E10: =SUM(E11:E40) -> 0 | F10: =SUM(F11:F40) -> 0 | G10: =SUM(G11:G40) -> 0 | H10: =SUM(H11:H40) -> 0 | I10: =SUM(I11:I40) -> 0 | J10: =SUM(J11:J40) -> 0 | K10: =SUM(K11:K40) -> 0 | ... W10: =SUM(W11:W40) -> 0 | X10: DATA VOLUME TREES | AC10: GROWTH INTERCEPT SAMPLE (5.64m)
C11: 1 | X11: L/D | Y11: SPP | Z11: DBH | AA11: HT | AB11: FHF
C12: 2 | X12: L | AC12: SPP
C13: 3 | X13: L | AC13: DBH
C14: 1 | X14: L | AC14: TOT HT
C15: 2 | X15: L | AC15: AGE@1.3M
C16: 3 | X16: L | AC16: SITE INDEX
C17: 1 | X17: L | AC17: NOTES
C18: 2 | X18: L
C19: 3 | X19: L
C20: 1 | X20: L
C21: 2 | X21: L
C22: 3 | X22: L
C23: 1 | X23: L
C24: 2 | X24: L | AH24: Once you are finished entering all the plot data, select the "Data" tab on the Toolbar and select "Refresh All" to update the calculated fields.
C25: 3 | X25: L
C26: 1 | X26: L
C27: 2 | X27: L
C28: 3 | X28: L
C29: 1 | X29: L
C30: 2 | X30: L
C31: 3 | X31: L
C32: 1 | X32: L
C33: 2 | X33: L
C34: 3 | X34: L
C35: 1 | X35: L
C36: 2 | X36: L
... C40: 3 | X40: L
A41: ACCESS NOTES: | V41: INVENTORY LABEL | AB41: Minor Spp. | AF41: CR CL
V42: Ldg Spp | Y42: 2 nd Spp
V43: % | W43: Age | X43: Ht(m) | Y43: % | Z43: Age | AA43: Ht(m) | AB43: % | AC43: % | AD43: % | AE43: % | AF43: %

Sheet SDM Polygon Summary
A1: TSA | B1: District | C1: Mapsheet | D1: Polygon | E1: Opening ID | F1: Forest Cover ID | G1: Polygon Area (ha) | H1: Disturbance Year | I1: Year Dec FG | J1: BEC | K1: Total Trees @ Dec (sph) | L1: Total Trees @ SDM (sph) | M1: Total Conifers @ SDM (sph) | N1: Total Trees @ SDM (sph) Layer 1 | O1: Total Trees @ SDM (sph) Layer 2 | P1: Total Trees @ SDM (sph) Layer 3 | Q1: WS @ Dec (sph) | R1: WS @ SDM (sph) | S1: WS (M) @ SDM (sph) | T1: FG @ Dec (sph) | U1: FG @ SDM (sph) | V1: FG (M) @ SDM (sph) | W1: WS LCL @ SDM (sph) CI 0.90 | X1: WS (M) LCL @ SDM (sph) CI 0.90 | Y1: FG LCL @ SDM (sph) CI 0.90 | Z1: FG (M) LCL @ SDM (sph) CI 0.90 | AA1: Inv Label Leading Spp @ Dec | AB1: % Spp 1 @ Dec | AC1: Inv Label Second Spp @ Dec | AD1: % Spp 2 @ Dec | AE1: Inv Label Third Spp @ Dec | AF1: % Spp 3 @ Dec | AG1: Inv Label Leading Spp @ SDM | AH1: % Spp 1 @ SDM | AI1: Inv Label Second Spp @ SDM | AJ1: % Spp 2 @ SDM | AK1: Inv Label Third Spp @ SDM | AL1: % Spp 3 @ SDM | AM1: Total Stand BA (m2/ha) | AN1: Healthy Tree BA (m2/ha) | AO1: FHF-affected BA (m2/ha) | AP1: Rust-affected BA (m2/ha) | AQ1: Root disease-affected BA (m2/ha) | AR1: IBM-affected BA (m2/ha) | AS1: Live Damaged Trees @ SDM (sph) | AT1: Dead Trees @ SDM (sph) | AU1: Dead Conifers @ SDM (sph) | AV1: Forest Health Factor 1 | AW1: % Total Trees Affected | AX1: Forest Health Factor 2 | AY1: % Total Trees Affected | AZ1: Forest Health Factor 3 | BA1: % Total Trees Affected | BB1: Forest Health Factor 4 | BC1: % Total Trees Affected | BD1: Forest Health Factor 5 | BE1: % Total Trees Affected | BF1: Forest Health Factor 6 | BG1: % Total Trees Affected | BH1: Forest Health Factor 7 | BI1: % Total Trees Affected | BJ1: Forest Health Factor 8 | BK1: % Total Trees Affected | BL1: Forest Health Factor 9 | BM1: % Total Trees Affected | BN1: Forest Health Factor 10 | BO1: % Total Trees Affected | BP1: SI @ Dec (m) | BQ1: SI @ SDM (m)
A2: ='Cover Sheet'!K3 -> 0 | B2: ='Cover Sheet'!K4 -> 0 | C2: =CONCATENATE('Cover Sheet'!A6," ",'Cover Sheet'!C6," ",'Cover Sheet'!E6) | D2: ='Cover Sheet'!G6 -> 0 | E2: ='Cover Sheet'!C7 -> 0 | F2: ='Cover Sheet'!C8 -> 0 | G2: ='Cover Sheet'!H7 -> 0 | H2: ='Cover Sheet'!H8 -> 0 | I2: ='Cover Sheet'!L8 -> 0 | J2: ='Cover Sheet'!K7 -> 0 | K2: ='Cover Sheet'!E15 -> 0 | L2: ='Density & Site Index'!G19 -> 0 | M2: ='Density & Site Index'!G20 -> 0 | N2: ='Density & Site Index'!C41 -> 0 | O2: ='Density & Site Index'!D41 -> 0 | P2: ='Density & Site Index'!E41 -> 0 | Q2: ='Cover Sheet'!E18 -> 0 | R2: ='LCL Calculator'!E17 -> 0 | S2: ='LCL Calculator'!F17 -> 0 | T2: ='Cover Sheet'!E19 -> 0 | U2: ='LCL Calculator'!G17 -> 0 | V2: ='LCL Calculator'!H17 -> 0 | W2: ='LCL Calculator'!P30 -> 0 | X2: ='LCL Calculator'!P16 -> 0 | Y2: ='LCL Calculator'!AA30 -> 0 | Z2: ='LCL Calculator'!AA16 -> 0 | AA2: ='Cover Sheet'!B27 -> 0 | AB2: ='Cover Sheet'!A29 -> 0 | AC2: ='Cover Sheet'!E27 -> 0 | AD2: ='Cover Sheet'!D29 -> 0 | AE2: ='Cover Sheet'!G27 -> 0 | AF2: ='Cover Sheet'!G29 -> 0 | AG2: ='Inventory Label'!C19 | AH2: =('Inventory Label'!D19)*10 -> #N/A | AI2: ='Inventory Label'!E19 | AJ2: =('Inventory Label'!F19)*10 -> #N/A | AK2: ='Inventory Label'!G19 | AL2: =('Inventory Label'!H19)*10 -> #N/A | AM2: ='BA and Volume Calculator'!Q29 -> 0 | AN2: ='BA and Volume Calculator'!Q31 -> 0 | AO2: ='BA and Volume Calculator'!Q33 -> 0 | AP2: ='BA and Volume Calculator'!Q35 -> 0 | AQ2: ='BA and Volume Calculator'!Q37 -> 0 | AR2: ='BA and Volume Calculator'!Q39 -> 0 | AS2: =('Forest Health Agents'!C116*200)/10 -> 0 | AT2: ='Density & Site Index'!G23 -> 0 | AU2: ='Density & Site Index'!G24 -> 0 | AV2: =IF('Forest Health Agents'!BF10>0, 'Forest Health Agents'!AX10, "N/A") -> N/A | AW2: =((('Forest Health Agents'!BF10/10)*200)/$L$2) -> #DIV/0! | AX2: =IF('Forest Health Agents'!BF11>0, 'Forest Health Agents'!AX11, "N/A") -> N/A | AY2: =((('Forest Health Agents'!BF11/10)*200)/$L$2) -> #DIV/0! | AZ2: =IF('Forest Health Agents'!BF12>0, 'Forest Health Agents'!AX12, "N/A") -> N/A | BA2: =((('Forest Health Agents'!BF12/10)*200)/$L$2) -> #DIV/0! | BB2: =IF('Forest Health Agents'!BF13>0, 'Forest Health Agents'!AX13, "N/A") -> N/A | BC2: =((('Forest Health Agents'!BF13/10)*200)/$L$2) -> #DIV/0! | BD2: =IF('Forest Health Agents'!BF14>0, 'Forest Health Agents'!AX14, "N/A") -> N/A | BE2: =((('Forest Health Agents'!BF14/10)*200)/$L$2) -> #DIV/0! | BF2: =IF('Forest Health Agents'!BF15>0, 'Forest Health Agents'!AX15, "N/A") -> N/A | BG2: =((('Forest Health Agents'!BF15/10)*200)/$L$2) -> #DIV/0! | BH2: =IF('Forest Health Agents'!BF16>0, 'Forest Health Agents'!AX16, "N/A") -> N/A | BI2: =((('Forest Health Agents'!BF16/10)*200)/$L$2) -> #DIV/0! | BJ2: =IF('Forest Health Agents'!BF17>0, 'Forest Health Agents'!AX17, "N/A") -> N/A | BK2: =((('Forest Health Agents'!BF17/10)*200)/$L$2) -> #DIV/0! | BL2: =IF('Forest Health Agents'!BF18>0, 'Forest Health Agents'!AX18, "N/A") -> N/A | BM2: =((('Forest Health Agents'!BF18/10)*200)/$L$2) -> #DIV/0! | BN2: =IF('Forest Health Agents'!BF19>0, 'Forest Health Agents'!AX19, "N/A") -> N/A | BO2: =((('Forest Health Agents'!BF19/10)*200)/$L$2) -> #DIV/0! | BP2: ='Cover Sheet'!L28 -> 0 | BQ2: =GETPIVOTDATA("Average",'Density & Site Index'!L21) -> #DIV/0!

Sheet Forest Health Agents
A1: PLOT | B1: TREE SPP | C1: LIVE LAYER 1 | D1: DEAD LAYER 1 | E1: LIVE LAYER 2 | F1: DEAD LAYER 2 | G1: LIVE LAYER 3 | H1: DEAD LAYER 3 | I1: LIVE LAYER 1 | J1: DEAD LAYER 1 | K1: LIVE LAYER 2 | L1: DEAD LAYER 2 | M1: LIVE LAYER 3 | N1: DEAD LAYER 3 | O1: LIVE LAYER 1 | P1: DEAD LAYER 1 | Q1: LIVE LAYER 2 | R1: DEAD LAYER 2 | S1: LIVE LAYER 3 | T1: DEAD LAYER 3 | U1: LIVE LAYER 1 | V1: DEAD LAYER 1 | W1: LIVE LAYER 2 | X1: DEAD LAYER 2 | Y1: LIVE LAYER 3 | Z1: DEAD LAYER 3 | AA1: LIVE LAYER 1 | AB1: DEAD LAYER 1 | AC1: LIVE LAYER 2 | AD1: DEAD LAYER 2 | AE1: LIVE LAYER 3 | AF1: DEAD LAYER 3 | AG1: LIVE LAYER 1 | AH1: DEAD LAYER 1 | AI1: LIVE LAYER 2 | AJ1: DEAD LAYER 2 | AK1: LIVE LAYER 3 | AL1: DEAD LAYER 3 | AN1: PLOT | AO1: FOREST HEALTH DAMAGE AGENTS | AP1: LIVE LAYER 1 | AQ1: DEAD LAYER 1 | AR1: LIVE LAYER 2 | AS1: DEAD LAYER 2 | AT1: LIVE LAYER 3 | AU1: DEAD LAYER 3 | AV1: Total Trees
A2: 1 | B2: FOREST HEALTH DAMAGE AGENTS | C2: =IF(CELL("type",('Plot (1)'!$J$8))="b","N/A",'Plot (1)'!$J$8) -> N/A | I2: =IF(CELL("type",('Plot (1)'!$L$8))="b","N/A",'Plot (1)'!$L$8) -> N/A | O2: =IF(CELL("type",('Plot (1)'!$N$8))="b","N/A",'Plot (1)'!$N$8) -> N/A | U2: =IF(CELL("type",('Plot (1)'!$P$8))="b","N/A",'Plot (1)'!$P$8) -> N/A | AA2: =IF(CELL("type",('Plot (1)'!$R$8))="b","N/A",'Plot (1)'!$R$8) -> N/A | AG2: =IF(CELL("type",('Plot (1)'!$T$8))="b","N/A",'Plot (1)'!$T$8) -> N/A | AN2: 1 | AO2: =+C2 -> N/A | AP2: =+SUM(C3:C12) -> 0 | AQ2: =+SUM(D3:D12) -> 0 | AR2: =+SUM(E3:E12) -> 0 | AS2: =+SUM(F3:F12) -> 0 | AT2: =+SUM(G3:G12) -> 0 | AU2: =+SUM(H3:H12) -> 0 | AV2: =SUM(AP2:AU2) -> 0 | BA2: Quick Plot Forest Health Agent Summary
A3: 1 | B3: =+'Plot (1)'!A$11 -> 0 | C3: ='Plot (1)'!J11 -> 0 | D3: ='Plot (1)'!K11 -> 0 | E3: ='Plot (1)'!J12 -> 0 | F3: ='Plot (1)'!K12 -> 0 | G3: ='Plot (1)'!J13 -> 0 | H3: ='Plot (1)'!K13 -> 0 | I3: ='Plot (1)'!L11 -> 0 | J3: ='Plot (1)'!M11 -> 0 | K3: ='Plot (1)'!L12 -> 0 | L3: ='Plot (1)'!M12 -> 0 | M3: ='Plot (1)'!L13 -> 0 | N3: ='Plot (1)'!M13 -> 0 | O3: ='Plot (1)'!N11 -> 0 | P3: ='Plot (1)'!O11 -> 0 | Q3: ='Plot (1)'!N12 -> 0 | R3: ='Plot (1)'!O12 -> 0 | S3: ='Plot (1)'!N13 -> 0 | T3: ='Plot (1)'!O13 -> 0 | U3: ='Plot (1)'!P11 -> 0 | V3: ='Plot (1)'!Q11 -> 0 | W3: ='Plot (1)'!P12 -> 0 | X3: ='Plot (1)'!Q12 -> 0 | Y3: ='Plot (1)'!P13 -> 0 | Z3: ='Plot (1)'!Q13 -> 0 | AA3: ='Plot (1)'!R11 -> 0 | AB3: ='Plot (1)'!S11 -> 0 | AC3: ='Plot (1)'!R12 -> 0 | AD3: ='Plot (1)'!S12 -> 0 | AE3: ='Plot (1)'!R13 -> 0 | AF3: ='Plot (1)'!S13 -> 0 | AG3: ='Plot (1)'!T11 -> 0 | AH3: ='Plot (1)'!U11 -> 0 | AI3: ='Plot (1)'!T12 -> 0 | AJ3: ='Plot (1)'!U12 -> 0 | AK3: ='Plot (1)'!T13 -> 0 | AL3: ='Plot (1)'!U13 -> 0 | AN3: 1 | AO3: =+I2 -> N/A | AP3: =+SUM(I3:I12) -> 0 | AQ3: =+SUM(J3:J12) -> 0 | AR3: =+SUM(K3:K12) -> 0 | AS3: =+SUM(L3:L12) -> 0 | AT3: =+SUM(M3:M12) -> 0 | AU3: =+SUM(N3:N12) -> 0 | AV3: =SUM(AP3:AU3) -> 0 | AY3: Mapsheet | AZ3: Polygon
A4: 1 | B4: =+'Plot (1)'!A$14 -> 0 | C4: ='Plot (1)'!J14 -> 0 | D4: ='Plot (1)'!K14 -> 0 | E4: ='Plot (1)'!J15 -> 0 | F4: ='Plot (1)'!K15 -> 0 | G4: ='Plot (1)'!J16 -> 0 | H4: ='Plot (1)'!K16 -> 0 | I4: ='Plot (1)'!L14 -> 0 | J4: ='Plot (1)'!M14 -> 0 | K4: ='Plot (1)'!L15 -> 0 | L4: ='Plot (1)'!M15 -> 0 | M4: ='Plot (1)'!L16 -> 0 | N4: ='Plot (1)'!M16 -> 0 | O4: ='Plot (1)'!N14 -> 0 | P4: ='Plot (1)'!O14 -> 0 | Q4: ='Plot (1)'!N15 -> 0 | R4: ='Plot (1)'!O15 -> 0 | S4: ='Plot (1)'!N16 -> 0 | T4: ='Plot (1)'!O16 -> 0 | U4: ='Plot (1)'!P14 -> 0 | V4: ='Plot (1)'!Q14 -> 0 | W4: ='Plot (1)'!P15 -> 0 | X4: ='Plot (1)'!Q15 -> 0 | Y4: ='Plot (1)'!P16 -> 0 | Z4: ='Plot (1)'!Q16 -> 0 | AA4: ='Plot (1)'!R14 -> 0 | AB4: ='Plot (1)'!S14 -> 0 | AC4: ='Plot (1)'!R15 -> 0 | AD4: ='Plot (1)'!S15 -> 0 | AE4: ='Plot (1)'!R16 -> 0 | AF4: ='Plot (1)'!S16 -> 0 | AG4: ='Plot (1)'!T14 -> 0 | AH4: ='Plot (1)'!U14 -> 0 | AI4: ='Plot (1)'!T15 -> 0 | AJ4: ='Plot (1)'!U15 -> 0 | AK4: ='Plot (1)'!T16 -> 0 | AL4: ='Plot (1)'!U16 -> 0 | AN4: 1 | AO4: =+O2 -> N/A | AP4: =+SUM(O3:O12) -> 0 | AQ4: =+SUM(P3:P12) -> 0 | AR4: =+SUM(Q3:Q12) -> 0 | AS4: =+SUM(R3:R12) -> 0 | AT4: =+SUM(S3:S12) -> 0 | AU4: =+SUM(T3:T12) -> 0 | AV4: =SUM(AP4:AU4) -> 0 | AY4: ='Plot (1)'!$A$4 | AZ4: ='Plot (1)'!$G$4 -> 0
A5: 1 | B5: =+'Plot (1)'!A$17 -> 0 | C5: ='Plot (1)'!J17 -> 0 | D5: ='Plot (1)'!K17 -> 0 | E5: ='Plot (1)'!J18 -> 0 | F5: ='Plot (1)'!K18 -> 0 | G5: ='Plot (1)'!J19 -> 0 | H5: ='Plot (1)'!K19 -> 0 | I5: ='Plot (1)'!L17 -> 0 | J5: ='Plot (1)'!M17 -> 0 | K5: ='Plot (1)'!L18 -> 0 | L5: ='Plot (1)'!M18 -> 0 | M5: ='Plot (1)'!L19 -> 0 | N5: ='Plot (1)'!M19 -> 0 | O5: ='Plot (1)'!N17 -> 0 | P5: ='Plot (1)'!O17 -> 0 | Q5: ='Plot (1)'!N18 -> 0 | R5: ='Plot (1)'!O18 -> 0 | S5: ='Plot (1)'!N19 -> 0 | T5: ='Plot (1)'!O19 -> 0 | U5: ='Plot (1)'!P17 -> 0 | V5: ='Plot (1)'!Q17 -> 0 | W5: ='Plot (1)'!P18 -> 0 | X5: ='Plot (1)'!Q18 -> 0 | Y5: ='Plot (1)'!P19 -> 0 | Z5: ='Plot (1)'!Q19 -> 0 | AA5: ='Plot (1)'!R17 -> 0 | AB5: ='Plot (1)'!S17 -> 0 | AC5: ='Plot (1)'!R18 -> 0 | AD5: ='Plot (1)'!S18 -> 0 | AE5: ='Plot (1)'!R19 -> 0 | AF5: ='Plot (1)'!S19 -> 0 | AG5: ='Plot (1)'!T17 -> 0 | AH5: ='Plot (1)'!U17 -> 0 | AI5: ='Plot (1)'!T18 -> 0 | AJ5: ='Plot (1)'!U18 -> 0 | AK5: ='Plot (1)'!T19 -> 0 | AL5: ='Plot (1)'!U19 -> 0 | AN5: 1 | AO5: =+U2 -> N/A | AP5: =+SUM(U3:U12) -> 0 | AQ5: =+SUM(V3:V12) -> 0 | AR5: =+SUM(W3:W12) -> 0 | AS5: =+SUM(X3:X12) -> 0 | AT5: =+SUM(Y3:Y12) -> 0 | AU5: =+SUM(Z3:Z12) -> 0 | AV5: =SUM(AP5:AU5) -> 0 | AX5: The FH Agent Summary tab does not require any input. It DOES require the user to "REFRESH" the sheet after new data entry (Data Menu > Refresh All)
A6: 1 | B6: =+'Plot (1)'!A$20 -> 0 | C6: ='Plot (1)'!J20 -> 0 | D6: ='Plot (1)'!K20 -> 0 | E6: ='Plot (1)'!J21 -> 0 | F6: ='Plot (1)'!K21 -> 0 | G6: ='Plot (1)'!J22 -> 0 | H6: ='Plot (1)'!K22 -> 0 | I6: ='Plot (1)'!L20 -> 0 | J6: ='Plot (1)'!M20 -> 0 | K6: ='Plot (1)'!L21 -> 0 | L6: ='Plot (1)'!M21 -> 0 | M6: ='Plot (1)'!L22 -> 0 | N6: ='Plot (1)'!M22 -> 0 | O6: ='Plot (1)'!N20 -> 0 | P6: ='Plot (1)'!O20 -> 0 | Q6: ='Plot (1)'!N21 -> 0 | R6: ='Plot (1)'!O21 -> 0 | S6: ='Plot (1)'!N22 -> 0 | T6: ='Plot (1)'!O22 -> 0 | U6: ='Plot (1)'!P20 -> 0 | V6: ='Plot (1)'!Q20 -> 0 | W6: ='Plot (1)'!P21 -> 0 | X6: ='Plot (1)'!Q21 -> 0 | Y6: ='Plot (1)'!P22 -> 0 | Z6: ='Plot (1)'!Q22 -> 0 | AA6: ='Plot (1)'!R20 -> 0 | AB6: ='Plot (1)'!S20 -> 0 | AC6: ='Plot (1)'!R21 -> 0 | AD6: ='Plot (1)'!S21 -> 0 | AE6: ='Plot (1)'!R22 -> 0 | AF6: ='Plot (1)'!S22 -> 0 | AG6: ='Plot (1)'!T20 -> 0 | AH6: ='Plot (1)'!U20 -> 0 | AI6: ='Plot (1)'!T21 -> 0 | AJ6: ='Plot (1)'!U21 -> 0 | AK6: ='Plot (1)'!T22 -> 0 | AL6: ='Plot (1)'!U22 -> 0 | AN6: 1 | AO6: =+AA2 -> N/A | AP6: =+SUM(AA3:AA12) -> 0 | AQ6: =+SUM(AB3:AB12) -> 0 | AR6: =+SUM(AC3:AC12) -> 0 | AS6: =+SUM(AD3:AD12) -> 0 | AT6: =+SUM(AE3:AE12) -> 0 | AU6: =+SUM(AF3:AF12) -> 0 | AV6: =SUM(AP6:AU6) -> 0
A7: 1 | B7: =+'Plot (1)'!A$23 -> 0 | C7: ='Plot (1)'!J23 -> 0 | D7: ='Plot (1)'!K23 -> 0 | E7: ='Plot (1)'!J24 -> 0 | F7: ='Plot (1)'!K24 -> 0 | G7: ='Plot (1)'!J25 -> 0 | H7: ='Plot (1)'!K25 -> 0 | I7: ='Plot (1)'!L23 -> 0 | J7: ='Plot (1)'!M23 -> 0 | K7: ='Plot (1)'!L24 -> 0 | L7: ='Plot (1)'!M24 -> 0 | M7: ='Plot (1)'!L25 -> 0 | N7: ='Plot (1)'!M25 -> 0 | O7: ='Plot (1)'!N23 -> 0 | P7: ='Plot (1)'!O23 -> 0 | Q7: ='Plot (1)'!N24 -> 0 | R7: ='Plot (1)'!O24 -> 0 | S7: ='Plot (1)'!N25 -> 0 | T7: ='Plot (1)'!O25 -> 0 | U7: ='Plot (1)'!P23 -> 0 | V7: ='Plot (1)'!Q23 -> 0 | W7: ='Plot (1)'!P24 -> 0 | X7: ='Plot (1)'!Q24 -> 0 | Y7: ='Plot (1)'!P25 -> 0 | Z7: ='Plot (1)'!Q25 -> 0 | AA7: ='Plot (1)'!R23 -> 0 | AB7: ='Plot (1)'!S23 -> 0 | AC7: ='Plot (1)'!R24 -> 0 | AD7: ='Plot (1)'!S24 -> 0 | AE7: ='Plot (1)'!R25 -> 0 | AF7: ='Plot (1)'!S25 -> 0 | AG7: ='Plot (1)'!T23 -> 0 | AH7: ='Plot (1)'!U23 -> 0 | AI7: ='Plot (1)'!T24 -> 0 | AJ7: ='Plot (1)'!U24 -> 0 | AK7: ='Plot (1)'!T25 -> 0 | AL7: ='Plot (1)'!U25 -> 0 | AN7: 1 | AO7: =+AG2 -> N/A | AP7: =+SUM(AG3:AG12) -> 0 | AQ7: =+SUM(AH3:AH12) -> 0 | AR7: =+SUM(AI3:AI12) -> 0 | AS7: =+SUM(AJ3:AJ12) -> 0 | AT7: =+SUM(AK3:AK12) -> 0 | AU7: =+SUM(AL3:AL12) -> 0 | AV7: =SUM(AP7:AU7) -> 0
A8: 1 | B8: =+'Plot (1)'!A$26 -> 0 | C8: ='Plot (1)'!J26 -> 0 | D8: ='Plot (1)'!K26 -> 0 | E8: ='Plot (1)'!J27 -> 0 | F8: ='Plot (1)'!K27 -> 0 | G8: ='Plot (1)'!J28 -> 0 | H8: ='Plot (1)'!K28 -> 0 | I8: ='Plot (1)'!L26 -> 0 | J8: ='Plot (1)'!M26 -> 0 | K8: ='Plot (1)'!L27 -> 0 | L8: ='Plot (1)'!M27 -> 0 | M8: ='Plot (1)'!L28 -> 0 | N8: ='Plot (1)'!M28 -> 0 | O8: ='Plot (1)'!N26 -> 0 | P8: ='Plot (1)'!O26 -> 0 | Q8: ='Plot (1)'!N27 -> 0 | R8: ='Plot (1)'!O27 -> 0 | S8: ='Plot (1)'!N28 -> 0 | T8: ='Plot (1)'!O28 -> 0 | U8: ='Plot (1)'!P26 -> 0 | V8: ='Plot (1)'!Q26 -> 0 | W8: ='Plot (1)'!P27 -> 0 | X8: ='Plot (1)'!Q27 -> 0 | Y8: ='Plot (1)'!P28 -> 0 | Z8: ='Plot (1)'!Q28 -> 0 | AA8: ='Plot (1)'!R26 -> 0 | AB8: ='Plot (1)'!S26 -> 0 | AC8: ='Plot (1)'!R27 -> 0 | AD8: ='Plot (1)'!S27 -> 0 | AE8: ='Plot (1)'!R28 -> 0 | AF8: ='Plot (1)'!S28 -> 0 | AG8: ='Plot (1)'!T26 -> 0 | AH8: ='Plot (1)'!U26 -> 0 | AI8: ='Plot (1)'!T27 -> 0 | AJ8: ='Plot (1)'!U27 -> 0 | AK8: ='Plot (1)'!T28 -> 0 | AL8: ='Plot (1)'!U28 -> 0 | AN8: 2 | AO8: =+C13 -> N/A | AP8: =+SUM(C14:C23) -> 0 | AQ8: =+SUM(D14:D23) -> 0 | AR8: =+SUM(E14:E23) -> 0 | AS8: =+SUM(F14:F23) -> 0 | AT8: =+SUM(G14:G23) -> 0 | AU8: =+SUM(H14:H23) -> 0 | AV8: =SUM(AP8:AU8) -> 0 | AY8: Values | BF8: ROW | BG8: <-- NEEDED for auto-filling in SDM Summary
A9: 1 | B9: =+'Plot (1)'!A$29 -> 0 | C9: ='Plot (1)'!J29 -> 0 | D9: ='Plot (1)'!K29 -> 0 | E9: ='Plot (1)'!J30 -> 0 | F9: ='Plot (1)'!K30 -> 0 | G9: ='Plot (1)'!J31 -> 0 | H9: ='Plot (1)'!K31 -> 0 | I9: ='Plot (1)'!L29 -> 0 | J9: ='Plot (1)'!M29 -> 0 | K9: ='Plot (1)'!L30 -> 0 | L9: ='Plot (1)'!M30 -> 0 | M9: ='Plot (1)'!L31 -> 0 | N9: ='Plot (1)'!M31 -> 0 | O9: ='Plot (1)'!N29 -> 0 | P9: ='Plot (1)'!O29 -> 0 | Q9: ='Plot (1)'!N30 -> 0 | R9: ='Plot (1)'!O30 -> 0 | S9: ='Plot (1)'!N31 -> 0 | T9: ='Plot (1)'!O31 -> 0 | U9: ='Plot (1)'!P29 -> 0 | V9: ='Plot (1)'!Q29 -> 0 | W9: ='Plot (1)'!P30 -> 0 | X9: ='Plot (1)'!Q30 -> 0 | Y9: ='Plot (1)'!P31 -> 0 | Z9: ='Plot (1)'!Q31 -> 0 | AA9: ='Plot (1)'!R29 -> 0 | AB9: ='Plot (1)'!S29 -> 0 | AC9: ='Plot (1)'!R30 -> 0 | AD9: ='Plot (1)'!S30 -> 0 | AE9: ='Plot (1)'!R31 -> 0 | AF9: ='Plot (1)'!S31 -> 0 | AG9: ='Plot (1)'!T29 -> 0 | AH9: ='Plot (1)'!U29 -> 0 | AI9: ='Plot (1)'!T30 -> 0 | AJ9: ='Plot (1)'!U30 -> 0 | AK9: ='Plot (1)'!T31 -> 0 | AL9: ='Plot (1)'!U31 -> 0 | AN9: 2 | AO9: =+I13 -> N/A | AP9: =+SUM(I14:I23) -> 0 | AQ9: =+SUM(J14:J23) -> 0 | AR9: =+SUM(K14:K23) -> 0 | AS9: =+SUM(L14:L23) -> 0 | AT9: =+SUM(M14:M23) -> 0 | AU9: =+SUM(N14:N23) -> 0 | AV9: =SUM(AP9:AU9) -> 0 | AX9: Row Labels | AY9: Sum of LIVE LAYER 1 | AZ9: Sum of DEAD LAYER 1 | BA9: Sum of LIVE LAYER 2 | BB9: Sum of DEAD LAYER 2 | BC9: Sum of LIVE LAYER 3 | BD9: Sum of DEAD LAYER 3 | BE9: Sum of Total Trees | BF9: SUM | BG9: (only the top 10 are listed, because there are
A10: 1 | B10: =+'Plot (1)'!A$32 -> 0 | C10: ='Plot (1)'!J32 -> 0 | D10: ='Plot (1)'!K32 -> 0 | E10: ='Plot (1)'!J33 -> 0 | F10: ='Plot (1)'!K33 -> 0 | G10: ='Plot (1)'!J34 -> 0 | H10: ='Plot (1)'!K34 -> 0 | I10: ='Plot (1)'!L32 -> 0 | J10: ='Plot (1)'!M32 -> 0 | K10: ='Plot (1)'!L33 -> 0 | L10: ='Plot (1)'!M33 -> 0 | M10: ='Plot (1)'!L34 -> 0 | N10: ='Plot (1)'!M34 -> 0 | O10: ='Plot (1)'!N32 -> 0 | P10: ='Plot (1)'!O32 -> 0 | Q10: ='Plot (1)'!N33 -> 0 | R10: ='Plot (1)'!O33 -> 0 | S10: ='Plot (1)'!N34 -> 0 | T10: ='Plot (1)'!O34 -> 0 | U10: ='Plot (1)'!P32 -> 0 | V10: ='Plot (1)'!Q32 -> 0 | W10: ='Plot (1)'!P33 -> 0 | X10: ='Plot (1)'!Q33 -> 0 | Y10: ='Plot (1)'!P34 -> 0 | Z10: ='Plot (1)'!Q34 -> 0 | AA10: ='Plot (1)'!R32 -> 0 | AB10: ='Plot (1)'!S32 -> 0 | AC10: ='Plot (1)'!R33 -> 0 | AD10: ='Plot (1)'!S33 -> 0 | AE10: ='Plot (1)'!R34 -> 0 | AF10: ='Plot (1)'!S34 -> 0 | AG10: ='Plot (1)'!T32 -> 0 | AH10: ='Plot (1)'!U32 -> 0 | AI10: ='Plot (1)'!T33 -> 0 | AJ10: ='Plot (1)'!U33 -> 0 | AK10: ='Plot (1)'!T34 -> 0 | AL10: ='Plot (1)'!U34 -> 0 | AN10: 2 | AO10: =+O13 -> N/A | AP10: =+SUM(O14:O23) -> 0 | AQ10: =+SUM(P14:P23) -> 0 | AR10: =+SUM(Q14:Q23) -> 0 | AS10: =+SUM(R14:R23) -> 0 | AT10: =+SUM(S14:S23) -> 0 | AU10: =+SUM(T14:T23) -> 0 | AV10: =SUM(AP10:AU10) -> 0 | AX10: N/A | AY10: 0 | AZ10: 0 | BA10: 0 | BB10: 0 | BC10: 0 | BD10: 0 | BE10: 0 | BF10: =SUM(AY10:BD10) -> 0 | BG10: only 10 spaces in the SDM Polygon Summary for
A11: 1 | B11: =+'Plot (1)'!A$35 -> 0 | C11: ='Plot (1)'!J35 -> 0 | D11: ='Plot (1)'!K35 -> 0 | E11: ='Plot (1)'!J36 -> 0 | F11: ='Plot (1)'!K36 -> 0 | G11: ='Plot (1)'!J37 -> 0 | H11: ='Plot (1)'!K37 -> 0 | I11: ='Plot (1)'!L35 -> 0 | J11: ='Plot (1)'!M35 -> 0 | K11: ='Plot (1)'!L36 -> 0 | L11: ='Plot (1)'!M36 -> 0 | M11: ='Plot (1)'!L37 -> 0 | N11: ='Plot (1)'!M37 -> 0 | O11: ='Plot (1)'!N35 -> 0 | P11: ='Plot (1)'!O35 -> 0 | Q11: ='Plot (1)'!N36 -> 0 | R11: ='Plot (1)'!O36 -> 0 | S11: ='Plot (1)'!N37 -> 0 | T11: ='Plot (1)'!O37 -> 0 | U11: ='Plot (1)'!P35 -> 0 | V11: ='Plot (1)'!Q35 -> 0 | W11: ='Plot (1)'!P36 -> 0 | X11: ='Plot (1)'!Q36 -> 0 | Y11: ='Plot (1)'!P37 -> 0 | Z11: ='Plot (1)'!Q37 -> 0 | AA11: ='Plot (1)'!R35 -> 0 | AB11: ='Plot (1)'!S35 -> 0 | AC11: ='Plot (1)'!R36 -> 0 | AD11: ='Plot (1)'!S36 -> 0 | AE11: ='Plot (1)'!R37 -> 0 | AF11: ='Plot (1)'!S37 -> 0 | AG11: ='Plot (1)'!T35 -> 0 | AH11: ='Plot (1)'!U35 -> 0 | AI11: ='Plot (1)'!T36 -> 0 | AJ11: ='Plot (1)'!U36 -> 0 | AK11: ='Plot (1)'!T37 -> 0 | AL11: ='Plot (1)'!U37 -> 0 | AN11: 2 | AO11: =+U13 -> N/A | AP11: =+SUM(U14:U23) -> 0 | AQ11: =+SUM(V14:V23) -> 0 | AR11: =+SUM(W14:W23) -> 0 | AS11: =+SUM(X14:X23) -> 0 | AT11: =+SUM(Y14:Y23) -> 0 | AU11: =+SUM(Z14:Z23) -> 0 | AV11: =SUM(AP11:AU11) -> 0 | BF11: =SUM(AY11:BD11) -> 0 | BG11: Forest Health Factors to be reported).
A12: 1 | B12: =+'Plot (1)'!A$38 -> 0 | C12: ='Plot (1)'!J38 -> 0 | D12: ='Plot (1)'!K38 -> 0 | E12: ='Plot (1)'!J39 -> 0 | F12: ='Plot (1)'!K39 -> 0 | G12: ='Plot (1)'!J40 -> 0 | H12: ='Plot (1)'!K40 -> 0 | I12: ='Plot (1)'!L38 -> 0 | J12: ='Plot (1)'!M38 -> 0 | K12: ='Plot (1)'!L39 -> 0 | L12: ='Plot (1)'!M39 -> 0 | M12: ='Plot (1)'!L40 -> 0 | N12: ='Plot (1)'!M40 -> 0 | O12: ='Plot (1)'!N38 -> 0 | P12: ='Plot (1)'!O38 -> 0 | Q12: ='Plot (1)'!N39 -> 0 | R12: ='Plot (1)'!O39 -> 0 | S12: ='Plot (1)'!N40 -> 0 | T12: ='Plot (1)'!O40 -> 0 | U12: ='Plot (1)'!P38 -> 0 | V12: ='Plot (1)'!Q38 -> 0 | W12: ='Plot (1)'!P39 -> 0 | X12: ='Plot (1)'!Q39 -> 0 | Y12: ='Plot (1)'!P40 -> 0 | Z12: ='Plot (1)'!Q40 -> 0 | AA12: ='Plot (1)'!R38 -> 0 | AB12: ='Plot (1)'!S38 -> 0 | AC12: ='Plot (1)'!R39 -> 0 | AD12: ='Plot (1)'!S39 -> 0 | AE12: ='Plot (1)'!R40 -> 0 | AF12: ='Plot (1)'!S40 -> 0 | AG12: ='Plot (1)'!T38 -> 0 | AH12: ='Plot (1)'!U38 -> 0 | AI12: ='Plot (1)'!T39 -> 0 | AJ12: ='Plot (1)'!U39 -> 0 | AK12: ='Plot (1)'!T40 -> 0 | AL12: ='Plot (1)'!U40 -> 0 | AN12: 2 | AO12: =+AA13 -> N/A | AP12: =+SUM(AA14:AA23) -> 0 | AQ12: =+SUM(V15:V24) -> 0 | AR12: =+SUM(W15:W24) -> 0 | AS12: =+SUM(X15:X24) -> 0 | AT12: =+SUM(Y15:Y24) -> 0 | AU12: =+SUM(Z15:Z24) -> 0 | AV12: =SUM(AP12:AU12) -> 0 | BF12: =SUM(AY12:BD12) -> 0
A13: 2 | B13: FOREST HEALTH DAMAGE AGENTS | C13: =IF(CELL("type",('Plot (2)'!$J$8))="b","N/A",'Plot (2)'!$J$8) -> N/A | I13: =IF(CELL("type",('Plot (2)'!$L$8))="b","N/A",'Plot (2)'!$L$8) -> N/A | O13: =IF(CELL("type",('Plot (2)'!$N$8))="b","N/A",'Plot (2)'!$N$8) -> N/A | U13: =IF(CELL("type",('Plot (2)'!$P$8))="b","N/A",'Plot (2)'!$P$8) -> N/A | AA13: =IF(CELL("type",('Plot (2)'!$R$8))="b","N/A",'Plot (2)'!$R$8) -> N/A | AG13: =IF(CELL("type",('Plot (2)'!$T$8))="b","N/A",'Plot (2)'!$T$8) -> N/A | AN13: 2 | AO13: =+AG13 -> N/A | AP13: =+SUM(AG14:AG23) -> 0 | AQ13: =+SUM(AH14:AH23) -> 0 | AR13: =+SUM(AI14:AI23) -> 0 | AS13: =+SUM(AJ14:AJ23) -> 0 | AT13: =+SUM(AK14:AK23) -> 0 | AU13: =+SUM(AL14:AL23) -> 0 | AV13: =SUM(AP13:AU13) -> 0 | BF13: =SUM(AY13:BD13) -> 0
A14: 2 | B14: =+'Plot (2)'!A$11 -> 0 | C14: ='Plot (2)'!$J$11 -> 0 | D14: ='Plot (2)'!$K$11 -> 0 | E14: ='Plot (2)'!$J$12 -> 0 | F14: ='Plot (2)'!$K$12 -> 0 | G14: ='Plot (2)'!$J$13 -> 0 | H14: ='Plot (2)'!$K$13 -> 0 | I14: ='Plot (2)'!$L$11 -> 0 | J14: ='Plot (2)'!$M$11 -> 0 | K14: ='Plot (2)'!$L$12 -> 0 | L14: ='Plot (2)'!$M$12 -> 0 | M14: ='Plot (2)'!$L$13 -> 0 | N14: ='Plot (2)'!$M$13 -> 0 | O14: ='Plot (2)'!$N$11 -> 0 | P14: ='Plot (2)'!$O$11 -> 0 | Q14: ='Plot (2)'!$N$12 -> 0 | R14: ='Plot (2)'!$O$12 -> 0 | S14: ='Plot (2)'!$N$13 -> 0 | T14: ='Plot (2)'!$O$13 -> 0 | U14: ='Plot (2)'!$P$11 -> 0 | V14: ='Plot (2)'!$Q$11 -> 0 | W14: ='Plot (2)'!$P$12 -> 0 | X14: ='Plot (2)'!$Q$12 -> 0 | Y14: ='Plot (2)'!$P$13 -> 0 | Z14: ='Plot (2)'!$Q$13 -> 0 | AA14: ='Plot (2)'!$R$11 -> 0 | AB14: ='Plot (2)'!$S$11 -> 0 | AC14: ='Plot (2)'!$R$12 -> 0 | AD14: ='Plot (2)'!$S$12 -> 0 | AE14: ='Plot (2)'!$R$13 -> 0 | AF14: ='Plot (2)'!$S$13 -> 0 | AG14: ='Plot (2)'!$T$11 -> 0 | AH14: ='Plot (2)'!$U$11 -> 0 | AI14: ='Plot (2)'!$T$12 -> 0 | AJ14: ='Plot (2)'!$U$12 -> 0 | AK14: ='Plot (2)'!$T$13 -> 0 | AL14: ='Plot (2)'!$U$13 -> 0 | AN14: 3 | AO14: =+C24 -> N/A | AP14: =+SUM(C25:C34) -> 0 | AQ14: =+SUM(D25:D34) -> 0 | AR14: =+SUM(E25:E34) -> 0 | AS14: =+SUM(F25:F34) -> 0 | AT14: =+SUM(G25:G34) -> 0 | AU14: =+SUM(H25:H34) -> 0 | AV14: =SUM(AP14:AU14) -> 0 | BF14: =SUM(AY14:BD14) -> 0
A15: 2 | B15: =+'Plot (2)'!A$14 -> 0 | C15: ='Plot (2)'!$J$14 -> 0 | D15: ='Plot (2)'!$K$14 -> 0 | E15: ='Plot (2)'!$J$15 -> 0 | F15: ='Plot (2)'!$K$15 -> 0 | G15: ='Plot (2)'!$J$16 -> 0 | H15: ='Plot (2)'!$K$16 -> 0 | I15: ='Plot (2)'!$L$14 -> 0 | J15: ='Plot (2)'!$M$14 -> 0 | K15: ='Plot (2)'!$L$15 -> 0 | L15: ='Plot (2)'!$M$15 -> 0 | M15: ='Plot (2)'!$L$16 -> 0 | N15: ='Plot (2)'!$M$16 -> 0 | O15: ='Plot (2)'!$N$14 -> 0 | P15: ='Plot (2)'!$O$14 -> 0 | Q15: ='Plot (2)'!$N$15 -> 0 | R15: ='Plot (2)'!$O$15 -> 0 | S15: ='Plot (2)'!$N$16 -> 0 | T15: ='Plot (2)'!$O$16 -> 0 | U15: ='Plot (2)'!$P$14 -> 0 | V15: ='Plot (2)'!$Q$14 -> 0 | W15: ='Plot (2)'!$P$15 -> 0 | X15: ='Plot (2)'!$Q$15 -> 0 | Y15: ='Plot (2)'!$P$16 -> 0 | Z15: ='Plot (2)'!$Q$16 -> 0 | AA15: ='Plot (2)'!$R$14 -> 0 | AB15: ='Plot (2)'!$S$14 -> 0 | AC15: ='Plot (2)'!$R$15 -> 0 | AD15: ='Plot (2)'!$S$15 -> 0 | AE15: ='Plot (2)'!$R$16 -> 0 | AF15: ='Plot (2)'!$S$16 -> 0 | AG15: ='Plot (2)'!$T$14 -> 0 | AH15: ='Plot (2)'!$U$14 -> 0 | AI15: ='Plot (2)'!$T$15 -> 0 | AJ15: ='Plot (2)'!$U$15 -> 0 | AK15: ='Plot (2)'!$T$16 -> 0 | AL15: ='Plot (2)'!$U$16 -> 0 | AN15: 3 | AO15: =+I24 -> N/A | AP15: =+SUM(I25:I34) -> 0 | AQ15: =+SUM(J25:J34) -> 0 | AR15: =+SUM(K25:K34) -> 0 | AS15: =+SUM(L25:L34) -> 0 | AT15: =+SUM(M25:M34) -> 0 | AU15: =+SUM(N25:N34) -> 0 | AV15: =SUM(AP15:AU15) -> 0 | BF15: =SUM(AY15:BD15) -> 0
A16: 2 | B16: =+'Plot (2)'!A$17 -> 0 | C16: ='Plot (2)'!$J$17 -> 0 | D16: ='Plot (2)'!$K$17 -> 0 | E16: ='Plot (2)'!$J$18 -> 0 | F16: ='Plot (2)'!$K$18 -> 0 | G16: ='Plot (2)'!$J$19 -> 0 | H16: ='Plot (2)'!$K$19 -> 0 | I16: ='Plot (2)'!$L$17 -> 0 | J16: ='Plot (2)'!$M$17 -> 0 | K16: ='Plot (2)'!$L$18 -> 0 | L16: ='Plot (2)'!$M$18 -> 0 | M16: ='Plot (2)'!$L$19 -> 0 | N16: ='Plot (2)'!$M$19 -> 0 | O16: ='Plot (2)'!$N$17 -> 0 | P16: ='Plot (2)'!$O$17 -> 0 | Q16: ='Plot (2)'!$N$18 -> 0 | R16: ='Plot (2)'!$O$18 -> 0 | S16: ='Plot (2)'!$N$19 -> 0 | T16: ='Plot (2)'!$O$19 -> 0 | U16: ='Plot (2)'!$P$17 -> 0 | V16: ='Plot (2)'!$Q$17 -> 0 | W16: ='Plot (2)'!$P$18 -> 0 | X16: ='Plot (2)'!$Q$18 -> 0 | Y16: ='Plot (2)'!$P$19 -> 0 | Z16: ='Plot (2)'!$Q$19 -> 0 | AA16: ='Plot (2)'!$R$17 -> 0 | AB16: ='Plot (2)'!$S$17 -> 0 | AC16: ='Plot (2)'!$R$18 -> 0 | AD16: ='Plot (2)'!$S$18 -> 0 | AE16: ='Plot (2)'!$R$19 -> 0 | AF16: ='Plot (2)'!$S$19 -> 0 | AG16: ='Plot (2)'!$T$17 -> 0 | AH16: ='Plot (2)'!$U$17 -> 0 | AI16: ='Plot (2)'!$T$18 -> 0 | AJ16: ='Plot (2)'!$U$18 -> 0 | AK16: ='Plot (2)'!$T$19 -> 0 | AL16: ='Plot (2)'!$U$19 -> 0 | AN16: 3 | AO16: =+O24 -> N/A | AP16: =+SUM(O25:O34) -> 0 | AQ16: =+SUM(P25:P34) -> 0 | AR16: =+SUM(Q25:Q34) -> 0 | AS16: =+SUM(R25:R34) -> 0 | AT16: =+SUM(S25:S34) -> 0 | AU16: =+SUM(T25:T34) -> 0 | AV16: =SUM(AP16:AU16) -> 0 | BF16: =SUM(AY16:BD16) -> 0
A17: 2 | B17: =+'Plot (2)'!A$20 -> 0 | C17: ='Plot (2)'!$J$20 -> 0 | D17: ='Plot (2)'!$K$20 -> 0 | E17: ='Plot (2)'!$J$21 -> 0 | F17: ='Plot (2)'!$K$21 -> 0 | G17: ='Plot (2)'!$J$22 -> 0 | H17: ='Plot (2)'!$K$22 -> 0 | I17: ='Plot (2)'!$L$20 -> 0 | J17: ='Plot (2)'!$M$20 -> 0 | K17: ='Plot (2)'!$L$21 -> 0 | L17: ='Plot (2)'!$M$21 -> 0 | M17: ='Plot (2)'!$L$22 -> 0 | N17: ='Plot (2)'!$M$22 -> 0 | O17: ='Plot (2)'!$N$20 -> 0 | P17: ='Plot (2)'!$O$20 -> 0 | Q17: ='Plot (2)'!$N$21 -> 0 | R17: ='Plot (2)'!$O$21 -> 0 | S17: ='Plot (2)'!$N$22 -> 0 | T17: ='Plot (2)'!$O$22 -> 0 | U17: ='Plot (2)'!$P$20 -> 0 | V17: ='Plot (2)'!$Q$20 -> 0 | W17: ='Plot (2)'!$P$21 -> 0 | X17: ='Plot (2)'!$Q$21 -> 0 | Y17: ='Plot (2)'!$P$22 -> 0 | Z17: ='Plot (2)'!$Q$22 -> 0 | AA17: ='Plot (2)'!$R$20 -> 0 | AB17: ='Plot (2)'!$S$20 -> 0 | AC17: ='Plot (2)'!$R$21 -> 0 | AD17: ='Plot (2)'!$S$21 -> 0 | AE17: ='Plot (2)'!$R$22 -> 0 | AF17: ='Plot (2)'!$S$22 -> 0 | AG17: ='Plot (2)'!$T$20 -> 0 | AH17: ='Plot (2)'!$U$20 -> 0 | AI17: ='Plot (2)'!$T$21 -> 0 | AJ17: ='Plot (2)'!$U$21 -> 0 | AK17: ='Plot (2)'!$T$22 -> 0 | AL17: ='Plot (2)'!$U$22 -> 0 | AN17: 3 | AO17: =+U24 -> N/A | AP17: =+SUM(U25:U34) -> 0 | AQ17: =+SUM(V25:V34) -> 0 | AR17: =+SUM(W25:W34) -> 0 | AS17: =+SUM(X25:X34) -> 0 | AT17: =+SUM(Y25:Y34) -> 0 | AU17: =+SUM(Z25:Z34) -> 0 | AV17: =SUM(AP17:AU17) -> 0 | BF17: =SUM(AY17:BD17) -> 0
