Workbook
Name BEC: 'Validation Lists'!$E$2:$E$230
Name Day: 'Validation Lists'!$B$17:$B$47
Name declared_etc: #REF!
Name District: 'Validation Lists'!$C$2:$C$30
Name FHFCode: 'Validation Lists'!$J$2:$J$271
Name FHFNames: 'Validation Lists'!#REF!
Name MapSheet: 'Validation Lists'!$I$2:$I$89
Name MITD: 'Validation Lists'!$A$53:$A$59
Name Month: 'Validation Lists'!$B$2:$B$13
Name Part3: #REF!
Name PEST: #REF!
Name SilvTrmts: 'Validation Lists'!$H$10:$H$26
Name Species: '[1]Validation Lists'!#REF!
Name TreeSpecies: 'Validation Lists'!$F$2:$F$46
Name Trmts: 'Validation Lists'!$L$2:$L$179
Name TSA: 'Validation Lists'!$D$2:$D$38
Name UTM: 'Validation Lists'!$H$2:$H$6
Name Year: 'Validation Lists'!$A$25:$A$46
Name Year1: 'Validation Lists'!$A$3:$A$46

Sheet Cover Sheet
A1: 2014 | B1: Stand Development Monitoring - Polygon Cover Sheet | R1: Last saved on | S1: =NOW() -> 41718.615
A2: (completed during office review of onsite files and RESULTS database information)
A3: REQUIRED INFORMATION | I3: TSA: | O3: OPTIONAL INFORMATION
A4: Mapsheet Identifier* | G4: Polygon** | I4: District: | O4: Previous Survey Information:
A5: Mapsheet | C5: Submapsheet | E5: Opening | I5: Location: | P5: If pre-SDM survey information is available then please fill in the following fields. Ensure that the actual activity area matches the current polygon area.
B7: Opening ID: | F7: Polygon NAR: | I7: BEC: | O7: IF POLYGON WAS PLANTED
A8: FC ID:*** | F8: Disturbance Yr: | I8: Year Declared FG: | O8: How many times?
O9: If available, provide info for last planting
A10: DESIRABLE INFORMATION FROM MOST RECENT PRIOR SURVEY | O10: Year Planted:
O11: Total Trees Planted:
D12: Most Recent Survey: | E12: FG | I12: If not FG, describe type: | O12: Area Planted:
D13: Method of Survey: | G13: MITD: | I13: 2 | J13: M-value: | O13: Species:
D14: Year of Survey: | G14: MSS: | J14: TSS: | O14: Stock Age:
D15: Total Tree Density: | G15: Top Height ‡: | J15: Top Height Species: | O15: REGENERATION SURVEY
D16: Total Conifers: | G16: Preferred Spp. (Orig): | M16: Min. Ht.
D17: Total Well-spaced Density†: | O17: Year Surveyed:
D18: Well-spaced Density (M): | G18: Acceptable Spp. (Orig): | M18: Min. Ht. | O18: Total Density:
D19: Free-growing Density (M): | O19: Inventory Label:
O20: Silviculture Label:
A21: SILVICULTURE LABEL | D21: Minor Spp. | J21: TOP 3 FOREST HEALTH FACTORS | O21: Well-spaced Density:
A22: Ldg Spp | J22: FHF | O22: Site Index:
A23: % | B23: Age | C23: Ht(m) | D23: % | E23: % | F23: % | G23: % | H23: % | J23: %
O24: DP: | P24: SDM | R24: Pre-SDM
A26: INVENTORY LABEL | G26: Minor Spp. | K26: Total Density | L26: Site Index | M26: SI Source | N26: Crown Closure | P26: Reference Year | R26: Data input by:
A27: Ldg Spp | D27: 2 nd Spp
A28: % | B28: Age | C28: Ht(m) | D28: % | E28: Age | F28: Ht(m) | G28: % | H28: % | I28: % | J28: %
A31: SILVICULTURE TREATMENTS | P31: SDM Surveyors:
A32: YEAR
A33: ACTIVITY
A35: NOTES:
A39: * Keep Mapsheet Identifier split into three groups with leading zeros and no dashes - along with polygon this is the main identifier for the polygon.
A40: ** This polygon identifer MUST match the 'SILV_POLYGON_NO' entry from the random sample population list for the TSA.
A41: *** Refers to FOREST_COVER_ID field in TSA random sample list or from FOR ID in Opening Details Reports. This number is unique to a polygon.
A42: † Total Well-spaced Density is the well-spaced tree count before capping by M-value, while Well-spaced Density is capped. Free-growing density is capped.
A43: ‡ This is the maximum tree height used to determine site index using the growth intercept method. This can be an average. Include the associated tree species in the next field.

Sheet Plot (1)
G1: STAND DEVELOPMENT MONITORING FIELD CARD | N1: SURVEYOR NAME(S) | Z1: YR | AA1: MO | AB1: DAY | AC1: PAGE | AE1: OF
N2: ='Cover Sheet'!P32 -> 0 | Z2: ='Cover Sheet'!A1 -> 2014 | AC2: 1 | AE2: 10
A3: MAPSHEET - OPENING NO. | G3: POLYGON | J3: LOCATION | W3: DISTRICT | Z3: TSA | AC3: BEC
A4: =CONCATENATE('Cover Sheet'!A6," ",'Cover Sheet'!C6," ",'Cover Sheet'!E6) | G4: ='Cover Sheet'!G6 -> 0 | J4: ='Cover Sheet'!K5 -> 0 | W4: ='Cover Sheet'!K4 -> 0 | Z4: ='Cover Sheet'!K3 -> 0 | AC4: ='Cover Sheet'!K7 -> 0
A5: POINT OF COMMENCEMENT / BEARING & DISTANCE TO THIS PLOT | W5: UTM ZONE | Y5: EASTING | AC5: NORTHING
A7: PLOT NO. (3.99m) | F7: MITD (ORIG) | H7: M-VALUE (ORIG) | J7: FOREST HEALTH DAMAGE AGENTS | V7: PREF./ACC. | X7: PREFERRED SPP (ORIG): | AB7: =IF(ISBLANK('Cover Sheet'!$J$16),"No species listed",CONCATENATE(IF(ISBLANK('Cover Sheet'!$J$16),"",'Cover Sheet'!$J$16),IF(ISBLANK('Cover Sheet'!$K$16),"",CONCATENATE(", ",'Cover Sheet'!$K$16)),IF(ISBLANK('Cover Sheet'!$L$16),"",CONCATENATE(", ",'Cover Sheet'!$L$16)),IF(ISBLANK('Cover Sheet'!$J$17),"",CONCATENATE(", ",'Cover Sheet'!$J$17)),IF(ISBLANK('Cover Sheet'!$K$17),"",CONCATENATE(", ",'Cover Sheet'!$K$17)),IF(ISBLANK('Cover Sheet'!$L$17),"",CONCATENATE(", ",'Cover Sheet'!$L$17)))) -> No species listed | AC7: =IF(ISBLANK($J$15),"No species listed",CONCATENATE(IF(ISBLANK($J$15),"",$J$15),IF(ISBLANK($K$15),"",CONCATENATE(", ",$K$15)),IF(ISBLANK($L$15),"",CONCATENATE(", ",$L$15)),IF(ISBLANK($M$15),"",CONCATENATE(", ",$M$15)),IF(ISBLANK($J$16),"",CONCATENATE(", ",$J$16)),IF(ISBLANK($K$16),"",CONCATENATE(", ",$K$16)),IF(ISBLANK($L$16),"",CONCATENATE(", ",$L$16)),IF(ISBLANK($M$16),"",CONCATENATE(", ",$M$16)))) -> No species listed | AD7: =IF(ISBLANK($J$15),"No species listed",CONCATENATE(IF(ISBLANK($J$15),"",$J$15),IF(ISBLANK($K$15),"",CONCATENATE(", ",$K$15)),IF(ISBLANK($L$15),"",CONCATENATE(", ",$L$15)),IF(ISBLANK($M$15),"",CONCATENATE(", ",$M$15)),IF(ISBLANK($J$16),"",CONCATENATE(", ",$J$16)),IF(ISBLANK($K$16),"",CONCATENATE(", ",$K$16)),IF(ISBLANK($L$16),"",CONCATENATE(", ",$L$16)),IF(ISBLANK($M$16),"",CONCATENATE(", ",$M$16)))) -> No species listed | AE7: =IF(ISBLANK($J$15),"No species listed",CONCATENATE(IF(ISBLANK($J$15),"",$J$15),IF(ISBLANK($K$15),"",CONCATENATE(", ",$K$15)),IF(ISBLANK($L$15),"",CONCATENATE(", ",$L$15)),IF(ISBLANK($M$15),"",CONCATENATE(", ",$M$15)),IF(ISBLANK($J$16),"",CONCATENATE(", ",$J$16)),IF(ISBLANK($K$16),"",CONCATENATE(", ",$K$16)),IF(ISBLANK($L$16),"",CONCATENATE(", ",$L$16)),IF(ISBLANK($M$16),"",CONCATENATE(", ",$M$16)))) -> No species listed | AF7: =IF(ISBLANK($J$15),"No species listed",CONCATENATE(IF(ISBLANK($J$15),"",$J$15),IF(ISBLANK($K$15),"",CONCATENATE(", ",$K$15)),IF(ISBLANK($L$15),"",CONCATENATE(", ",$L$15)),IF(ISBLANK($M$15),"",CONCATENATE(", ",$M$15)),IF(ISBLANK($J$16),"",CONCATENATE(", ",$J$16)),IF(ISBLANK($K$16),"",CONCATENATE(", ",$K$16)),IF(ISBLANK($L$16),"",CONCATENATE(", ",$L$16)),IF(ISBLANK($M$16),"",CONCATENATE(", ",$M$16)))) -> No species listed
F8: ='Cover Sheet'!I13 -> 2 | H8: ='Cover Sheet'!L13 -> 0 | AB8: =IF(ISBLANK($J$15),"No species listed",CONCATENATE(IF(ISBLANK($J$15),"",$J$15),IF(ISBLANK($K$15),"",CONCATENATE(", ",$K$15)),IF(ISBLANK($L$15),"",CONCATENATE(", ",$L$15)),IF(ISBLANK($M$15),"",CONCATENATE(", ",$M$15)),IF(ISBLANK($J$16),"",CONCATENATE(", ",$J$16)),IF(ISBLANK($K$16),"",CONCATENATE(", ",$K$16)),IF(ISBLANK($L$16),"",CONCATENATE(", ",$L$16)),IF(ISBLANK($M$16),"",CONCATENATE(", ",$M$16)))) -> No species listed | AC8: =IF(ISBLANK($J$15),"No species listed",CONCATENATE(IF(ISBLANK($J$15),"",$J$15),IF(ISBLANK($K$15),"",CONCATENATE(", ",$K$15)),IF(ISBLANK($L$15),"",CONCATENATE(", ",$L$15)),IF(ISBLANK($M$15),"",CONCATENATE(", ",$M$15)),IF(ISBLANK($J$16),"",CONCATENATE(", ",$J$16)),IF(ISBLANK($K$16),"",CONCATENATE(", ",$K$16)),IF(ISBLANK($L$16),"",CONCATENATE(", ",$L$16)),IF(ISBLANK($M$16),"",CONCATENATE(", ",$M$16)))) -> No species listed | AD8: =IF(ISBLANK($J$15),"No species listed",CONCATENATE(IF(ISBLANK($J$15),"",$J$15),IF(ISBLANK($K$15),"",CONCATENATE(", ",$K$15)),IF(ISBLANK($L$15),"",CONCATENATE(", ",$L$15)),IF(ISBLANK($M$15),"",CONCATENATE(", ",$M$15)),IF(ISBLANK($J$16),"",CONCATENATE(", ",$J$16)),IF(ISBLANK($K$16),"",CONCATENATE(", ",$K$16)),IF(ISBLANK($L$16),"",CONCATENATE(", ",$L$16)),IF(ISBLANK($M$16),"",CONCATENATE(", ",$M$16)))) -> No species listed | AE8: =IF(ISBLANK($J$15),"No species listed",CONCATENATE(IF(ISBLANK($J$15),"",$J$15),IF(ISBLANK($K$15),"",CONCATENATE(", ",$K$15)),IF(ISBLANK($L$15),"",CONCATENATE(", ",$L$15)),IF(ISBLANK($M$15),"",CONCATENATE(", ",$M$15)),IF(ISBLANK($J$16),"",CONCATENATE(", ",$J$16)),IF(ISBLANK($K$16),"",CONCATENATE(", ",$K$16)),IF(ISBLANK($L$16),"",CONCATENATE(", ",$L$16)),IF(ISBLANK($M$16),"",CONCATENATE(", ",$M$16)))) -> No species listed | AF8: =IF(ISBLANK($J$15),"No species listed",CONCATENATE(IF(ISBLANK($J$15),"",$J$15),IF(ISBLANK($K$15),"",CONCATENATE(", ",$K$15)),IF(ISBLANK($L$15),"",CONCATENATE(", ",$L$15)),IF(ISBLANK($M$15),"",CONCATENATE(", ",$M$15)),IF(ISBLANK($J$16),"",CONCATENATE(", ",$J$16)),IF(ISBLANK($K$16),"",CONCATENATE(", ",$K$16)),IF(ISBLANK($L$16),"",CONCATENATE(", ",$L$16)),IF(ISBLANK($M$16),"",CONCATENATE(", ",$M$16)))) -> No species listed
A9: TREE SPP | C9: LAYER | D9: LIVE TREES | E9: LIVE CON. | F9: DEAD TREES | G9: DEAD CON. | H9: WS | I9: FG | J9: LIVE | K9: DEAD | L9: LIVE | M9: DEAD | N9: LIVE | O9: DEAD | P9: LIVE | Q9: DEAD | R9: LIVE | S9: DEAD | T9: LIVE | U9: DEAD | V9: WS | W9: FG | X9: ACCEPTABLE SPP (ORIG): | AB9: =IF(ISBLANK('Cover Sheet'!$J$18),"No species listed",CONCATENATE(IF(ISBLANK('Cover Sheet'!$J$18),"",'Cover Sheet'!$J$18),IF(ISBLANK('Cover Sheet'!$K$18),"",CONCATENATE(", ",'Cover Sheet'!$K$18)),IF(ISBLANK('Cover Sheet'!$L$18),"",CONCATENATE(", ",'Cover Sheet'!$L$18)),IF(ISBLANK('Cover Sheet'!$J$19),"",CONCATENATE(", ",'Cover Sheet'!$J$19)),IF(ISBLANK('Cover Sheet'!$K$19),"",CONCATENATE(", ",'Cover Sheet'!$K$19)),IF(ISBLANK('Cover Sheet'!$L$19),"",CONCATENATE(", ",'Cover Sheet'!$L$19)))) -> No species listed | AC9: =IF(ISBLANK($J$17),"No species listed",CONCATENATE(IF(ISBLANK($J$17),"",$J$17),IF(ISBLANK($K$17),"",CONCATENATE(", ",$K$17)),IF(ISBLANK($L$17),"",CONCATENATE(", ",$L$17)),IF(ISBLANK($M$17),"",CONCATENATE(", ",$M$17)),IF(ISBLANK($J$18),"",CONCATENATE(", ",$J$18)),IF(ISBLANK($K$18),"",CONCATENATE(", ",$K$18)),IF(ISBLANK($L$18),"",CONCATENATE(", ",$L$18)),IF(ISBLANK($M$18),"",CONCATENATE(", ",$M$18)))) -> No species listed | AD9: =IF(ISBLANK($J$17),"No species listed",CONCATENATE(IF(ISBLANK($J$17),"",$J$17),IF(ISBLANK($K$17),"",CONCATENATE(", ",$K$17)),IF(ISBLANK($L$17),"",CONCATENATE(", ",$L$17)),IF(ISBLANK($M$17),"",CONCATENATE(", ",$M$17)),IF(ISBLANK($J$18),"",CONCATENATE(", ",$J$18)),IF(ISBLANK($K$18),"",CONCATENATE(", ",$K$18)),IF(ISBLANK($L$18),"",CONCATENATE(", ",$L$18)),IF(ISBLANK($M$18),"",CONCATENATE(", ",$M$18)))) -> No species listed | AE9: =IF(ISBLANK($J$17),"No species listed",CONCATENATE(IF(ISBLANK($J$17),"",$J$17),IF(ISBLANK($K$17),"",CONCATENATE(", ",$K$17)),IF(ISBLANK($L$17),"",CONCATENATE(", ",$L$17)),IF(ISBLANK($M$17),"",CONCATENATE(", ",$M$17)),IF(ISBLANK($J$18),"",CONCATENATE(", ",$J$18)),IF(ISBLANK($K$18),"",CONCATENATE(", ",$K$18)),IF(ISBLANK($L$18),"",CONCATENATE(", ",$L$18)),IF(ISBLANK($M$18),"",CONCATENATE(", ",$M$18)))) -> No species listed | AF9: =IF(ISBLANK($J$17),"No species listed",CONCATENATE(IF(ISBLANK($J$17),"",$J$17),IF(ISBLANK($K$17),"",CONCATENATE(", ",$K$17)),IF(ISBLANK($L$17),"",CONCATENATE(", ",$L$17)),IF(ISBLANK($M$17),"",CONCATENATE(", ",$M$17)),IF(ISBLANK($J$18),"",CONCATENATE(", ",$J$18)),IF(ISBLANK($K$18),"",CONCATENATE(", ",$K$18)),IF(ISBLANK($L$18),"",CONCATENATE(", ",$L$18)),IF(ISBLANK($M$18),"",CONCATENATE(", ",$M$18)))) -> No species listed
C10: TOTALS> | D10: =SUM(D11:D40) -> 0 | E10: =SUM(E11:E40) -> 0 | F10: =SUM(F11:F40) -> 0 | G10: =SUM(G11:G40) -> 0 | H10: =SUM(H11:H40) -> 0 | I10: =SUM(I11:I40) -> 0 | J10: =SUM(J11:J40) -> 0 | K10: =SUM(K11:K40) -> 0 | ... W10: =SUM(W11:W40) -> 0 | X10: DATA VOLUME TREES | AC10: GROWTH INTERCEPT SAMPLE (5.64m)
C11: 1 | X11: L/D | Y11: SPP | Z11: DBH | AA11: HT | AB11: FHF
C12: 2 | X12: L | AC12: SPP
C13: 3 | X13: L | AC13: DBH
C14: 1 | X14: L | AC14: TOT HT
C15: 2 | X15: L | AC15: AGE@1.3M
C16: 3 | X16: L | AC16: SITE INDEX
C17: 1 | X17: L | AC17: NOTES
C18: 2 | X18: L
C19: 3 | X19: L
C20: 1 | X20: L
C21: 2 | X21: L
C22: 3 | X22: L
C23: 1 | X23: L
C24: 2 | X24: L
C25: 3 | X25: L
C26: 1 | X26: L
C27: 2 | X27: L
C28: 3 | X28: L
C29: 1 | X29: L
... C40: 3 | X40: L
A41: ACCESS NOTES: | V41: INVENTORY LABEL | AB41: Minor Spp. | AF41: CR CL
V42: Ldg Spp | Y42: 2 nd Spp
V43: % | W43: Age | X43: Ht(m) | Y43: % | Z43: Age | AA43: Ht(m) | AB43: % | AC43: % | AD43: % | AE43: % | AF43: %

Sheet Plot (2)
G1: STAND DEVELOPMENT MONITORING FIELD CARD | N1: SURVEYOR NAME(S) | Z1: YR | AA1: MO | AB1: DAY | AC1: PAGE | AE1: OF
N2: ='Plot (1)'!N2:Y2 -> 0 | Z2: ='Plot (1)'!Z2 -> 2014 | AA2: ='Plot (1)'!AA2 -> 0 | AB2: ='Plot (1)'!AB2 -> 0 | AC2: 2 | AE2: 10
A3: MAPSHEET - OPENING NO. | G3: POLYGON | J3: LOCATION | W3: DISTRICT | Z3: TSA | AC3: BEC
A4: =CONCATENATE('Cover Sheet'!A6," ",'Cover Sheet'!C6," ",'Cover Sheet'!E6) | G4: ='Cover Sheet'!G6 -> 0 | J4: ='Plot (1)'!J4:V4 -> 0 | W4: ='Plot (1)'!W4:Y4 -> 0 | Z4: ='Plot (1)'!Z4:AB4 -> 0 | AC4: ='Plot (1)'!AC4:AF4 -> 0
A5: POINT OF COMMENCEMENT / BEARING & DISTANCE TO THIS PLOT | W5: UTM ZONE | Y5: EASTING | AC5: NORTHING
W6: ='Plot (1)'!W6:X6 -> 0
A7: PLOT NO. (3.99m) | F7: MITD (ORIG) | H7: M-VALUE (ORIG) | J7: FOREST HEALTH DAMAGE AGENTS | V7: PREF./ACC. | X7: PREFERRED SPP (ORIG): | AB7: ='Plot (1)'!AB7:AF8 -> No species listed
F8: ='Plot (1)'!F8:G8 -> 2 | H8: ='Plot (1)'!H8:I8 -> 0
A9: TREE SPP | C9: LAYER | D9: LIVE TREES | E9: LIVE CON. | F9: DEAD TREES | G9: DEAD CON. | H9: WS | I9: FG | J9: LIVE | K9: DEAD | L9: LIVE | M9: DEAD | N9: LIVE | O9: DEAD | P9: LIVE | Q9: DEAD | R9: LIVE | S9: DEAD | T9: LIVE | U9: DEAD | V9: WS | W9: FG | X9: ACCEPTABLE SPP (ORIG): | AB9: ='Plot (1)'!AB9:AF9 -> No species listed
C10: TOTALS> | D10: =SUM(D11:D40) -> 0 | E10: =SUM(E11:E40) -> 0 | F10: =SUM(F11:F40) -> 0 | G10: =SUM(G11:G40) -> 0 | H10: =SUM(H11:H40) -> 0 | I10: =SUM(I11:I40) -> 0 | J10: =SUM(J11:J40) -> 0 | K10: =SUM(K11:K40) -> 0 | ... W10: =SUM(W11:W40) -> 0 | X10: DATA VOLUME TREES | AC10: GROWTH INTERCEPT SAMPLE (5.64m)
C11: 1 | X11: L/D | Y11: SPP | Z11: DBH | AA11: HT | AB11: FHF
C12: 2 | X12: L | AC12: SPP
C13: 3 | X13: L | AC13: DBH
C14: 1 | X14: L | AC14: TOT HT
C15: 2 | X15: L | AC15: AGE@1.3M
C16: 3 | X16: L | AC16: SITE INDEX
C17: 1 | X17: L | AC17: NOTES
C18: 2 | X18: L
C19: 3 | X19: L
C20: 1 | X20: L
C21: 2 | X21: L
C22: 3 | X22: L
C23: 1 | X23: L
C24: 2 | X24: L
C25: 3 | X25: L
C26: 1 | X26: L
C27: 2 | X27: L
C28: 3 | X28: L
C29: 1 | X29: L
... C40: 3 | X40: L
A41: ACCESS NOTES: | V41: INVENTORY LABEL | AB41: Minor Spp. | AF41: CR CL
V42: Ldg Spp | Y42: 2 nd Spp
V43: % | W43: Age | X43: Ht(m) | Y43: % | Z43: Age | AA43: Ht(m) | AB43: % | AC43: % | AD43: % | AE43: % | AF43: %

Sheet Plot (3)
G1: STAND DEVELOPMENT MONITORING FIELD CARD | N1: SURVEYOR NAME(S) | Z1: YR | AA1: MO | AB1: DAY | AC1: PAGE | AE1: OF
N2: ='Plot (1)'!N2:Y2 -> 0 | Z2: ='Plot (1)'!Z2 -> 2014 | AA2: ='Plot (1)'!AA2 -> 0 | AB2: ='Plot (1)'!AB2 -> 0 | AC2: 3 | AE2: 10
A3: MAPSHEET - OPENING NO. | G3: POLYGON | J3: LOCATION | W3: DISTRICT | Z3: TSA | AC3: BEC
A4: =CONCATENATE('Cover Sheet'!A6," ",'Cover Sheet'!C6," ",'Cover Sheet'!E6) | G4: ='Cover Sheet'!G6 -> 0 | J4: ='Plot (1)'!J4:V4 -> 0 | W4: ='Plot (1)'!W4:Y4 -> 0 | Z4: ='Plot (1)'!Z4:AB4 -> 0 | AC4: ='Plot (1)'!AC4:AF4 -> 0
A5: POINT OF COMMENCEMENT / BEARING & DISTANCE TO THIS PLOT | W5: UTM ZONE | Y5: EASTING | AC5: NORTHING
W6: ='Plot (1)'!W6:X6 -> 0
A7: PLOT NO. (3.99m) | F7: MITD (ORIG) | H7: M-VALUE (ORIG) | J7: FOREST HEALTH DAMAGE AGENTS | V7: PREF./ACC. | X7: PREFERRED SPP (ORIG): | AB7: ='Plot (1)'!AB7:AF8 -> No species listed
F8: ='Plot (1)'!F8:G8 -> 2 | H8: ='Plot (1)'!H8:I8 -> 0
A9: TREE SPP | C9: LAYER | D9: LIVE TREES | E9: LIVE CON. | F9: DEAD TREES | G9: DEAD CON. | H9: WS | I9: FG | J9: LIVE | K9: DEAD | L9: LIVE | M9: DEAD | N9: LIVE | O9: DEAD | P9: LIVE | Q9: DEAD | R9: LIVE | S9: DEAD | T9: LIVE | U9: DEAD | V9: WS | W9: FG | X9: ACCEPTABLE SPP (ORIG): | AB9: ='Plot (1)'!AB9:AF9 -> No species listed
C10: TOTALS> | D10: =SUM(D11:D40) -> 0 | E10: =SUM(E11:E40) -> 0 | F10: =SUM(F11:F40) -> 0 | G10: =SUM(G11:G40) -> 0 | H10: =SUM(H11:H40) -> 0 | I10: =SUM(I11:I40) -> 0 | J10: =SUM(J11:J40) -> 0 | K10: =SUM(K11:K40) -> 0 | ... W10: =SUM(W11:W40) -> 0 | X10: DATA VOLUME TREES | AC10: GROWTH INTERCEPT SAMPLE (5.64m)
C11: 1 | X11: L/D | Y11: SPP | Z11: DBH | AA11: HT | AB11: FHF
C12: 2 | X12: L | AC12: SPP
C13: 3 | X13: L | AC13: DBH
C14: 1 | X14: L | AC14: TOT HT
C15: 2 | X15: L | AC15: AGE@1.3M
C16: 3 | X16: L | AC16: SITE INDEX
C17: 1 | X17: L | AC17: NOTES
C18: 2 | X18: L
C19: 3 | X19: L
C20: 1 | X20: L
C21: 2 | X21: L
C22: 3 | X22: L
C23: 1 | X23: L
C24: 2 | X24: L
C25: 3 | X25: L
C26: 1 | X26: L
C27: 2 | X27: L
C28: 3 | X28: L
C29: 1 | X29: L
... C40: 3 | X40: L
A41: ACCESS NOTES: | V41: INVENTORY LABEL | AB41: Minor Spp. | AF41: CR CL
V42: Ldg Spp | Y42: 2 nd Spp
V43: % | W43: Age | X43: Ht(m) | Y43: % | Z43: Age | AA43: Ht(m) | AB43: % | AC43: % | AD43: % | AE43: % | AF43: %

Sheet Plot (4)
G1: STAND DEVELOPMENT MONITORING FIELD CARD | N1: SURVEYOR NAME(S) | Z1: YR | AA1: MO | AB1: DAY | AC1: PAGE | AE1: OF
N2: ='Plot (1)'!N2:Y2 -> 0 | Z2: ='Plot (1)'!Z2 -> 2014 | AA2: ='Plot (1)'!AA2 -> 0 | AB2: ='Plot (1)'!AB2 -> 0 | AC2: 4 | AE2: 10
A3: MAPSHEET - OPENING NO. | G3: POLYGON | J3: LOCATION | W3: DISTRICT | Z3: TSA | AC3: BEC
A4: =CONCATENATE('Cover Sheet'!A6," ",'Cover Sheet'!C6," ",'Cover Sheet'!E6) | G4: ='Cover Sheet'!G6 -> 0 | J4: ='Plot (1)'!J4:V4 -> 0 | W4: ='Plot (1)'!W4:Y4 -> 0 | Z4: ='Plot (1)'!Z4:AB4 -> 0 | AC4: ='Plot (1)'!AC4:AF4 -> 0
A5: POINT OF COMMENCEMENT / BEARING & DISTANCE TO THIS PLOT | W5: UTM ZONE | Y5: EASTING | AC5: NORTHING
W6: ='Plot (1)'!W6:X6 -> 0
A7: PLOT NO. (3.99m) | F7: MITD (ORIG) | H7: M-VALUE (ORIG) | J7: FOREST HEALTH DAMAGE AGENTS | V7: PREF./ACC. | X7: PREFERRED SPP (ORIG) | AB7: ='Plot (1)'!AB7:AF8 -> No species listed
F8: ='Plot (1)'!F8:G8 -> 2 | H8: ='Plot (1)'!H8:I8 -> 0
A9: TREE SPP | C9: LAYER | D9: LIVE TREES | E9: LIVE CON. | F9: DEAD TREES | G9: DEAD CON. | H9: WS | I9: FG | J9: LIVE | K9: DEAD | L9: LIVE | M9: DEAD | N9: LIVE | O9: DEAD | P9: LIVE | Q9: DEAD | R9: LIVE | S9: DEAD | T9: LIVE | U9: DEAD | V9: WS | W9: FG | X9: ACCEPTABLE SPP (ORIG) | AB9: ='Plot (1)'!AB9:AF9 -> No species listed
C10: TOTALS> | D10: =SUM(D11:D40) -> 0 | E10: =SUM(E11:E40) -> 0 | F10: =SUM(F11:F40) -> 0 | G10: =SUM(G11:G40) -> 0 | H10: =SUM(H11:H40) -> 0 | I10: =SUM(I11:I40) -> 0 | J10: =SUM(J11:J40) -> 0 | K10: =SUM(K11:K40) -> 0 | ... W10: =SUM(W11:W40) -> 0 | X10: DATA VOLUME TREES | AC10: GROWTH INTERCEPT SAMPLE (5.64m)
C11: 1 | X11: L/D | Y11: SPP | Z11: DBH | AA11: HT | AB11: FHF
C12: 2 | X12: L | AC12: SPP
C13: 3 | X13: L | AC13: DBH
C14: 1 | X14: L | AC14: TOT HT
C15: 2 | X15: L | AC15: AGE@1.3M
C16: 3 | X16: L | AC16: SITE INDEX
C17: 1 | X17: L | AC17: NOTES
C18: 2 | X18: L
C19: 3 | X19: L
C20: 1 | X20: L
C21: 2 | X21: L
C22: 3 | X22: L
C23: 1 | X23: L
C24: 2 | X24: L
C25: 3 | X25: L
C26: 1 | X26: L
C27: 2 | X27: L
C28: 3 | X28: L
C29: 1 | X29: L
... C40: 3 | X40: L
A41: ACCESS NOTES: | V41: INVENTORY LABEL | AB41: Minor Spp. | AF41: CR CL
V42: Ldg Spp | Y42: 2 nd Spp
V43: % | W43: Age | X43: Ht(m) | Y43: % | Z43: Age | AA43: Ht(m) | AB43: % | AC43: % | AD43: % | AE43: % | AF43: %

Sheet Plot (5)
G1: STAND DEVELOPMENT MONITORING FIELD CARD | N1: SURVEYOR NAME(S) | Z1: YR | AA1: MO | AB1: DAY | AC1: PAGE | AE1: OF
N2: ='Plot (1)'!N2:Y2 -> 0 | Z2: ='Plot (1)'!Z2 -> 2014 | AA2: ='Plot (1)'!AA2 -> 0 | AB2: ='Plot (1)'!AB2 -> 0 | AC2: 5 | AE2: 10
A3: MAPSHEET - OPENING NO. | G3: POLYGON | J3: LOCATION | W3: DISTRICT | Z3: TSA | AC3: BEC
A4: =CONCATENATE('Cover Sheet'!A6," ",'Cover Sheet'!C6," ",'Cover Sheet'!E6) | G4: ='Cover Sheet'!G6 -> 0 | J4: ='Plot (1)'!J4:V4 -> 0 | W4: ='Plot (1)'!W4:Y4 -> 0 | Z4: ='Plot (1)'!Z4:AB4 -> 0 | AC4: ='Plot (1)'!AC4:AF4 -> 0
A5: POINT OF COMMENCEMENT / BEARING & DISTANCE TO THIS PLOT | W5: UTM ZONE | Y5: EASTING | AC5: NORTHING
W6: ='Plot (1)'!W6:X6 -> 0
A7: PLOT NO. (3.99m) | F7: MITD (ORIG) | H7: M-VALUE (ORIG) | J7: FOREST HEALTH DAMAGE AGENTS | V7: PREF./ACC. | X7: PREFERRED SPP (ORIG): | AB7: ='Plot (1)'!AB7:AF8 -> No species listed
F8: ='Plot (1)'!F8:G8 -> 2 | H8: ='Plot (1)'!H8:I8 -> 0
A9: TREE SPP | C9: LAYER | D9: LIVE TREES | E9: LIVE CON. | F9: DEAD TREES | G9: DEAD CON. | H9: WS | I9: FG | J9: LIVE | K9: DEAD | L9: LIVE | M9: DEAD | N9: LIVE | O9: DEAD | P9: LIVE | Q9: DEAD | R9: LIVE | S9: DEAD | T9: LIVE | U9: DEAD | V9: WS | W9: FG | X9: ACCEPTABLE SPP (ORIG): | AB9: ='Plot (1)'!AB9:AF9 -> No species listed
C10: TOTALS> | D10: =SUM(D11:D40) -> 0 | E10: =SUM(E11:E40) -> 0 | F10: =SUM(F11:F40) -> 0 | G10: =SUM(G11:G40) -> 0 | H10: =SUM(H11:H40) -> 0 | I10: =SUM(I11:I40) -> 0 | J10: =SUM(J11:J40) -> 0 | K10: =SUM(K11:K40) -> 0 | ... W10: =SUM(W11:W40) -> 0 | X10: DATA VOLUME TREES | AC10: GROWTH INTERCEPT SAMPLE (5.64m)
C11: 1 | X11: L/D | Y11: SPP | Z11: DBH | AA11: HT | AB11: FHF
C12: 2 | X12: L | AC12: SPP
C13: 3 | X13: L | AC13: DBH
C14: 1 | X14: L | AC14: TOT HT
C15: 2 | X15: L | AC15: AGE@1.3M
C16: 3 | X16: L | AC16: SITE INDEX
C17: 1 | X17: L | AC17: NOTES
C18: 2 | X18: L
C19: 3 | X19: L
C20: 1 | X20: L
C21: 2 | X21: L
C22: 3 | X22: L
C23: 1 | X23: L
C24: 2 | X24: L
C25: 3 | X25: L
C26: 1 | X26: L
C27: 2 | X27: L
C28: 3 | X28: L
C29: 1 | X29: L
... C40: 3 | X40: L
A41: ACCESS NOTES: | V41: INVENTORY LABEL | AB41: Minor Spp. | AF41: CR CL
V42: Ldg Spp | Y42: 2 nd Spp
V43: % | W43: Age | X43: Ht(m) | Y43: % | Z43: Age | AA43: Ht(m) | AB43: % | AC43: % | AD43: % | AE43: % | AF43: %

Sheet Plot (6)
G1: STAND DEVELOPMENT MONITORING FIELD CARD | N1: SURVEYOR NAME(S) | Z1: YR | AA1: MO | AB1: DAY | AC1: PAGE | AE1: OF
N2: ='Plot (1)'!N2:Y2 -> 0 | Z2: ='Plot (1)'!Z2 -> 2014 | AA2: ='Plot (1)'!AA2 -> 0 | AB2: ='Plot (1)'!AB2 -> 0 | AC2: 6 | AE2: 10
A3: MAPSHEET - OPENING NO. | G3: POLYGON | J3: LOCATION | W3: DISTRICT | Z3: TSA | AC3: BEC
A4: =CONCATENATE('Cover Sheet'!A6," ",'Cover Sheet'!C6," ",'Cover Sheet'!E6) | G4: ='Cover Sheet'!G6 -> 0 | J4: ='Plot (1)'!J4:V4 -> 0 | W4: ='Plot (1)'!W4:Y4 -> 0 | Z4: ='Plot (1)'!Z4:AB4 -> 0 | AC4: ='Plot (1)'!AC4:AF4 -> 0
A5: POINT OF COMMENCEMENT / BEARING & DISTANCE TO THIS PLOT | W5: UTM ZONE | Y5: EASTING | AC5: NORTHING
W6: ='Plot (1)'!W6:X6 -> 0
A7: PLOT NO. (3.99m) | F7: MITD (ORIG) | H7: M-VALUE (ORIG) | J7: FOREST HEALTH DAMAGE AGENTS | V7: PREF./ACC. | X7: PREFERRED SPP (ORIG): | AB7: ='Plot (1)'!AB7:AF8 -> No species listed
F8: ='Plot (1)'!F8:G8 -> 2 | H8: ='Plot (1)'!H8:I8 -> 0
A9: TREE SPP | C9: LAYER | D9: LIVE TREES | E9: LIVE CON. | F9: DEAD TREES | G9: DEAD CON. | H9: WS | I9: FG | J9: LIVE | K9: DEAD | L9: LIVE | M9: DEAD | N9: LIVE | O9: DEAD | P9: LIVE | Q9: DEAD | R9: LIVE | S9: DEAD | T9: LIVE | U9: DEAD | V9: WS | W9: FG | X9: ACCEPTABLE SPP (ORIG): | AB9: ='Plot (1)'!AB9:AF9 -> No species listed
C10: TOTALS> | D10: =SUM(D11:D40) -> 0 | E10: =SUM(E11:E40) -> 0 | F10: =SUM(F11:F40) -> 0 | G10: =SUM(G11:G40) -> 0 | H10: =SUM(H11:H40) -> 0 | I10: =SUM(I11:I40) -> 0 | J10: =SUM(J11:J40) -> 0 | K10: =SUM(K11:K40) -> 0 | ... W10: =SUM(W11:W40) -> 0 | X10: DATA VOLUME TREES | AC10: GROWTH INTERCEPT SAMPLE (5.64m)
C11: 1 | X11: L/D | Y11: SPP | Z11: DBH | AA11: HT | AB11: FHF
C12: 2 | X12: L | AC12: SPP
C13: 3 | X13: L | AC13: DBH
C14: 1 | X14: L | AC14: TOT HT
C15: 2 | X15: L | AC15: AGE@1.3M
C16: 3 | X16: L | AC16: SITE INDEX
C17: 1 | X17: L | AC17: NOTES
C18: 2 | X18: L
C19: 3 | X19: L
C20: 1 | X20: L
C21: 2 | X21: L
C22: 3 | X22: L
C23: 1 | X23: L
C24: 2 | X24: L
C25: 3 | X25: L
C26: 1 | X26: L
C27: 2 | X27: L
C28: 3 | X28: L
C29: 1 | X29: L
... C40: 3 | X40: L
A41: ACCESS NOTES: | V41: INVENTORY LABEL | AB41: Minor Spp. | AF41: CR CL
V42: Ldg Spp | Y42: 2 nd Spp
V43: % | W43: Age | X43: Ht(m) | Y43: % | Z43: Age | AA43: Ht(m) | AB43: % | AC43: % | AD43: % | AE43: % | AF43: %

Sheet Plot (7)
G1: STAND DEVELOPMENT MONITORING FIELD CARD | N1: SURVEYOR NAME(S) | Z1: YR | AA1: MO | AB1: DAY | AC1: PAGE | AE1: OF
N2: ='Plot (1)'!N2:Y2 -> 0 | Z2: ='Plot (1)'!Z2 -> 2014 | AA2: ='Plot (1)'!AA2 -> 0 | AB2: ='Plot (1)'!AB2 -> 0 | AC2: 7 | AE2: 10
A3: MAPSHEET - OPENING NO. | G3: POLYGON | J3: LOCATION | W3: DISTRICT | Z3: TSA | AC3: BEC
A4: =CONCATENATE('Cover Sheet'!A6," ",'Cover Sheet'!C6," ",'Cover Sheet'!E6) | G4: ='Cover Sheet'!G6 -> 0 | J4: ='Plot (1)'!J4:V4 -> 0 | W4: ='Plot (1)'!W4:Y4 -> 0 | Z4: ='Plot (1)'!Z4:AB4 -> 0 | AC4: ='Plot (1)'!AC4:AF4 -> 0
A5: POINT OF COMMENCEMENT / BEARING & DISTANCE TO THIS PLOT | W5: UTM ZONE | Y5: EASTING | AC5: NORTHING
W6: ='Plot (1)'!W6:X6 -> 0
A7: PLOT NO. (3.99m) | F7: MITD (ORIG) | H7: M-VALUE (ORIG) | J7: FOREST HEALTH DAMAGE AGENTS | V7: PREF./ACC. | X7: PREFERRED SPP (ORIG): | AB7: ='Plot (1)'!AB7:AF8 -> No species listed
F8: ='Plot (1)'!F8:G8 -> 2 | H8: ='Plot (1)'!H8:I8 -> 0
A9: TREE SPP | C9: LAYER | D9: LIVE TREES | E9: LIVE CON. | F9: DEAD TREES | G9: DEAD CON. | H9: WS | I9: FG | J9: LIVE | K9: DEAD | L9: LIVE | M9: DEAD | N9: LIVE | O9: DEAD | P9: LIVE | Q9: DEAD | R9: LIVE | S9: DEAD | T9: LIVE | U9: DEAD | V9: WS | W9: FG | X9: ACCEPTABLE SPP (ORIG): | AB9: ='Plot (1)'!AB9:AF9 -> No species listed
C10: TOTALS> | D10: =SUM(D11:D40) -> 0 | E10: =SUM(E11:E40) -> 0 | F10: =SUM(F11:F40) -> 0 | G10: =SUM(G11:G40) -> 0 | H10: =SUM(H11:H40) -> 0 | I10: =SUM(I11:I40) -> 0 | J10: =SUM(J11:J40) -> 0 | K10: =SUM(K11:K40) -> 0 | ... W10: =SUM(W11:W40) -> 0 | X10: DATA VOLUME TREES | AC10: GROWTH INTERCEPT SAMPLE (5.64m)
C11: 1 | X11: L/D | Y11: SPP | Z11: DBH | AA11: HT | AB11: FHF
C12: 2 | X12: L | AC12: SPP
C13: 3 | X13: L | AC13: DBH
C14: 1 | X14: L | AC14: TOT HT
C15: 2 | X15: L | AC15: AGE@1.3M
C16: 3 | X16: L | AC16: SITE INDEX
C17: 1 | X17: L | AC17: NOTES
C18: 2 | X18: L
C19: 3 | X19: L
C20: 1 | X20: L
C21: 2 | X21: L
C22: 3 | X22: L
C23: 1 | X23: L
C24: 2 | X24: L
C25: 3 | X25: L
C26: 1 | X26: L
C27: 2 | X27: L
C28: 3 | X28: L
C29: 1 | X29: L
... C40: 3 | X40: L
A41: ACCESS NOTES: | V41: INVENTORY LABEL | AB41: Minor Spp. | AF41: CR CL
V42: Ldg Spp | Y42: 2 nd Spp
V43: % | W43: Age | X43: Ht(m) | Y43: % | Z43: Age | AA43: Ht(m) | AB43: % | AC43: % | AD43: % | AE43: % | AF43: %

Sheet Plot (8)
G1: STAND DEVELOPMENT MONITORING FIELD CARD | N1: SURVEYOR NAME(S) | Z1: YR | AA1: MO | AB1: DAY | AC1: PAGE | AE1: OF
N2: ='Plot (1)'!N2:Y2 -> 0 | Z2: ='Plot (1)'!Z2 -> 2014 | AA2: ='Plot (1)'!AA2 -> 0 | AB2: ='Plot (1)'!AB2 -> 0 | AC2: 8 | AE2: 10
A3: MAPSHEET - OPENING NO. | G3: POLYGON | J3: LOCATION | W3: DISTRICT | Z3: TSA | AC3: BEC
A4: =CONCATENATE('Cover Sheet'!A6," ",'Cover Sheet'!C6," ",'Cover Sheet'!E6) | G4: ='Cover Sheet'!G6 -> 0 | J4: ='Plot (1)'!J4:V4 -> 0 | W4: ='Plot (1)'!W4:Y4 -> 0 | Z4: ='Plot (1)'!Z4:AB4 -> 0 | AC4: ='Plot (1)'!AC4:AF4 -> 0
A5: POINT OF COMMENCEMENT / BEARING & DISTANCE TO THIS PLOT | W5: UTM ZONE | Y5: EASTING | AC5: NORTHING
W6: ='Plot (1)'!W6:X6 -> 0
A7: PLOT NO. (3.99m) | F7: MITD (ORIG) | H7: M-VALUE (ORIG) | J7: FOREST HEALTH DAMAGE AGENTS | V7: PREF./ACC. | X7: PREFERRED SPP (ORIG): | AB7: ='Plot (1)'!AB7:AF8 -> No species listed
F8: ='Plot (1)'!F8:G8 -> 2 | H8: ='Plot (1)'!H8:I8 -> 0
A9: TREE SPP | C9: LAYER | D9: LIVE TREES | E9: LIVE CON. | F9: DEAD TREES | G9: DEAD CON. | H9: WS | I9: FG | J9: LIVE | K9: DEAD | L9: LIVE | M9: DEAD | N9: LIVE | O9: DEAD | P9: LIVE | Q9: DEAD | R9: LIVE | S9: DEAD | T9: LIVE | U9: DEAD | V9: WS | W9: FG | X9: ACCEPTABLE SPP (ORIG): | AB9: ='Plot (1)'!AB9:AF9 -> No species listed
C10: TOTALS> | D10: =SUM(D11:D40) -> 0 | E10: =SUM(E11:E40) -> 0 | F10: =SUM(F11:F40) -> 0 | G10: =SUM(G11:G40) -> 0 | H10: =SUM(H11:H40) -> 0 | I10: =SUM(I11:I40) -> 0 | J10: =SUM(J11:J40) -> 0 | K10: =SUM(K11:K40) -> 0 | ... W10: =SUM(W11:W40) -> 0 | X10: DATA VOLUME TREES | AC10: GROWTH INTERCEPT SAMPLE (5.64m)
C11: 1 | X11: L/D | Y11: SPP | Z11: DBH | AA11: HT | AB11: FHF
C12: 2 | X12: L | AC12: SPP
C13: 3 | X13: L | AC13: DBH
C14: 1 | X14: L | AC14: TOT HT
C15: 2 | X15: L | AC15: AGE@1.3M
C16: 3 | X16: L | AC16: SITE INDEX
C17: 1 | X17: L | AC17: NOTES
C18: 2 | X18: L
C19: 3 | X19: L
C20: 1 | X20: L
C21: 2 | X21: L
C22: 3 | X22: L
C23: 1 | X23: L
C24: 2 | X24: L
C25: 3 | X25: L
C26: 1 | X26: L
C27: 2 | X27: L
C28: 3 | X28: L
C29: 1 | X29: L
... C40: 3 | X40: L
A41: ACCESS NOTES: | V41: INVENTORY LABEL | AB41: Minor Spp. | AF41: CR CL
V42: Ldg Spp | Y42: 2 nd Spp
V43: % | W43: Age | X43: Ht(m) | Y43: % | Z43: Age | AA43: Ht(m) | AB43: % | AC43: % | AD43: % | AE43: % | AF43: %

Sheet Plot (9)
G1: STAND DEVELOPMENT MONITORING FIELD CARD | N1: SURVEYOR NAME(S) | Z1: YR | AA1: MO | AB1: DAY | AC1: PAGE | AE1: OF
N2: ='Plot (1)'!N2:Y2 -> 0 | Z2: ='Plot (1)'!Z2 -> 2014 | AA2: ='Plot (1)'!AA2 -> 0 | AB2: ='Plot (1)'!AB2 -> 0 | AC2: 9 | AE2: 10
A3: MAPSHEET - OPENING NO. | G3: POLYGON | J3: LOCATION | W3: DISTRICT | Z3: TSA | AC3: BEC
A4: =CONCATENATE('Cover Sheet'!A6," ",'Cover Sheet'!C6," ",'Cover Sheet'!E6) | G4: ='Cover Sheet'!G6 -> 0 | J4: ='Plot (1)'!J4:V4 -> 0 | W4: ='Plot (1)'!W4:Y4 -> 0 | Z4: ='Plot (1)'!Z4:AB4 -> 0 | AC4: ='Plot (1)'!AC4:AF4 -> 0
A5: POINT OF COMMENCEMENT / BEARING & DISTANCE TO THIS PLOT | W5: UTM ZONE | Y5: EASTING | AC5: NORTHING
W6: ='Plot (1)'!W6:X6 -> 0
A7: PLOT NO. (3.99m) | F7: MITD (ORIG) | H7: M-VALUE (ORIG) | J7: FOREST HEALTH DAMAGE AGENTS | V7: PREF./ACC. | X7: PREFERRED SPP (ORIG): | AB7: ='Plot (1)'!AB7:AF8 -> No species listed
F8: ='Plot (1)'!F8:G8 -> 2 | H8: ='Plot (1)'!H8:I8 -> 0
A9: TREE SPP | C9: LAYER | D9: LIVE TREES | E9: LIVE CON. | F9: DEAD TREES | G9: DEAD CON. | H9: WS | I9: FG | J9: LIVE | K9: DEAD | L9: LIVE | M9: DEAD | N9: LIVE | O9: DEAD | P9: LIVE | Q9: DEAD | R9: LIVE | S9: DEAD | T9: LIVE | U9: DEAD | V9: WS | W9: FG | X9: ACCEPTABLE SPP (ORIG): | AB9: ='Plot (1)'!AB9:AF9 -> No species listed
C10: TOTALS> | D10: =SUM(D11:D40) -> 0 | E10: =SUM(E11:E40) -> 0 | F10: =SUM(F11:F40) -> 0 | G10: =SUM(G11:G40) -> 0 | H10: =SUM(H11:H40) -> 0 | I10: =SUM(I11:I40) -> 0 | J10: =SUM(J11:J40) -> 0 | K10: =SUM(K11:K40) -> 0 | ... W10: =SUM(W11:W40) -> 0 | X10: DATA VOLUME TREES | AC10: GROWTH INTERCEPT SAMPLE (5.64m)
C11: 1 | X11: L/D | Y11: SPP | Z11: DBH | AA11: HT | AB11: FHF
C12: 2 | X12: L | AC12: SPP
C13: 3 | X13: L | AC13: DBH
C14: 1 | X14: L | AC14: TOT HT
C15: 2 | X15: L | AC15: AGE@1.3M
C16: 3 | X16: L | AC16: SITE INDEX
C17: 1 | X17: L | AC17: NOTES
C18: 2 | X18: L
C19: 3 | X19: L
C20: 1 | X20: L
C21: 2 | X21: L
C22: 3 | X22: L
C23: 1 | X23: L
C24: 2 | X24: L
C25: 3 | X25: L
C26: 1 | X26: L
C27: 2 | X27: L
C28: 3 | X28: L
C29: 1 | X29: L
... C40: 3 | X40: L
A41: ACCESS NOTES: | V41: INVENTORY LABEL | AB41: Minor Spp. | AF41: CR CL
V42: Ldg Spp | Y42: 2 nd Spp
V43: % | W43: Age | X43: Ht(m) | Y43: % | Z43: Age | AA43: Ht(m) | AB43: % | AC43: % | AD43: % | AE43: % | AF43: %

Sheet Plot (10)
G1: STAND DEVELOPMENT MONITORING FIELD CARD | N1: SURVEYOR NAME(S) | Z1: YR | AA1: MO | AB1: DAY | AC1: PAGE | AE1: OF
N2: ='Plot (1)'!N2:Y2 -> 0 | Z2: ='Plot (1)'!Z2 -> 2014 | AA2: ='Plot (1)'!AA2 -> 0 | AB2: ='Plot (1)'!AB2 -> 0 | AC2: 10 | AE2: 10
A3: MAPSHEET - OPENING NO. | G3: POLYGON | J3: LOCATION | W3: DISTRICT | Z3: TSA | AC3: BEC
A4: =CONCATENATE('Cover Sheet'!A6," ",'Cover Sheet'!C6," ",'Cover Sheet'!E6) | G4: ='Cover Sheet'!G6 -> 0 | J4: ='Plot (1)'!J4:V4 -> 0 | W4: ='Plot (1)'!W4:Y4 -> 0 | Z4: ='Plot (1)'!Z4:AB4 -> 0 | AC4: ='Plot (1)'!AC4:AF4 -> 0
A5: POINT OF COMMENCEMENT / BEARING & DISTANCE TO THIS PLOT | W5: UTM ZONE | Y5: EASTING | AC5: NORTHING
W6: ='Plot (1)'!W6:X6 -> 0
A7: PLOT NO. (3.99m) | F7: MITD (ORIG) | H7: M-VALUE (ORIG) | J7: FOREST HEALTH DAMAGE AGENTS | V7: PREF./ACC. | X7: PREFERRED SPP (ORIG): | AB7: ='Plot (1)'!AB7:AF8 -> No species listed
F8: ='Plot (1)'!F8:G8 -> 2 | H8: ='Plot (1)'!H8:I8 -> 0
A9: TREE SPP | C9: LAYER | D9: TOTAL TREES | E9: TOTAL CON. | F9: DEAD TREES | G9: DEAD CON. | H9: WS | I9: FG | J9: LIVE | K9: DEAD | L9: LIVE | M9: DEAD | N9: LIVE | O9: DEAD | P9: LIVE | Q9: DEAD | R9: LIVE | S9: DEAD | T9: LIVE | U9: DEAD | V9: WS | W9: FG | X9: ACCEPTABLE SPP (ORIG): | AB9: ='Plot (1)'!AB9:AF9 -> No species listed
C10: TOTALS> | D10: =SUM(D11:D40) -> 0 | E10: =SUM(E11:E40) -> 0 | F10: =SUM(F11:F40) -> 0 | G10: =SUM(G11:G40) -> 0 | H10: =SUM(H11:H40) -> 0 | I10: =SUM(I11:I40) -> 0 | J10: =SUM(J11:J40) -> 0 | K10: =SUM(K11:K40) -> 0 | ... W10: =SUM(W11:W40) -> 0 | X10: DATA VOLUME TREES | AC10: GROWTH INTERCEPT SAMPLE (5.64m)
C11: 1 | X11: L/D | Y11: SPP | Z11: DBH | AA11: HT | AB11: FHF
C12: 2 | X12: L | AC12: SPP
C13: 3 | X13: L | AC13: DBH
C14: 1 | X14: L | AC14: TOT HT
C15: 2 | X15: L | AC15: AGE@1.3M
C16: 3 | X16: L | AC16: SITE INDEX
C17: 1 | X17: L | AC17: NOTES
C18: 2 | X18: L
C19: 3 | X19: L
C20: 1 | X20: L
C21: 2 | X21: L
C22: 3 | X22: L
C23: 1 | X23: L
C24: 2 | X24: L | AH24: Once you are finished entering all the plot data, select the "Data" tab on the Toolbar and select "Refresh All" to update the calculated fields.
C25: 3 | X25: L
C26: 1 | X26: L
C27: 2 | X27: L
C28: 3 | X28: L
C29: 1 | X29: L
C30: 2 | X30: L
C31: 3 | X31: L
C32: 1 | X32: L
C33: 2 | X33: L
C34: 3 | X34: L
C35: 1 | X35: L
C36: 2 | X36: L
... C40: 3 | X40: L
A41: ACCESS NOTES: | V41: INVENTORY LABEL | AB41: Minor Spp. | AF41: CR CL
V42: Ldg Spp | Y42: 2 nd Spp
V43: % | W43: Age | X43: Ht(m) | Y43: % | Z43: Age | AA43: Ht(m) | AB43: % | AC43: % | AD43: % | AE43: % | AF43: %

Sheet SDM Polygon Summary
A1: TSA | B1: District | C1: Mapsheet | D1: Polygon | E1: Opening ID | F1: Forest Cover ID | G1: Polygon Area (ha) | H1: Disturbance Year | I1: Year Dec FG | J1: BEC | K1: Total Trees @ Dec (sph) | L1: Total Trees @ SDM (sph) | M1: Total Conifers @ SDM (sph) | N1: Total Trees @ SDM (sph) Layer 1 | O1: Total Trees @ SDM (sph) Layer 2 | P1: Total Trees @ SDM (sph) Layer 3 | Q1: WS @ Dec (sph) | R1: WS @ SDM (sph) | S1: WS (M) @ SDM (sph) | T1: FG @ Dec (sph) | U1: FG @ SDM (sph) | V1: FG (M) @ SDM (sph) | W1: WS LCL @ SDM (sph) CI 0.90 | X1: WS (M) LCL @ SDM (sph) CI 0.90 | Y1: FG LCL @ SDM (sph) CI 0.90 | Z1: FG (M) LCL @ SDM (sph) CI 0.90 | AA1: Inv Label Leading Spp @ Dec | AB1: % Spp 1 @ Dec | AC1: Inv Label Second Spp @ Dec | AD1: % Spp 2 @ Dec | AE1: Inv Label Third Spp @ Dec | AF1: % Spp 3 @ Dec | AG1: Inv Label Leading Spp @ SDM | AH1: % Spp 1 @ SDM | AI1: Inv Label Second Spp @ SDM | AJ1: % Spp 2 @ SDM | AK1: Inv Label Third Spp @ SDM | AL1: % Spp 3 @ SDM | AM1: Total Stand BA (m2/ha) | AN1: Healthy Tree BA (m2/ha) | AO1: FHF-affected BA (m2/ha) | AP1: Rust-affected BA (m2/ha) | AQ1: Root disease-affected BA (m2/ha) | AR1: IBM-affected BA (m2/ha) | AS1: Live Damaged Trees @ SDM (sph) | AT1: Dead Trees @ SDM (sph) | AU1: Dead Conifers @ SDM (sph) | AV1: Forest Health Factor 1 | AW1: % Total Trees Affected | AX1: Forest Health Factor 2 | AY1: % Total Trees Affected | AZ1: Forest Health Factor 3 | BA1: % Total Trees Affected | BB1: Forest Health Factor 4 | BC1: % Total Trees Affected | BD1: Forest Health Factor 5 | BE1: % Total Trees Affected | BF1: Forest Health Factor 6 | BG1: % Total Trees Affected | BH1: Forest Health Factor 7 | BI1: % Total Trees Affected | BJ1: Forest Health Factor 8 | BK1: % Total Trees Affected | BL1: Forest Health Factor 9 | BM1: % Total Trees Affected | BN1: Forest Health Factor 10 | BO1: % Total Trees Affected | BP1: SI @ Dec (m) | BQ1: SI @ SDM (m)
A2: ='Cover Sheet'!K3 -> 0 | B2: ='Cover Sheet'!K4 -> 0 | C2: =CONCATENATE('Cover Sheet'!A6," ",'Cover Sheet'!C6," ",'Cover Sheet'!E6) | D2: ='Cover Sheet'!G6 -> 0 | E2: ='Cover Sheet'!C7 -> 0 | F2: ='Cover Sheet'!C8 -> 0 | G2: ='Cover Sheet'!H7 -> 0 | H2: ='Cover Sheet'!H8 -> 0 | I2: ='Cover Sheet'!L8 -> 0 | J2: ='Cover Sheet'!K7 -> 0 | K2: ='Cover Sheet'!E15 -> 0 | L2: ='Density & Site Index'!G19 -> 0 | M2: ='Density & Site Index'!G20 -> 0 | N2: ='Density & Site Index'!C41 -> 0 | O2: ='Density & Site Index'!D41 -> 0 | P2: ='Density & Site Index'!E41 -> 0 | Q2: ='Cover Sheet'!E18 -> 0 | R2: ='LCL Calculator'!E17 -> 0 | S2: ='LCL Calculator'!F17 -> 0 | T2: ='Cover Sheet'!E19 -> 0 | U2: ='LCL Calculator'!G17 -> 0 | V2: ='LCL Calculator'!H17 -> 0 | W2: ='LCL Calculator'!P30 -> 0 | X2: ='LCL Calculator'!P16 -> 0 | Y2: ='LCL Calculator'!AA30 -> 0 | Z2: ='LCL Calculator'!AA16 -> 0 | AA2: ='Cover Sheet'!B27 -> 0 | AB2: ='Cover Sheet'!A29 -> 0 | AC2: ='Cover Sheet'!E27 -> 0 | AD2: ='Cover Sheet'!D29 -> 0 | AE2: ='Cover Sheet'!G27 -> 0 | AF2: ='Cover Sheet'!G29 -> 0 | AG2: ='Inventory Label'!C19 | AH2: =('Inventory Label'!D19)*10 -> #N/A | AI2: ='Inventory Label'!E19 | AJ2: =('Inventory Label'!F19)*10 -> #N/A | AK2: ='Inventory Label'!G19 | AL2: =('Inventory Label'!H19)*10 -> #N/A | AM2: ='BA and Volume Calculator'!Q29 -> 0 | AN2: ='BA and Volume Calculator'!Q31 -> 0 | AO2: ='BA and Volume Calculator'!Q33 -> 0 | AP2: ='BA and Volume Calculator'!Q35 -> 0 | AQ2: ='BA and Volume Calculator'!Q37 -> 0 | AR2: ='BA and Volume Calculator'!Q39 -> 0 | AS2: =('Forest Health Agents'!C116*200)/10 -> 0 | AT2: ='Density & Site Index'!G23 -> 0 | AU2: ='Density & Site Index'!G24 -> 0 | AV2: =IF('Forest Health Agents'!BF10>0, 'Forest Health Agents'!AX10, "N/A") -> N/A | AW2: =((('Forest Health Agents'!BF10/10)*200)/$L$2) -> #DIV/0! | AX2: =IF('Forest Health Agents'!BF11>0, 'Forest Health Agents'!AX11, "N/A") -> N/A | AY2: =((('Forest Health Agents'!BF11/10)*200)/$L$2) -> #DIV/0! | AZ2: =IF('Forest Health Agents'!BF12>0, 'Forest Health Agents'!AX12, "N/A") -> N/A | BA2: =((('Forest Health Agents'!BF12/10)*200)/$L$2) -> #DIV/0! | BB2: =IF('Forest Health Agents'!BF13>0, 'Forest Health Agents'!AX13, "N/A") -> N/A | BC2: =((('Forest Health Agents'!BF13/10)*200)/$L$2) -> #DIV/0! | BD2: =IF('Forest Health Agents'!BF14>0, 'Forest Health Agents'!AX14, "N/A") -> N/A | BE2: =((('Forest Health Agents'!BF14/10)*200)/$L$2) -> #DIV/0! | BF2: =IF('Forest Health Agents'!BF15>0, 'Forest Health Agents'!AX15, "N/A") -> N/A | BG2: =((('Forest Health Agents'!BF15/10)*200)/$L$2) -> #DIV/0! | BH2: =IF('Forest Health Agents'!BF16>0, 'Forest Health Agents'!AX16, "N/A") -> N/A | BI2: =((('Forest Health Agents'!BF16/10)*200)/$L$2) -> #DIV/0! | BJ2: =IF('Forest Health Agents'!BF17>0, 'Forest Health Agents'!AX17, "N/A") -> N/A | BK2: =((('Forest Health Agents'!BF17/10)*200)/$L$2) -> #DIV/0! | BL2: =IF('Forest Health Agents'!BF18>0, 'Forest Health Agents'!AX18, "N/A") -> N/A | BM2: =((('Forest Health Agents'!BF18/10)*200)/$L$2) -> #DIV/0! | BN2: =IF('Forest Health Agents'!BF19>0, 'Forest Health Agents'!AX19, "N/A") -> N/A | BO2: =((('Forest Health Agents'!BF19/10)*200)/$L$2) -> #DIV/0! | BP2: ='Cover Sheet'!L28 -> 0 | BQ2: =GETPIVOTDATA("Average",'Density & Site Index'!L21) -> #DIV/0!

Sheet Forest Health Agents
A1: PLOT | B1: TREE SPP | C1: LIVE LAYER 1 | D1: DEAD LAYER 1 | E1: LIVE LAYER 2 | F1: DEAD LAYER 2 | G1: LIVE LAYER 3 | H1: DEAD LAYER 3 | I1: LIVE LAYER 1 | J1: DEAD LAYER 1 | K1: LIVE LAYER 2 | L1: DEAD LAYER 2 | M1: LIVE LAYER 3 | N1: DEAD LAYER 3 | O1: LIVE LAYER 1 | P1: DEAD LAYER 1 | Q1: LIVE LAYER 2 | R1: DEAD LAYER 2 | S1: LIVE LAYER 3 | T1: DEAD LAYER 3 | U1: LIVE LAYER 1 | V1: DEAD LAYER 1 | W1: LIVE LAYER 2 | X1: DEAD LAYER 2 | Y1: LIVE LAYER 3 | Z1: DEAD LAYER 3 | AA1: LIVE LAYER 1 | AB1: DEAD LAYER 1 | AC1: LIVE LAYER 2 | AD1: DEAD LAYER 2 | AE1: LIVE LAYER 3 | AF1: DEAD LAYER 3 | AG1: LIVE LAYER 1 | AH1: DEAD LAYER 1 | AI1: LIVE LAYER 2 | AJ1: DEAD LAYER 2 | AK1: LIVE LAYER 3 | AL1: DEAD LAYER 3 | AN1: PLOT | AO1: FOREST HEALTH DAMAGE AGENTS | AP1: LIVE LAYER 1 | AQ1: DEAD LAYER 1 | AR1: LIVE LAYER 2 | AS1: DEAD LAYER 2 | AT1: LIVE LAYER 3 | AU1: DEAD LAYER 3 | AV1: Total Trees
A2: 1 | B2: FOREST HEALTH DAMAGE AGENTS | C2: =IF(CELL("type",('Plot (1)'!$J$8))="b","N/A",'Plot (1)'!$J$8) -> N/A | I2: =IF(CELL("type",('Plot (1)'!$L$8))="b","N/A",'Plot (1)'!$L$8) -> N/A | O2: =IF(CELL("type",('Plot (1)'!$N$8))="b","N/A",'Plot (1)'!$N$8) -> N/A | U2: =IF(CELL("type",('Plot (1)'!$P$8))="b","N/A",'Plot (1)'!$P$8) -> N/A | AA2: =IF(CELL("type",('Plot (1)'!$R$8))="b","N/A",'Plot (1)'!$R$8) -> N/A | AG2: =IF(CELL("type",('Plot (1)'!$T$8))="b","N/A",'Plot (1)'!$T$8) -> N/A | AN2: 1 | AO2: =+C2 -> N/A | AP2: =+SUM(C3:C12) -> 0 | AQ2: =+SUM(D3:D12) -> 0 | AR2: =+SUM(E3:E12) -> 0 | AS2: =+SUM(F3:F12) -> 0 | AT2: =+SUM(G3:G12) -> 0 | AU2: =+SUM(H3:H12) -> 0 | AV2: =SUM(AP2:AU2) -> 0 | BA2: Quick Plot Forest Health Agent Summary
A3: 1 | B3: =+'Plot (1)'!A$11 -> 0 | C3: ='Plot (1)'!J11 -> 0 | D3: ='Plot (1)'!K11 -> 0 | E3: ='Plot (1)'!J12 -> 0 | F3: ='Plot (1)'!K12 -> 0 | G3: ='Plot (1)'!J13 -> 0 | H3: ='Plot (1)'!K13 -> 0 | I3: ='Plot (1)'!L11 -> 0 | J3: ='Plot (1)'!M11 -> 0 | K3: ='Plot (1)'!L12 -> 0 | L3: ='Plot (1)'!M12 -> 0 | M3: ='Plot (1)'!L13 -> 0 | N3: ='Plot (1)'!M13 -> 0 | O3: ='Plot (1)'!N11 -> 0 | P3: ='Plot (1)'!O11 -> 0 | Q3: ='Plot (1)'!N12 -> 0 | R3: ='Plot (1)'!O12 -> 0 | S3: ='Plot (1)'!N13 -> 0 | T3: ='Plot (1)'!O13 -> 0 | U3: ='Plot (1)'!P11 -> 0 | V3: ='Plot (1)'!Q11 -> 0 | W3: ='Plot (1)'!P12 -> 0 | X3: ='Plot (1)'!Q12 -> 0 | Y3: ='Plot (1)'!P13 -> 0 | Z3: ='Plot (1)'!Q13 -> 0 | AA3: ='Plot (1)'!R11 -> 0 | AB3: ='Plot (1)'!S11 -> 0 | AC3: ='Plot (1)'!R12 -> 0 | AD3: ='Plot (1)'!S12 -> 0 | AE3: ='Plot (1)'!R13 -> 0 | AF3: ='Plot (1)'!S13 -> 0 | AG3: ='Plot (1)'!T11 -> 0 | AH3: ='Plot (1)'!U11 -> 0 | AI3: ='Plot (1)'!T12 -> 0 | AJ3: ='Plot (1)'!U12 -> 0 | AK3: ='Plot (1)'!T13 -> 0 | AL3: ='Plot (1)'!U13 -> 0 | AN3: 1 | AO3: =+I2 -> N/A | AP3: =+SUM(I3:I12) -> 0 | AQ3: =+SUM(J3:J12) -> 0 | AR3: =+SUM(K3:K12) -> 0 | AS3: =+SUM(L3:L12) -> 0 | AT3: =+SUM(M3:M12) -> 0 | AU3: =+SUM(N3:N12) -> 0 | AV3: =SUM(AP3:AU3) -> 0 | AY3: Mapsheet | AZ3: Polygon
A4: 1 | B4: =+'Plot (1)'!A$14 -> 0 | C4: ='Plot (1)'!J14 -> 0 | D4: ='Plot (1)'!K14 -> 0 | E4: ='Plot (1)'!J15 -> 0 | F4: ='Plot (1)'!K15 -> 0 | G4: ='Plot (1)'!J16 -> 0 | H4: ='Plot (1)'!K16 -> 0 | I4: ='Plot (1)'!L14 -> 0 | J4: ='Plot (1)'!M14 -> 0 | K4: ='Plot (1)'!L15 -> 0 | L4: ='Plot (1)'!M15 -> 0 | M4: ='Plot (1)'!L16 -> 0 | N4: ='Plot (1)'!M16 -> 0 | O4: ='Plot (1)'!N14 -> 0 | P4: ='Plot (1)'!O14 -> 0 | Q4: ='Plot (1)'!N15 -> 0 | R4: ='Plot (1)'!O15 -> 0 | S4: ='Plot (1)'!N16 -> 0 | T4: ='Plot (1)'!O16 -> 0 | U4: ='Plot (1)'!P14 -> 0 | V4: ='Plot (1)'!Q14 -> 0 | W4: ='Plot (1)'!P15 -> 0 | X4: ='Plot (1)'!Q15 -> 0 | Y4: ='Plot (1)'!P16 -> 0 | Z4: ='Plot (1)'!Q16 -> 0 | AA4: ='Plot (1)'!R14 -> 0 | AB4: ='Plot (1)'!S14 -> 0 | AC4: ='Plot (1)'!R15 -> 0 | AD4: ='Plot (1)'!S15 -> 0 | AE4: ='Plot (1)'!R16 -> 0 | AF4: ='Plot (1)'!S16 -> 0 | AG4: ='Plot (1)'!T14 -> 0 | AH4: ='Plot (1)'!U14 -> 0 | AI4: ='Plot (1)'!T15 -> 0 | AJ4: ='Plot (1)'!U15 -> 0 | AK4: ='Plot (1)'!T16 -> 0 | AL4: ='Plot (1)'!U16 -> 0 | AN4: 1 | AO4: =+O2 -> N/A | AP4: =+SUM(O3:O12) -> 0 | AQ4: =+SUM(P3:P12) -> 0 | AR4: =+SUM(Q3:Q12) -> 0 | AS4: =+SUM(R3:R12) -> 0 | AT4: =+SUM(S3:S12) -> 0 | AU4: =+SUM(T3:T12) -> 0 | AV4: =SUM(AP4:AU4) -> 0 | AY4: ='Plot (1)'!$A$4 | AZ4: ='Plot (1)'!$G$4 -> 0
A5: 1 | B5: =+'Plot (1)'!A$17 -> 0 | C5: ='Plot (1)'!J17 -> 0 | D5: ='Plot (1)'!K17 -> 0 | E5: ='Plot (1)'!J18 -> 0 | F5: ='Plot (1)'!K18 -> 0 | G5: ='Plot (1)'!J19 -> 0 | H5: ='Plot (1)'!K19 -> 0 | I5: ='Plot (1)'!L17 -> 0 | J5: ='Plot (1)'!M17 -> 0 | K5: ='Plot (1)'!L18 -> 0 | L5: ='Plot (1)'!M18 -> 0 | M5: ='Plot (1)'!L19 -> 0 | N5: ='Plot (1)'!M19 -> 0 | O5: ='Plot (1)'!N17 -> 0 | P5: ='Plot (1)'!O17 -> 0 | Q5: ='Plot (1)'!N18 -> 0 | R5: ='Plot (1)'!O18 -> 0 | S5: ='Plot (1)'!N19 -> 0 | T5: ='Plot (1)'!O19 -> 0 | U5: ='Plot (1)'!P17 -> 0 | V5: ='Plot (1)'!Q17 -> 0 | W5: ='Plot (1)'!P18 -> 0 | X5: ='Plot (1)'!Q18 -> 0 | Y5: ='Plot (1)'!P19 -> 0 | Z5: ='Plot (1)'!Q19 -> 0 | AA5: ='Plot (1)'!R17 -> 0 | AB5: ='Plot (1)'!S17 -> 0 | AC5: ='Plot (1)'!R18 -> 0 | AD5: ='Plot (1)'!S18 -> 0 | AE5: ='Plot (1)'!R19 -> 0 | AF5: ='Plot (1)'!S19 -> 0 | AG5: ='Plot (1)'!T17 -> 0 | AH5: ='Plot (1)'!U17 -> 0 | AI5: ='Plot (1)'!T18 -> 0 | AJ5: ='Plot (1)'!U18 -> 0 | AK5: ='Plot (1)'!T19 -> 0 | AL5: ='Plot (1)'!U19 -> 0 | AN5: 1 | AO5: =+U2 -> N/A | AP5: =+SUM(U3:U12) -> 0 | AQ5: =+SUM(V3:V12) -> 0 | AR5: =+SUM(W3:W12) -> 0 | AS5: =+SUM(X3:X12) -> 0 | AT5: =+SUM(Y3:Y12) -> 0 | AU5: =+SUM(Z3:Z12) -> 0 | AV5: =SUM(AP5:AU5) -> 0 | AX5: The FH Agent Summary tab does not require any input. It DOES require the user to "REFRESH" the sheet after new data entry (Data Menu > Refresh All)
A6: 1 | B6: =+'Plot (1)'!A$20 -> 0 | C6: ='Plot (1)'!J20 -> 0 | D6: ='Plot (1)'!K20 -> 0 | E6: ='Plot (1)'!J21 -> 0 | F6: ='Plot (1)'!K21 -> 0 | G6: ='Plot (1)'!J22 -> 0 | H6: ='Plot (1)'!K22 -> 0 | I6: ='Plot (1)'!L20 -> 0 | J6: ='Plot (1)'!M20 -> 0 | K6: ='Plot (1)'!L21 -> 0 | L6: ='Plot (1)'!M21 -> 0 | M6: ='Plot (1)'!L22 -> 0 | N6: ='Plot (1)'!M22 -> 0 | O6: ='Plot (1)'!N20 -> 0 | P6: ='Plot (1)'!O20 -> 0 | Q6: ='Plot (1)'!N21 -> 0 | R6: ='Plot (1)'!O21 -> 0 | S6: ='Plot (1)'!N22 -> 0 | T6: ='Plot (1)'!O22 -> 0 | U6: ='Plot (1)'!P20 -> 0 | V6: ='Plot (1)'!Q20 -> 0 | W6: ='Plot (1)'!P21 -> 0 | X6: ='Plot (1)'!Q21 -> 0 | Y6: ='Plot (1)'!P22 -> 0 | Z6: ='Plot (1)'!Q22 -> 0 | AA6: ='Plot (1)'!R20 -> 0 | AB6: ='Plot (1)'!S20 -> 0 | AC6: ='Plot (1)'!R21 -> 0 | AD6: ='Plot (1)'!S21 -> 0 | AE6: ='Plot (1)'!R22 -> 0 | AF6: ='Plot (1)'!S22 -> 0 | AG6: ='Plot (1)'!T20 -> 0 | AH6: ='Plot (1)'!U20 -> 0 | AI6: ='Plot (1)'!T21 -> 0 | AJ6: ='Plot (1)'!U21 -> 0 | AK6: ='Plot (1)'!T22 -> 0 | AL6: ='Plot (1)'!U22 -> 0 | AN6: 1 | AO6: =+AA2 -> N/A | AP6: =+SUM(AA3:AA12) -> 0 | AQ6: =+SUM(AB3:AB12) -> 0 | AR6: =+SUM(AC3:AC12) -> 0 | AS6: =+SUM(AD3:AD12) -> 0 | AT6: =+SUM(AE3:AE12) -> 0 | AU6: =+SUM(AF3:AF12) -> 0 | AV6: =SUM(AP6:AU6) -> 0
A7: 1 | B7: =+'Plot (1)'!A$23 -> 0 | C7: ='Plot (1)'!J23 -> 0 | D7: ='Plot (1)'!K23 -> 0 | E7: ='Plot (1)'!J24 -> 0 | F7: ='Plot (1)'!K24 -> 0 | G7: ='Plot (1)'!J25 -> 0 | H7: ='Plot (1)'!K25 -> 0 | I7: ='Plot (1)'!L23 -> 0 | J7: ='Plot (1)'!M23 -> 0 | K7: ='Plot (1)'!L24 -> 0 | L7: ='Plot (1)'!M24 -> 0 | M7: ='Plot (1)'!L25 -> 0 | N7: ='Plot (1)'!M25 -> 0 | O7: ='Plot (1)'!N23 -> 0 | P7: ='Plot (1)'!O23 -> 0 | Q7: ='Plot (1)'!N24 -> 0 | R7: ='Plot (1)'!O24 -> 0 | S7: ='Plot (1)'!N25 -> 0 | T7: ='Plot (1)'!O25 -> 0 | U7: ='Plot (1)'!P23 -> 0 | V7: ='Plot (1)'!Q23 -> 0 | W7: ='Plot (1)'!P24 -> 0 | X7: ='Plot (1)'!Q24 -> 0 | Y7: ='Plot (1)'!P25 -> 0 | Z7: ='Plot (1)'!Q25 -> 0 | AA7: ='Plot (1)'!R23 -> 0 | AB7: ='Plot (1)'!S23 -> 0 | AC7: ='Plot (1)'!R24 -> 0 | AD7: ='Plot (1)'!S24 -> 0 | AE7: ='Plot (1)'!R25 -> 0 | AF7: ='Plot (1)'!S25 -> 0 | AG7: ='Plot (1)'!T23 -> 0 | AH7: ='Plot (1)'!U23 -> 0 | AI7: ='Plot (1)'!T24 -> 0 | AJ7: ='Plot (1)'!U24 -> 0 | AK7: ='Plot (1)'!T25 -> 0 | AL7: ='Plot (1)'!U25 -> 0 | AN7: 1 | AO7: =+AG2 -> N/A | AP7: =+SUM(AG3:AG12) -> 0 | AQ7: =+SUM(AH3:AH12) -> 0 | AR7: =+SUM(AI3:AI12) -> 0 | AS7: =+SUM(AJ3:AJ12) -> 0 | AT7: =+SUM(AK3:AK12) -> 0 | AU7: =+SUM(AL3:AL12) -> 0 | AV7: =SUM(AP7:AU7) -> 0
A8: 1 | B8: =+'Plot (1)'!A$26 -> 0 | C8: ='Plot (1)'!J26 -> 0 | D8: ='Plot (1)'!K26 -> 0 | E8: ='Plot (1)'!J27 -> 0 | F8: ='Plot (1)'!K27 -> 0 | G8: ='Plot (1)'!J28 -> 0 | H8: ='Plot (1)'!K28 -> 0 | I8: ='Plot (1)'!L26 -> 0 | J8: ='Plot (1)'!M26 -> 0 | K8: ='Plot (1)'!L27 -> 0 | L8: ='Plot (1)'!M27 -> 0 | M8: ='Plot (1)'!L28 -> 0 | N8: ='Plot (1)'!M28 -> 0 | O8: ='Plot (1)'!N26 -> 0 | P8: ='Plot (1)'!O26 -> 0 | Q8: ='Plot (1)'!N27 -> 0 | R8: ='Plot (1)'!O27 -> 0 | S8: ='Plot (1)'!N28 -> 0 | T8: ='Plot (1)'!O28 -> 0 | U8: ='Plot (1)'!P26 -> 0 | V8: ='Plot (1)'!Q26 -> 0 | W8: ='Plot (1)'!P27 -> 0 | X8: ='Plot (1)'!Q27 -> 0 | Y8: ='Plot (1)'!P28 -> 0 | Z8: ='Plot (1)'!Q28 -> 0 | AA8: ='Plot (1)'!R26 -> 0 | AB8: ='Plot (1)'!S26 -> 0 | AC8: ='Plot (1)'!R27 -> 0 | AD8: ='Plot (1)'!S27 -> 0 | AE8: ='Plot (1)'!R28 -> 0 | AF8: ='Plot (1)'!S28 -> 0 | AG8: ='Plot (1)'!T26 -> 0 | AH8: ='Plot (1)'!U26 -> 0 | AI8: ='Plot (1)'!T27 -> 0 | AJ8: ='Plot (1)'!U27 -> 0 | AK8: ='Plot (1)'!T28 -> 0 | AL8: ='Plot (1)'!U28 -> 0 | AN8: 2 | AO8: =+C13 -> N/A | AP8: =+SUM(C14:C23) -> 0 | AQ8: =+SUM(D14:D23) -> 0 | AR8: =+SUM(E14:E23) -> 0 | AS8: =+SUM(F14:F23) -> 0 | AT8: =+SUM(G14:G23) -> 0 | AU8: =+SUM(H14:H23) -> 0 | AV8: =SUM(AP8:AU8) -> 0 | AY8: Values | BF8: ROW | BG8: <-- NEEDED for auto-filling in SDM Summary
A9: 1 | B9: =+'Plot (1)'!A$29 -> 0 | C9: ='Plot (1)'!J29 -> 0 | D9: ='Plot (1)'!K29 -> 0 | E9: ='Plot (1)'!J30 -> 0 | F9: ='Plot (1)'!K30 -> 0 | G9: ='Plot (1)'!J31 -> 0 | H9: ='Plot (1)'!K31 -> 0 | I9: ='Plot (1)'!L29 -> 0 | J9: ='Plot (1)'!M29 -> 0 | K9: ='Plot (1)'!L30 -> 0 | L9: ='Plot (1)'!M30 -> 0 | M9: ='Plot (1)'!L31 -> 0 | N9: ='Plot (1)'!M31 -> 0 | O9: ='Plot (1)'!N29 -> 0 | P9: ='Plot (1)'!O29 -> 0 | Q9: ='Plot (1)'!N30 -> 0 | R9: ='Plot (1)'!O30 -> 0 | S9: ='Plot (1)'!N31 -> 0 | T9: ='Plot (1)'!O31 -> 0 | U9: ='Plot (1)'!P29 -> 0 | V9: ='Plot (1)'!Q29 -> 0 | W9: ='Plot (1)'!P30 -> 0 | X9: ='Plot (1)'!Q30 -> 0 | Y9: ='Plot (1)'!P31 -> 0 | Z9: ='Plot (1)'!Q31 -> 0 | AA9: ='Plot (1)'!R29 -> 0 | AB9: ='Plot (1)'!S29 -> 0 | AC9: ='Plot (1)'!R30 -> 0 | AD9: ='Plot (1)'!S30 -> 0 | AE9: ='Plot (1)'!R31 -> 0 | AF9: ='Plot (1)'!S31 -> 0 | AG9: ='Plot (1)'!T29 -> 0 | AH9: ='Plot (1)'!U29 -> 0 | AI9: ='Plot (1)'!T30 -> 0 | AJ9: ='Plot (1)'!U30 -> 0 | AK9: ='Plot (1)'!T31 -> 0 | AL9: ='Plot (1)'!U31 -> 0 | AN9: 2 | AO9: =+I13 -> N/A | AP9: =+SUM(I14:I23) -> 0 | AQ9: =+SUM(J14:J23) -> 0 | AR9: =+SUM(K14:K23) -> 0 | AS9: =+SUM(L14:L23) -> 0 | AT9: =+SUM(M14:M23) -> 0 | AU9: =+SUM(N14:N23) -> 0 | AV9: =SUM(AP9:AU9) -> 0 | AX9: Row Labels | AY9: Sum of LIVE LAYER 1 | AZ9: Sum of DEAD LAYER 1 | BA9: Sum of LIVE LAYER 2 | BB9: Sum of DEAD LAYER 2 | BC9: Sum of LIVE LAYER 3 | BD9: Sum of DEAD LAYER 3 | BE9: Sum of Total Trees | BF9: SUM | BG9: (only the top 10 are listed, because there are
A10: 1 | B10: =+'Plot (1)'!A$32 -> 0 | C10: ='Plot (1)'!J32 -> 0 | D10: ='Plot (1)'!K32 -> 0 | E10: ='Plot (1)'!J33 -> 0 | F10: ='Plot (1)'!K33 -> 0 | G10: ='Plot (1)'!J34 -> 0 | H10: ='Plot (1)'!K34 -> 0 | I10: ='Plot (1)'!L32 -> 0 | J10: ='Plot (1)'!M32 -> 0 | K10: ='Plot (1)'!L33 -> 0 | L10: ='Plot (1)'!M33 -> 0 | M10: ='Plot (1)'!L34 -> 0 | N10: ='Plot (1)'!M34 -> 0 | O10: ='Plot (1)'!N32 -> 0 | P10: ='Plot (1)'!O32 -> 0 | Q10: ='Plot (1)'!N33 -> 0 | R10: ='Plot (1)'!O33 -> 0 | S10: ='Plot (1)'!N34 -> 0 | T10: ='Plot (1)'!O34 -> 0 | U10: ='Plot (1)'!P32 -> 0 | V10: ='Plot (1)'!Q32 -> 0 | W10: ='Plot (1)'!P33 -> 0 | X10: ='Plot (1)'!Q33 -> 0 | Y10: ='Plot (1)'!P34 -> 0 | Z10: ='Plot (1)'!Q34 -> 0 | AA10: ='Plot (1)'!R32 -> 0 | AB10: ='Plot (1)'!S32 -> 0 | AC10: ='Plot (1)'!R33 -> 0 | AD10: ='Plot (1)'!S33 -> 0 | AE10: ='Plot (1)'!R34 -> 0 | AF10: ='Plot (1)'!S34 -> 0 | AG10: ='Plot (1)'!T32 -> 0 | AH10: ='Plot (1)'!U32 -> 0 | AI10: ='Plot (1)'!T33 -> 0 | AJ10: ='Plot (1)'!U33 -> 0 | AK10: ='Plot (1)'!T34 -> 0 | AL10: ='Plot (1)'!U34 -> 0 | AN10: 2 | AO10: =+O13 -> N/A | AP10: =+SUM(O14:O23) -> 0 | AQ10: =+SUM(P14:P23) -> 0 | AR10: =+SUM(Q14:Q23) -> 0 | AS10: =+SUM(R14:R23) -> 0 | AT10: =+SUM(S14:S23) -> 0 | AU10: =+SUM(T14:T23) -> 0 | AV10: =SUM(AP10:AU10) -> 0 | AX10: N/A | AY10: 0 | AZ10: 0 | BA10: 0 | BB10: 0 | BC10: 0 | BD10: 0 | BE10: 0 | BF10: =SUM(AY10:BD10) -> 0 | BG10: only 10 spaces in the SDM Polygon Summary for
A11: 1 | B11: =+'Plot (1)'!A$35 -> 0 | C11: ='Plot (1)'!J35 -> 0 | D11: ='Plot (1)'!K35 -> 0 | E11: ='Plot (1)'!J36 -> 0 | F11: ='Plot (1)'!K36 -> 0 | G11: ='Plot (1)'!J37 -> 0 | H11: ='Plot (1)'!K37 -> 0 | I11: ='Plot (1)'!L35 -> 0 | J11: ='Plot (1)'!M35 -> 0 | K11: ='Plot (1)'!L36 -> 0 | L11: ='Plot (1)'!M36 -> 0 | M11: ='Plot (1)'!L37 -> 0 | N11: ='Plot (1)'!M37 -> 0 | O11: ='Plot (1)'!N35 -> 0 | P11: ='Plot (1)'!O35 -> 0 | Q11: ='Plot (1)'!N36 -> 0 | R11: ='Plot (1)'!O36 -> 0 | S11: ='Plot (1)'!N37 -> 0 | T11: ='Plot (1)'!O37 -> 0 | U11: ='Plot (1)'!P35 -> 0 | V11: ='Plot (1)'!Q35 -> 0 | W11: ='Plot (1)'!P36 -> 0 | X11: ='Plot (1)'!Q36 -> 0 | Y11: ='Plot (1)'!P37 -> 0 | Z11: ='Plot (1)'!Q37 -> 0 | AA11: ='Plot (1)'!R35 -> 0 | AB11: ='Plot (1)'!S35 -> 0 | AC11: ='Plot (1)'!R36 -> 0 | AD11: ='Plot (1)'!S36 -> 0 | AE11: ='Plot (1)'!R37 -> 0 | AF11: ='Plot (1)'!S37 -> 0 | AG11: ='Plot (1)'!T35 -> 0 | AH11: ='Plot (1)'!U35 -> 0 | AI11: ='Plot (1)'!T36 -> 0 | AJ11: ='Plot (1)'!U36 -> 0 | AK11: ='Plot (1)'!T37 -> 0 | AL11: ='Plot (1)'!U37 -> 0 | AN11: 2 | AO11: =+U13 -> N/A | AP11: =+SUM(U14:U23) -> 0 | AQ11: =+SUM(V14:V23) -> 0 | AR11: =+SUM(W14:W23) -> 0 | AS11: =+SUM(X14:X23) -> 0 | AT11: =+SUM(Y14:Y23) -> 0 | AU11: =+SUM(Z14:Z23) -> 0 | AV11: =SUM(AP11:AU11) -> 0 | BF11: =SUM(AY11:BD11) -> 0 | BG11: Forest Health Factors to be reported).
A12: 1 | B12: =+'Plot (1)'!A$38 -> 0 | C12: ='Plot (1)'!J38 -> 0 | D12: ='Plot (1)'!K38 -> 0 | E12: ='Plot (1)'!J39 -> 0 | F12: ='Plot (1)'!K39 -> 0 | G12: ='Plot (1)'!J40 -> 0 | H12: ='Plot (1)'!K40 -> 0 | I12: ='Plot (1)'!L38 -> 0 | J12: ='Plot (1)'!M38 -> 0 | K12: ='Plot (1)'!L39 -> 0 | L12: ='Plot (1)'!M39 -> 0 | M12: ='Plot (1)'!L40 -> 0 | N12: ='Plot (1)'!M40 -> 0 | O12: ='Plot (1)'!N38 -> 0 | P12: ='Plot (1)'!O38 -> 0 | Q12: ='Plot (1)'!N39 -> 0 | R12: ='Plot (1)'!O39 -> 0 | S12: ='Plot (1)'!N40 -> 0 | T12: ='Plot (1)'!O40 -> 0 | U12: ='Plot (1)'!P38 -> 0 | V12: ='Plot (1)'!Q38 -> 0 | W12: ='Plot (1)'!P39 -> 0 | X12: ='Plot (1)'!Q39 -> 0 | Y12: ='Plot (1)'!P40 -> 0 | Z12: ='Plot (1)'!Q40 -> 0 | AA12: ='Plot (1)'!R38 -> 0 | AB12: ='Plot (1)'!S38 -> 0 | AC12: ='Plot (1)'!R39 -> 0 | AD12: ='Plot (1)'!S39 -> 0 | AE12: ='Plot (1)'!R40 -> 0 | AF12: ='Plot (1)'!S40 -> 0 | AG12: ='Plot (1)'!T38 -> 0 | AH12: ='Plot (1)'!U38 -> 0 | AI12: ='Plot (1)'!T39 -> 0 | AJ12: ='Plot (1)'!U39 -> 0 | AK12: ='Plot (1)'!T40 -> 0 | AL12: ='Plot (1)'!U40 -> 0 | AN12: 2 | AO12: =+AA13 -> N/A | AP12: =+SUM(AA14:AA23) -> 0 | AQ12: =+SUM(V15:V24) -> 0 | AR12: =+SUM(W15:W24) -> 0 | AS12: =+SUM(X15:X24) -> 0 | AT12: =+SUM(Y15:Y24) -> 0 | AU12: =+SUM(Z15:Z24) -> 0 | AV12: =SUM(AP12:AU12) -> 0 | BF12: =SUM(AY12:BD12) -> 0
A13: 2 | B13: FOREST HEALTH DAMAGE AGENTS | C13: =IF(CELL("type",('Plot (2)'!$J$8))="b","N/A",'Plot (2)'!$J$8) -> N/A | I13: =IF(CELL("type",('Plot (2)'!$L$8))="b","N/A",'Plot (2)'!$L$8) -> N/A | O13: =IF(CELL("type",('Plot (2)'!$N$8))="b","N/A",'Plot (2)'!$N$8) -> N/A | U13: =IF(CELL("type",('Plot (2)'!$P$8))="b","N/A",'Plot (2)'!$P$8) -> N/A | AA13: =IF(CELL("type",('Plot (2)'!$R$8))="b","N/A",'Plot (2)'!$R$8) -> N/A | AG13: =IF(CELL("type",('Plot (2)'!$T$8))="b","N/A",'Plot (2)'!$T$8) -> N/A | AN13: 2 | AO13: =+AG13 -> N/A | AP13: =+SUM(AG14:AG23) -> 0 | AQ13: =+SUM(AH14:AH23) -> 0 | AR13: =+SUM(AI14:AI23) -> 0 | AS13: =+SUM(AJ14:AJ23) -> 0 | AT13: =+SUM(AK14:AK23) -> 0 | AU13: =+SUM(AL14:AL23) -> 0 | AV13: =SUM(AP13:AU13) -> 0 | BF13: =SUM(AY13:BD13) -> 0
A14: 2 | B14: =+'Plot (2)'!A$11 -> 0 | C14: ='Plot (2)'!$J$11 -> 0 | D14: ='Plot (2)'!$K$11 -> 0 | E14: ='Plot (2)'!$J$12 -> 0 | F14: ='Plot (2)'!$K$12 -> 0 | G14: ='Plot (2)'!$J$13 -> 0 | H14: ='Plot (2)'!$K$13 -> 0 | I14: ='Plot (2)'!$L$11 -> 0 | J14: ='Plot (2)'!$M$11 -> 0 | K14: ='Plot (2)'!$L$12 -> 0 | L14: ='Plot (2)'!$M$12 -> 0 | M14: ='Plot (2)'!$L$13 -> 0 | N14: ='Plot (2)'!$M$13 -> 0 | O14: ='Plot (2)'!$N$11 -> 0 | P14: ='Plot (2)'!$O$11 -> 0 | Q14: ='Plot (2)'!$N$12 -> 0 | R14: ='Plot (2)'!$O$12 -> 0 | S14: ='Plot (2)'!$N$13 -> 0 | T14: ='Plot (2)'!$O$13 -> 0 | U14: ='Plot (2)'!$P$11 -> 0 | V14: ='Plot (2)'!$Q$11 -> 0 | W14: ='Plot (2)'!$P$12 -> 0 | X14: ='Plot (2)'!$Q$12 -> 0 | Y14: ='Plot (2)'!$P$13 -> 0 | Z14: ='Plot (2)'!$Q$13 -> 0 | AA14: ='Plot (2)'!$R$11 -> 0 | AB14: ='Plot (2)'!$S$11 -> 0 | AC14: ='Plot (2)'!$R$12 -> 0 | AD14: ='Plot (2)'!$S$12 -> 0 | AE14: ='Plot (2)'!$R$13 -> 0 | AF14: ='Plot (2)'!$S$13 -> 0 | AG14: ='Plot (2)'!$T$11 -> 0 | AH14: ='Plot (2)'!$U$11 -> 0 | AI14: ='Plot (2)'!$T$12 -> 0 | AJ14: ='Plot (2)'!$U$12 -> 0 | AK14: ='Plot (2)'!$T$13 -> 0 | AL14: ='Plot (2)'!$U$13 -> 0 | AN14: 3 | AO14: =+C24 -> N/A | AP14: =+SUM(C25:C34) -> 0 | AQ14: =+SUM(D25:D34) -> 0 | AR14: =+SUM(E25:E34) -> 0 | AS14: =+SUM(F25:F34) -> 0 | AT14: =+SUM(G25:G34) -> 0 | AU14: =+SUM(H25:H34) -> 0 | AV14: =SUM(AP14:AU14) -> 0 | BF14: =SUM(AY14:BD14) -> 0
A15: 2 | B15: =+'Plot (2)'!A$14 -> 0 | C15: ='Plot (2)'!$J$14 -> 0 | D15: ='Plot (2)'!$K$14 -> 0 | E15: ='Plot (2)'!$J$15 -> 0 | F15: ='Plot (2)'!$K$15 -> 0 | G15: ='Plot (2)'!$J$16 -> 0 | H15: ='Plot (2)'!$K$16 -> 0 | I15: ='Plot (2)'!$L$14 -> 0 | J15: ='Plot (2)'!$M$14 -> 0 | K15: ='Plot (2)'!$L$15 -> 0 | L15: ='Plot (2)'!$M$15 -> 0 | M15: ='Plot (2)'!$L$16 -> 0 | N15: ='Plot (2)'!$M$16 -> 0 | O15: ='Plot (2)'!$N$14 -> 0 | P15: ='Plot (2)'!$O$14 -> 0 | Q15: ='Plot (2)'!$N$15 -> 0 | R15: ='Plot (2)'!$O$15 -> 0 | S15: ='Plot (2)'!$N$16 -> 0 | T15: ='Plot (2)'!$O$16 -> 0 | U15: ='Plot (2)'!$P$14 -> 0 | V15: ='Plot (2)'!$Q$14 -> 0 | W15: ='Plot (2)'!$P$15 -> 0 | X15: ='Plot (2)'!$Q$15 -> 0 | Y15: ='Plot (2)'!$P$16 -> 0 | Z15: ='Plot (2)'!$Q$16 -> 0 | AA15: ='Plot (2)'!$R$14 -> 0 | AB15: ='Plot (2)'!$S$14 -> 0 | AC15: ='Plot (2)'!$R$15 -> 0 | AD15: ='Plot (2)'!$S$15 -> 0 | AE15: ='Plot (2)'!$R$16 -> 0 | AF15: ='Plot (2)'!$S$16 -> 0 | AG15: ='Plot (2)'!$T$14 -> 0 | AH15: ='Plot (2)'!$U$14 -> 0 | AI15: ='Plot (2)'!$T$15 -> 0 | AJ15: ='Plot (2)'!$U$15 -> 0 | AK15: ='Plot (2)'!$T$16 -> 0 | AL15: ='Plot (2)'!$U$16 -> 0 | AN15: 3 | AO15: =+I24 -> N/A | AP15: =+SUM(I25:I34) -> 0 | AQ15: =+SUM(J25:J34) -> 0 | AR15: =+SUM(K25:K34) -> 0 | AS15: =+SUM(L25:L34) -> 0 | AT15: =+SUM(M25:M34) -> 0 | AU15: =+SUM(N25:N34) -> 0 | AV15: =SUM(AP15:AU15) -> 0 | BF15: =SUM(AY15:BD15) -> 0
A16: 2 | B16: =+'Plot (2)'!A$17 -> 0 | C16: ='Plot (2)'!$J$17 -> 0 | D16: ='Plot (2)'!$K$17 -> 0 | E16: ='Plot (2)'!$J$18 -> 0 | F16: ='Plot (2)'!$K$18 -> 0 | G16: ='Plot (2)'!$J$19 -> 0 | H16: ='Plot (2)'!$K$19 -> 0 | I16: ='Plot (2)'!$L$17 -> 0 | J16: ='Plot (2)'!$M$17 -> 0 | K16: ='Plot (2)'!$L$18 -> 0 | L16: ='Plot (2)'!$M$18 -> 0 | M16: ='Plot (2)'!$L$19 -> 0 | N16: ='Plot (2)'!$M$19 -> 0 | O16: ='Plot (2)'!$N$17 -> 0 | P16: ='Plot (2)'!$O$17 -> 0 | Q16: ='Plot (2)'!$N$18 -> 0 | R16: ='Plot (2)'!$O$18 -> 0 | S16: ='Plot (2)'!$N$19 -> 0 | T16: ='Plot (2)'!$O$19 -> 0 | U16: ='Plot (2)'!$P$17 -> 0 | V16: ='Plot (2)'!$Q$17 -> 0 | W16: ='Plot (2)'!$P$18 -> 0 | X16: ='Plot (2)'!$Q$18 -> 0 | Y16: ='Plot (2)'!$P$19 -> 0 | Z16: ='Plot (2)'!$Q$19 -> 0 | AA16: ='Plot (2)'!$R$17 -> 0 | AB16: ='Plot (2)'!$S$17 -> 0 | AC16: ='Plot (2)'!$R$18 -> 0 | AD16: ='Plot (2)'!$S$18 -> 0 | AE16: ='Plot (2)'!$R$19 -> 0 | AF16: ='Plot (2)'!$S$19 -> 0 | AG16: ='Plot (2)'!$T$17 -> 0 | AH16: ='Plot (2)'!$U$17 -> 0 | AI16: ='Plot (2)'!$T$18 -> 0 | AJ16: ='Plot (2)'!$U$18 -> 0 | AK16: ='Plot (2)'!$T$19 -> 0 | AL16: ='Plot (2)'!$U$19 -> 0 | AN16: 3 | AO16: =+O24 -> N/A | AP16: =+SUM(O25:O34) -> 0 | AQ16: =+SUM(P25:P34) -> 0 | AR16: =+SUM(Q25:Q34) -> 0 | AS16: =+SUM(R25:R34) -> 0 | AT16: =+SUM(S25:S34) -> 0 | AU16: =+SUM(T25:T34) -> 0 | AV16: =SUM(AP16:AU16) -> 0 | BF16: =SUM(AY16:BD16) -> 0
A17: 2 | B17: =+'Plot (2)'!A$20 -> 0 | C17: ='Plot (2)'!$J$20 -> 0 | D17: ='Plot (2)'!$K$20 -> 0 | E17: ='Plot (2)'!$J$21 -> 0 | F17: ='Plot (2)'!$K$21 -> 0 | G17: ='Plot (2)'!$J$22 -> 0 | H17: ='Plot (2)'!$K$22 -> 0 | I17: ='Plot (2)'!$L$20 -> 0 | J17: ='Plot (2)'!$M$20 -> 0 | K17: ='Plot (2)'!$L$21 -> 0 | L17: ='Plot (2)'!$M$21 -> 0 | M17: ='Plot (2)'!$L$22 -> 0 | N17: ='Plot (2)'!$M$22 -> 0 | O17: ='Plot (2)'!$N$20 -> 0 | P17: ='Plot (2)'!$O$20 -> 0 | Q17: ='Plot (2)'!$N$21 -> 0 | R17: ='Plot (2)'!$O$21 -> 0 | S17: ='Plot (2)'!$N$22 -> 0 | T17: ='Plot (2)'!$O$22 -> 0 | U17: ='Plot (2)'!$P$20 -> 0 | V17: ='Plot (2)'!$Q$20 -> 0 | W17: ='Plot (2)'!$P$21 -> 0 | X17: ='Plot (2)'!$Q$21 -> 0 | Y17: ='Plot (2)'!$P$22 -> 0 | Z17: ='Plot (2)'!$Q$22 -> 0 | AA17: ='Plot (2)'!$R$20 -> 0 | AB17: ='Plot (2)'!$S$20 -> 0 | AC17: ='Plot (2)'!$R$21 -> 0 | AD17: ='Plot (2)'!$S$21 -> 0 | AE17: ='Plot (2)'!$R$22 -> 0 | AF17: ='Plot (2)'!$S$22 -> 0 | AG17: ='Plot (2)'!$T$20 -> 0 | AH17: ='Plot (2)'!$U$20 -> 0 | AI17: ='Plot (2)'!$T$21 -> 0 | AJ17: ='Plot (2)'!$U$21 -> 0 | AK17: ='Plot (2)'!$T$22 -> 0 | AL17: ='Plot (2)'!$U$22 -> 0 | AN17: 3 | AO17: =+U24 -> N/A | AP17: =+SUM(U25:U34) -> 0 | AQ17: =+SUM(V25:V34) -> 0 | AR17: =+SUM(W25:W34) -> 0 | AS17: =+SUM(X25:X34) -> 0 | AT17: =+SUM(Y25:Y34) -> 0 | AU17: =+SUM(Z25:Z34) -> 0 | AV17: =SUM(AP17:AU17) -> 0 | BF17: =SUM(AY17:BD17) -> 0
A18: 2 | B18: =+'Plot (2)'!A$23 -> 0 | C18: ='Plot (2)'!$J$23 -> 0 | D18: ='Plot (2)'!$K$23 -> 0 | E18: ='Plot (2)'!$J$24 -> 0 | F18: ='Plot (2)'!$K$24 -> 0 | G18: ='Plot (2)'!$J$25 -> 0 | H18: ='Plot (2)'!$K$25 -> 0 | I18: ='Plot (2)'!$L$23 -> 0 | J18: ='Plot (2)'!$M$23 -> 0 | K18: ='Plot (2)'!$L$24 -> 0 | L18: ='Plot (2)'!$M$24 -> 0 | M18: ='Plot (2)'!$L$25 -> 0 | N18: ='Plot (2)'!$M$25 -> 0 | O18: ='Plot (2)'!$N$23 -> 0 | P18: ='Plot (2)'!$O$23 -> 0 | Q18: ='Plot (2)'!$N$24 -> 0 | R18: ='Plot (2)'!$O$24 -> 0 | S18: ='Plot (2)'!$N$25 -> 0 | T18: ='Plot (2)'!$O$25 -> 0 | U18: ='Plot (2)'!$P$23 -> 0 | V18: ='Plot (2)'!$Q$23 -> 0 | W18: ='Plot (2)'!$P$24 -> 0 | X18: ='Plot (2)'!$Q$24 -> 0 | Y18: ='Plot (2)'!$P$25 -> 0 | Z18: ='Plot (2)'!$Q$25 -> 0 | AA18: ='Plot (2)'!$R$23 -> 0 | AB18: ='Plot (2)'!$S$23 -> 0 | AC18: ='Plot (2)'!$R$24 -> 0 | AD18: ='Plot (2)'!$S$24 -> 0 | AE18: ='Plot (2)'!$R$25 -> 0 | AF18: ='Plot (2)'!$S$25 -> 0 | AG18: ='Plot (2)'!$T$23 -> 0 | AH18: ='Plot (2)'!$U$23 -> 0 | AI18: ='Plot (2)'!$T$24 -> 0 | AJ18: ='Plot (2)'!$U$24 -> 0 | AK18: ='Plot (2)'!$T$25 -> 0 | AL18: ='Plot (2)'!$U$25 -> 0 | AN18: 3 | AO18: =+AG24 -> N/A | AP18: =+SUM(AG25:AG34) -> 0 | AQ18: =+SUM(AH25:AH34) -> 0 | AR18: =+SUM(AI25:AI34) -> 0 | AS18: =+SUM(AJ25:AJ34) -> 0 | AT18: =+SUM(AK25:AK34) -> 0 | AU18: =+SUM(AL25:AL34) -> 0 | AV18: =SUM(AP18:AU18) -> 0 | BF18: =SUM(AY18:BD18) -> 0
A19: 2 | B19: =+'Plot (2)'!A$26 -> 0 | C19: ='Plot (2)'!$J$26 -> 0 | D19: ='Plot (2)'!$K$26 -> 0 | E19: ='Plot (2)'!$J$27 -> 0 | F19: ='Plot (2)'!$K$27 -> 0 | G19: ='Plot (2)'!$J$28 -> 0 | H19: ='Plot (2)'!$K$28 -> 0 | I19: ='Plot (2)'!$L$26 -> 0 | J19: ='Plot (2)'!$M$26 -> 0 | K19: ='Plot (2)'!$L$27 -> 0 | L19: ='Plot (2)'!$M$27 -> 0 | M19: ='Plot (2)'!$L$28 -> 0 | N19: ='Plot (2)'!$M$28 -> 0 | O19: ='Plot (2)'!$N$26 -> 0 | P19: ='Plot (2)'!$O$26 -> 0 | Q19: ='Plot (2)'!$N$27 -> 0 | R19: ='Plot (2)'!$O$27 -> 0 | S19: ='Plot (2)'!$N$28 -> 0 | T19: ='Plot (2)'!$O$28 -> 0 | U19: ='Plot (2)'!$P$26 -> 0 | V19: ='Plot (2)'!$Q$26 -> 0 | W19: ='Plot (2)'!$P$27 -> 0 | X19: ='Plot (2)'!$Q$27 -> 0 | Y19: ='Plot (2)'!$P$28 -> 0 | Z19: ='Plot (2)'!$Q$28 -> 0 | AA19: ='Plot (2)'!$R$26 -> 0 | AB19: ='Plot (2)'!$S$26 -> 0 | AC19: ='Plot (2)'!$R$27 -> 0 | AD19: ='Plot (2)'!$S$27 -> 0 | AE19: ='Plot (2)'!$R$28 -> 0 | AF19: ='Plot (2)'!$S$28 -> 0 | AG19: ='Plot (2)'!$T$26 -> 0 | AH19: ='Plot (2)'!$U$26 -> 0 | AI19: ='Plot (2)'!$T$27 -> 0 | AJ19: ='Plot (2)'!$U$27 -> 0 | AK19: ='Plot (2)'!$T$28 -> 0 | AL19: ='Plot (2)'!$U$28 -> 0 | AN19: 4 | AO19: =+C35 -> N/A | AP19: =+SUM(C36:C45) -> 0 | AQ19: =+SUM(D36:D45) -> 0 | AR19: =+SUM(E36:E45) -> 0 | AS19: =+SUM(F36:F45) -> 0 | AT19: =+SUM(G36:G45) -> 0 | AU19: =+SUM(H36:H45) -> 0 | AV19: =SUM(AP19:AU19) -> 0 | BF19: =SUM(AY19:BD19) -> 0
A20: 2 | B20: =+'Plot (2)'!A$29 -> 0 | C20: ='Plot (2)'!$J$29 -> 0 | D20: ='Plot (2)'!$K$29 -> 0 | E20: ='Plot (2)'!$J$30 -> 0 | F20: ='Plot (2)'!$K$30 -> 0 | G20: ='Plot (2)'!$J$31 -> 0 | H20: ='Plot (2)'!$K$31 -> 0 | I20: ='Plot (2)'!$L$29 -> 0 | J20: ='Plot (2)'!$M$29 -> 0 | K20: ='Plot (2)'!$L$30 -> 0 | L20: ='Plot (2)'!$M$30 -> 0 | M20: ='Plot (2)'!$L$31 -> 0 | N20: ='Plot (2)'!$M$31 -> 0 | O20: ='Plot (2)'!$N$29 -> 0 | P20: ='Plot (2)'!$O$29 -> 0 | Q20: ='Plot (2)'!$N$30 -> 0 | R20: ='Plot (2)'!$O$30 -> 0 | S20: ='Plot (2)'!$N$31 -> 0 | T20: ='Plot (2)'!$O$31 -> 0 | U20: ='Plot (2)'!$P$29 -> 0 | V20: ='Plot (2)'!$Q$29 -> 0 | W20: ='Plot (2)'!$P$30 -> 0 | X20: ='Plot (2)'!$Q$30 -> 0 | Y20: ='Plot (2)'!$P$31 -> 0 | Z20: ='Plot (2)'!$Q$31 -> 0 | AA20: ='Plot (2)'!$R$29 -> 0 | AB20: ='Plot (2)'!$S$29 -> 0 | AC20: ='Plot (2)'!$R$30 -> 0 | AD20: ='Plot (2)'!$S$30 -> 0 | AE20: ='Plot (2)'!$R$31 -> 0 | AF20: ='Plot (2)'!$S$31 -> 0 | AG20: ='Plot (2)'!$T$29 -> 0 | AH20: ='Plot (2)'!$U$29 -> 0 | AI20: ='Plot (2)'!$T$30 -> 0 | AJ20: ='Plot (2)'!$U$30 -> 0 | AK20: ='Plot (2)'!$T$31 -> 0 | AL20: ='Plot (2)'!$U$31 -> 0 | AN20: 4 | AO20: =+I35 -> N/A | AP20: =+SUM(I36:I45) -> 0 | AQ20: =+SUM(J36:J45) -> 0 | AR20: =+SUM(K36:K45) -> 0 | AS20: =+SUM(L36:L45) -> 0 | AT20: =+SUM(M36:M45) -> 0 | AU20: =+SUM(N36:N45) -> 0 | AV20: =SUM(AP20:AU20) -> 0 | BF20: =SUM(AY20:BD20) -> 0
A21: 2 | B21: =+'Plot (2)'!A$32 -> 0 | C21: ='Plot (2)'!$J$32 -> 0 | D21: ='Plot (2)'!$K$32 -> 0 | E21: ='Plot (2)'!$J$33 -> 0 | F21: ='Plot (2)'!$K$33 -> 0 | G21: ='Plot (2)'!$J$34 -> 0 | H21: ='Plot (2)'!$K$34 -> 0 | I21: ='Plot (2)'!$L$32 -> 0 | J21: ='Plot (2)'!$M$32 -> 0 | K21: ='Plot (2)'!$L$33 -> 0 | L21: ='Plot (2)'!$M$33 -> 0 | M21: ='Plot (2)'!$L$34 -> 0 | N21: ='Plot (2)'!$M$34 -> 0 | O21: ='Plot (2)'!$N$32 -> 0 | P21: ='Plot (2)'!$O$32 -> 0 | Q21: ='Plot (2)'!$N$33 -> 0 | R21: ='Plot (2)'!$O$33 -> 0 | S21: ='Plot (2)'!$N$34 -> 0 | T21: ='Plot (2)'!$O$34 -> 0 | U21: ='Plot (2)'!$P$32 -> 0 | V21: ='Plot (2)'!$Q$32 -> 0 | W21: ='Plot (2)'!$P$33 -> 0 | X21: ='Plot (2)'!$Q$33 -> 0 | Y21: ='Plot (2)'!$P$34 -> 0 | Z21: ='Plot (2)'!$Q$34 -> 0 | AA21: ='Plot (2)'!$R$32 -> 0 | AB21: ='Plot (2)'!$S$32 -> 0 | AC21: ='Plot (2)'!$R$33 -> 0 | AD21: ='Plot (2)'!$S$33 -> 0 | AE21: ='Plot (2)'!$R$34 -> 0 | AF21: ='Plot (2)'!$S$34 -> 0 | AG21: ='Plot (2)'!$T$32 -> 0 | AH21: ='Plot (2)'!$U$32 -> 0 | AI21: ='Plot (2)'!$T$33 -> 0 | AJ21: ='Plot (2)'!$U$33 -> 0 | AK21: ='Plot (2)'!$T$34 -> 0 | AL21: ='Plot (2)'!$U$34 -> 0 | AN21: 4 | AO21: =+O35 -> N/A | AP21: =+SUM(O36:O45) -> 0 | AQ21: =+SUM(P36:P45) -> 0 | AR21: =+SUM(Q36:Q45) -> 0 | AS21: =+SUM(R36:R45) -> 0 | AT21: =+SUM(S36:S45) -> 0 | AU21: =+SUM(T36:T45) -> 0 | AV21: =SUM(AP21:AU21) -> 0 | BF21: =SUM(AY21:BD21) -> 0
A22: 2 | B22: =+'Plot (2)'!A$35 -> 0 | C22: ='Plot (2)'!$J$35 -> 0 | D22: ='Plot (2)'!$K$35 -> 0 | E22: ='Plot (2)'!$J$36 -> 0 | F22: ='Plot (2)'!$K$36 -> 0 | G22: ='Plot (2)'!$J$37 -> 0 | H22: ='Plot (2)'!$K$37 -> 0 | I22: ='Plot (2)'!$L$35 -> 0 | J22: ='Plot (2)'!$M$35 -> 0 | K22: ='Plot (2)'!$L$36 -> 0 | L22: ='Plot (2)'!$M$36 -> 0 | M22: ='Plot (2)'!$L$37 -> 0 | N22: ='Plot (2)'!$M$37 -> 0 | O22: ='Plot (2)'!$N$35 -> 0 | P22: ='Plot (2)'!$O$35 -> 0 | Q22: ='Plot (2)'!$N$36 -> 0 | R22: ='Plot (2)'!$O$36 -> 0 | S22: ='Plot (2)'!$N$37 -> 0 | T22: ='Plot (2)'!$O$37 -> 0 | U22: ='Plot (2)'!$P$35 -> 0 | V22: ='Plot (2)'!$Q$35 -> 0 | W22: ='Plot (2)'!$P$36 -> 0 | X22: ='Plot (2)'!$Q$36 -> 0 | Y22: ='Plot (2)'!$P$37 -> 0 | Z22: ='Plot (2)'!$Q$37 -> 0 | AA22: ='Plot (2)'!$R$35 -> 0 | AB22: ='Plot (2)'!$S$35 -> 0 | AC22: ='Plot (2)'!$R$36 -> 0 | AD22: ='Plot (2)'!$S$36 -> 0 | AE22: ='Plot (2)'!$R$37 -> 0 | AF22: ='Plot (2)'!$S$37 -> 0 | AG22: ='Plot (2)'!$T$35 -> 0 | AH22: ='Plot (2)'!$U$35 -> 0 | AI22: ='Plot (2)'!$T$36 -> 0 | AJ22: ='Plot (2)'!$U$36 -> 0 | AK22: ='Plot (2)'!$T$37 -> 0 | AL22: ='Plot (2)'!$U$37 -> 0 | AN22: 4 | AO22: =+U35 -> N/A | AP22: =+SUM(U36:U45) -> 0 | AQ22: =+SUM(V36:V45) -> 0 | AR22: =+SUM(W36:W45) -> 0 | AS22: =+SUM(X36:X45) -> 0 | AT22: =+SUM(Y36:Y45) -> 0 | AU22: =+SUM(Z36:Z45) -> 0 | AV22: =SUM(AP22:AU22) -> 0 | BF22: =SUM(AY22:BD22) -> 0
A23: 2 | B23: =+'Plot (2)'!A$38 -> 0 | C23: ='Plot (2)'!$J$38 -> 0 | D23: ='Plot (2)'!$K$38 -> 0 | E23: ='Plot (2)'!$J$39 -> 0 | F23: ='Plot (2)'!$K$39 -> 0 | G23: ='Plot (2)'!$J$40 -> 0 | H23: ='Plot (2)'!$K$40 -> 0 | I23: ='Plot (2)'!$L$38 -> 0 | J23: ='Plot (2)'!$M$38 -> 0 | K23: ='Plot (2)'!$L$39 -> 0 | L23: ='Plot (2)'!$M$39 -> 0 | M23: ='Plot (2)'!$L$40 -> 0 | N23: ='Plot (2)'!$M$40 -> 0 | O23: ='Plot (2)'!$N$38 -> 0 | P23: ='Plot (2)'!$O$38 -> 0 | Q23: ='Plot (2)'!$N$39 -> 0 | R23: ='Plot (2)'!$O$39 -> 0 | S23: ='Plot (2)'!$N$40 -> 0 | T23: ='Plot (2)'!$O$40 -> 0 | U23: ='Plot (2)'!$P$38 -> 0 | V23: ='Plot (2)'!$Q$38 -> 0 | W23: ='Plot (2)'!$P$39 -> 0 | X23: ='Plot (2)'!$Q$39 -> 0 | Y23: ='Plot (2)'!$P$40 -> 0 | Z23: ='Plot (2)'!$Q$40 -> 0 | AA23: ='Plot (2)'!$R$38 -> 0 | AB23: ='Plot (2)'!$S$38 -> 0 | AC23: ='Plot (2)'!$R$39 -> 0 | AD23: ='Plot (2)'!$S$39 -> 0 | AE23: ='Plot (2)'!$R$40 -> 0 | AF23: ='Plot (2)'!$S$40 -> 0 | AG23: ='Plot (2)'!$T$38 -> 0 | AH23: ='Plot (2)'!$U$38 -> 0 | AI23: ='Plot (2)'!$T$39 -> 0 | AJ23: ='Plot (2)'!$U$39 -> 0 | AK23: ='Plot (2)'!$T$40 -> 0 | AL23: ='Plot (2)'!$U$40 -> 0 | AN23: 4 | AO23: =+AG35 -> N/A | AP23: =+SUM(AG36:AG45) -> 0 | AQ23: =+SUM(AH36:AH45) -> 0 | AR23: =+SUM(AI36:AI45) -> 0 | AS23: =+SUM(AJ36:AJ45) -> 0 | AT23: =+SUM(AK36:AK45) -> 0 | AU23: =+SUM(AL36:AL45) -> 0 | AV23: =SUM(AP23:AU23) -> 0
A24: 3 | B24: FOREST HEALTH DAMAGE AGENTS | C24: =IF(CELL("type",('Plot (3)'!$J$8))="b","N/A",'Plot (3)'!$J$8) -> N/A | I24: =IF(CELL("type",('Plot (3)'!$L$8))="b","N/A",'Plot (3)'!$L$8) -> N/A | O24: =IF(CELL("type",('Plot (3)'!$N$8))="b","N/A",'Plot (3)'!$N$8) -> N/A | U24: =IF(CELL("type",('Plot (3)'!$P$8))="b","N/A",'Plot (3)'!$P$8) -> N/A | AA24: =IF(CELL("type",('Plot (3)'!$R$8))="b","N/A",'Plot (3)'!$R$8) -> N/A | AG24: =IF(CELL("type",('Plot (3)'!$T$8))="b","N/A",'Plot (3)'!$T$8) -> N/A | AN24: 5 | AO24: =+C46 -> N/A | AP24: =+SUM(C47:C56) -> 0 | AQ24: =+SUM(D47:D56) -> 0 | AR24: =+SUM(E47:E56) -> 0 | AS24: =+SUM(F47:F56) -> 0 | AT24: =+SUM(G47:G56) -> 0 | AU24: =+SUM(H47:H56) -> 0 | AV24: =SUM(AP24:AU24) -> 0
A25: 3 | B25: =+'Plot (3)'!A$11 -> 0 | C25: ='Plot (3)'!$J$11 -> 0 | D25: ='Plot (3)'!$K$11 -> 0 | E25: ='Plot (3)'!$J$12 -> 0 | F25: ='Plot (3)'!$K$12 -> 0 | G25: ='Plot (3)'!$J$13 -> 0 | H25: ='Plot (3)'!$K$13 -> 0 | I25: ='Plot (3)'!$L$11 -> 0 | J25: ='Plot (3)'!$M$11 -> 0 | K25: ='Plot (3)'!$L$12 -> 0 | L25: ='Plot (3)'!$M$12 -> 0 | M25: ='Plot (3)'!$L$13 -> 0 | N25: ='Plot (3)'!$M$13 -> 0 | O25: ='Plot (3)'!$N$11 -> 0 | P25: ='Plot (3)'!$O$11 -> 0 | Q25: ='Plot (3)'!$N$12 -> 0 | R25: ='Plot (3)'!$O$12 -> 0 | S25: ='Plot (3)'!$N$13 -> 0 | T25: ='Plot (3)'!$O$13 -> 0 | U25: ='Plot (3)'!$P$11 -> 0 | V25: ='Plot (3)'!$Q$11 -> 0 | W25: ='Plot (3)'!$P$12 -> 0 | X25: ='Plot (3)'!$Q$12 -> 0 | Y25: ='Plot (3)'!$P$13 -> 0 | Z25: ='Plot (3)'!$Q$13 -> 0 | AA25: ='Plot (3)'!$R$11 -> 0 | AB25: ='Plot (3)'!$S$11 -> 0 | AC25: ='Plot (3)'!$R$12 -> 0 | AD25: ='Plot (3)'!$S$12 -> 0 | AE25: ='Plot (3)'!$R$13 -> 0 | AF25: ='Plot (3)'!$S$13 -> 0 | AG25: ='Plot (3)'!$T$11 -> 0 | AH25: ='Plot (3)'!$U$11 -> 0 | AI25: ='Plot (3)'!$T$12 -> 0 | AJ25: ='Plot (3)'!$U$12 -> 0 | AK25: ='Plot (3)'!$T$13 -> 0 | AL25: ='Plot (3)'!$U$13 -> 0 | AN25: 5 | AO25: =+I46 -> N/A | AP25: =+SUM(I47:I56) -> 0 | AQ25: =+SUM(J47:J56) -> 0 | AR25: =+SUM(K47:K56) -> 0 | AS25: =+SUM(L47:L56) -> 0 | AT25: =+SUM(M47:M56) -> 0 | AU25: =+SUM(N47:N56) -> 0 | AV25: =SUM(AP25:AU25) -> 0
A26: 3 | B26: =+'Plot (3)'!A$14 -> 0 | C26: ='Plot (3)'!$J$14 -> 0 | D26: ='Plot (3)'!$K$14 -> 0 | E26: ='Plot (3)'!$J$15 -> 0 | F26: ='Plot (3)'!$K$15 -> 0 | G26: ='Plot (3)'!$J$16 -> 0 | H26: ='Plot (3)'!$K$16 -> 0 | I26: ='Plot (3)'!$L$14 -> 0 | J26: ='Plot (3)'!$M$14 -> 0 | K26: ='Plot (3)'!$L$15 -> 0 | L26: ='Plot (3)'!$M$15 -> 0 | M26: ='Plot (3)'!$L$16 -> 0 | N26: ='Plot (3)'!$M$16 -> 0 | O26: ='Plot (3)'!$N$14 -> 0 | P26: ='Plot (3)'!$O$14 -> 0 | Q26: ='Plot (3)'!$N$15 -> 0 | R26: ='Plot (3)'!$O$15 -> 0 | S26: ='Plot (3)'!$N$16 -> 0 | T26: ='Plot (3)'!$O$16 -> 0 | U26: ='Plot (3)'!$P$14 -> 0 | V26: ='Plot (3)'!$Q$14 -> 0 | W26: ='Plot (3)'!$P$15 -> 0 | X26: ='Plot (3)'!$Q$15 -> 0 | Y26: ='Plot (3)'!$P$16 -> 0 | Z26: ='Plot (3)'!$Q$16 -> 0 | AA26: ='Plot (3)'!$R$14 -> 0 | AB26: ='Plot (3)'!$S$14 -> 0 | AC26: ='Plot (3)'!$R$15 -> 0 | AD26: ='Plot (3)'!$S$15 -> 0 | AE26: ='Plot (3)'!$R$16 -> 0 | AF26: ='Plot (3)'!$S$16 -> 0 | AG26: ='Plot (3)'!$T$14 -> 0 | AH26: ='Plot (3)'!$U$14 -> 0 | AI26: ='Plot (3)'!$T$15 -> 0 | AJ26: ='Plot (3)'!$U$15 -> 0 | AK26: ='Plot (3)'!$T$16 -> 0 | AL26: ='Plot (3)'!$U$16 -> 0 | AN26: 5 | AO26: =+O46 -> N/A | AP26: =+SUM(O47:O56) -> 0 | AQ26: =+SUM(P47:P56) -> 0 | AR26: =+SUM(Q47:Q56) -> 0 | AS26: =+SUM(R47:R56) -> 0 | AT26: =+SUM(S47:S56) -> 0 | AU26: =+SUM(T47:T56) -> 0 | AV26: =SUM(AP26:AU26) -> 0
A27: 3 | B27: =+'Plot (3)'!A$17 -> 0 | C27: ='Plot (3)'!$J$17 -> 0 | D27: ='Plot (3)'!$K$17 -> 0 | E27: ='Plot (3)'!$J$18 -> 0 | F27: ='Plot (3)'!$K$18 -> 0 | G27: ='Plot (3)'!$J$19 -> 0 | H27: ='Plot (3)'!$K$19 -> 0 | I27: ='Plot (3)'!$L$17 -> 0 | J27: ='Plot (3)'!$M$17 -> 0 | K27: ='Plot (3)'!$L$18 -> 0 | L27: ='Plot (3)'!$M$18 -> 0 | M27: ='Plot (3)'!$L$19 -> 0 | N27: ='Plot (3)'!$M$19 -> 0 | O27: ='Plot (3)'!$N$17 -> 0 | P27: ='Plot (3)'!$O$17 -> 0 | Q27: ='Plot (3)'!$N$18 -> 0 | R27: ='Plot (3)'!$O$18 -> 0 | S27: ='Plot (3)'!$N$19 -> 0 | T27: ='Plot (3)'!$O$19 -> 0 | U27: ='Plot (3)'!$P$17 -> 0 | V27: ='Plot (3)'!$Q$17 -> 0 | W27: ='Plot (3)'!$P$18 -> 0 | X27: ='Plot (3)'!$Q$18 -> 0 | Y27: ='Plot (3)'!$P$19 -> 0 | Z27: ='Plot (3)'!$Q$19 -> 0 | AA27: ='Plot (3)'!$R$17 -> 0 | AB27: ='Plot (3)'!$S$17 -> 0 | AC27: ='Plot (3)'!$R$18 -> 0 | AD27: ='Plot (3)'!$S$18 -> 0 | AE27: ='Plot (3)'!$R$19 -> 0 | AF27: ='Plot (3)'!$S$19 -> 0 | AG27: ='Plot (3)'!$T$17 -> 0 | AH27: ='Plot (3)'!$U$17 -> 0 | AI27: ='Plot (3)'!$T$18 -> 0 | AJ27: ='Plot (3)'!$U$18 -> 0 | AK27: ='Plot (3)'!$T$19 -> 0 | AL27: ='Plot (3)'!$U$19 -> 0 | AN27: 5 | AO27: =+U46 -> N/A | AP27: =+SUM(U47:U56) -> 0 | AQ27: =+SUM(V47:V56) -> 0 | AR27: =+SUM(W47:W56) -> 0 | AS27: =+SUM(X47:X56) -> 0 | AT27: =+SUM(Y47:Y56) -> 0 | AU27: =+SUM(Z47:Z56) -> 0 | AV27: =SUM(AP27:AU27) -> 0
A28: 3 | B28: =+'Plot (3)'!A$20 -> 0 | C28: ='Plot (3)'!$J$20 -> 0 | D28: ='Plot (3)'!$K$20 -> 0 | E28: ='Plot (3)'!$J$21 -> 0 | F28: ='Plot (3)'!$K$21 -> 0 | G28: ='Plot (3)'!$J$22 -> 0 | H28: ='Plot (3)'!$K$22 -> 0 | I28: ='Plot (3)'!$L$20 -> 0 | J28: ='Plot (3)'!$M$20 -> 0 | K28: ='Plot (3)'!$L$21 -> 0 | L28: ='Plot (3)'!$M$21 -> 0 | M28: ='Plot (3)'!$L$22 -> 0 | N28: ='Plot (3)'!$M$22 -> 0 | O28: ='Plot (3)'!$N$20 -> 0 | P28: ='Plot (3)'!$O$20 -> 0 | Q28: ='Plot (3)'!$N$21 -> 0 | R28: ='Plot (3)'!$O$21 -> 0 | S28: ='Plot (3)'!$N$22 -> 0 | T28: ='Plot (3)'!$O$22 -> 0 | U28: ='Plot (3)'!$P$20 -> 0 | V28: ='Plot (3)'!$Q$20 -> 0 | W28: ='Plot (3)'!$P$21 -> 0 | X28: ='Plot (3)'!$Q$21 -> 0 | Y28: ='Plot (3)'!$P$22 -> 0 | Z28: ='Plot (3)'!$Q$22 -> 0 | AA28: ='Plot (3)'!$R$20 -> 0 | AB28: ='Plot (3)'!$S$20 -> 0 | AC28: ='Plot (3)'!$R$21 -> 0 | AD28: ='Plot (3)'!$S$21 -> 0 | AE28: ='Plot (3)'!$R$22 -> 0 | AF28: ='Plot (3)'!$S$22 -> 0 | AG28: ='Plot (3)'!$T$20 -> 0 | AH28: ='Plot (3)'!$U$20 -> 0 | AI28: ='Plot (3)'!$T$21 -> 0 | AJ28: ='Plot (3)'!$U$21 -> 0 | AK28: ='Plot (3)'!$T$22 -> 0 | AL28: ='Plot (3)'!$U$22 -> 0 | AN28: 5 | AO28: =+AG46 -> N/A | AP28: =+SUM(AG47:AG56) -> 0 | AQ28: =+SUM(AH47:AH56) -> 0 | AR28: =+SUM(AI47:AI56) -> 0 | AS28: =+SUM(AJ47:AJ56) -> 0 | AT28: =+SUM(AK47:AK56) -> 0 | AU28: =+SUM(AL47:AL56) -> 0 | AV28: =SUM(AP28:AU28) -> 0
A29: 3 | B29: =+'Plot (3)'!A$23 -> 0 | C29: ='Plot (3)'!$J$23 -> 0 | D29: ='Plot (3)'!$K$23 -> 0 | E29: ='Plot (3)'!$J$24 -> 0 | F29: ='Plot (3)'!$K$24 -> 0 | G29: ='Plot (3)'!$J$25 -> 0 | H29: ='Plot (3)'!$K$25 -> 0 | I29: ='Plot (3)'!$L$23 -> 0 | J29: ='Plot (3)'!$M$23 -> 0 | K29: ='Plot (3)'!$L$24 -> 0 | L29: ='Plot (3)'!$M$24 -> 0 | M29: ='Plot (3)'!$L$25 -> 0 | N29: ='Plot (3)'!$M$25 -> 0 | O29: ='Plot (3)'!$N$23 -> 0 | P29: ='Plot (3)'!$O$23 -> 0 | Q29: ='Plot (3)'!$N$24 -> 0 | R29: ='Plot (3)'!$O$24 -> 0 | S29: ='Plot (3)'!$N$25 -> 0 | T29: ='Plot (3)'!$O$25 -> 0 | U29: ='Plot (3)'!$P$23 -> 0 | V29: ='Plot (3)'!$Q$23 -> 0 | W29: ='Plot (3)'!$P$24 -> 0 | X29: ='Plot (3)'!$Q$24 -> 0 | Y29: ='Plot (3)'!$P$25 -> 0 | Z29: ='Plot (3)'!$Q$25 -> 0 | AA29: ='Plot (3)'!$R$23 -> 0 | AB29: ='Plot (3)'!$S$23 -> 0 | AC29: ='Plot (3)'!$R$24 -> 0 | AD29: ='Plot (3)'!$S$24 -> 0 | AE29: ='Plot (3)'!$R$25 -> 0 | AF29: ='Plot (3)'!$S$25 -> 0 | AG29: ='Plot (3)'!$T$23 -> 0 | AH29: ='Plot (3)'!$U$23 -> 0 | AI29: ='Plot (3)'!$T$24 -> 0 | AJ29: ='Plot (3)'!$U$24 -> 0 | AK29: ='Plot (3)'!$T$25 -> 0 | AL29: ='Plot (3)'!$U$25 -> 0 | AN29: 6 | AO29: =+C57 -> N/A | AP29: =+SUM(C58:C67) -> 0 | AQ29: =+SUM(D58:D67) -> 0 | AR29: =+SUM(E58:E67) -> 0 | AS29: =+SUM(F58:F67) -> 0 | AT29: =+SUM(G58:G67) -> 0 | AU29: =+SUM(H58:H67) -> 0 | AV29: =SUM(AP29:AU29) -> 0
A30: 3 | B30: =+'Plot (3)'!A$26 -> 0 | C30: ='Plot (3)'!$J$26 -> 0 | D30: ='Plot (3)'!$K$26 -> 0 | E30: ='Plot (3)'!$J$27 -> 0 | F30: ='Plot (3)'!$K$27 -> 0 | G30: ='Plot (3)'!$J$28 -> 0 | H30: ='Plot (3)'!$K$28 -> 0 | I30: ='Plot (3)'!$L$26 -> 0 | J30: ='Plot (3)'!$M$26 -> 0 | K30: ='Plot (3)'!$L$27 -> 0 | L30: ='Plot (3)'!$M$27 -> 0 | M30: ='Plot (3)'!$L$28 -> 0 | N30: ='Plot (3)'!$M$28 -> 0 | O30: ='Plot (3)'!$N$26 -> 0 | P30: ='Plot (3)'!$O$26 -> 0 | Q30: ='Plot (3)'!$N$27 -> 0 | R30: ='Plot (3)'!$O$27 -> 0 | S30: ='Plot (3)'!$N$28 -> 0 | T30: ='Plot (3)'!$O$28 -> 0 | U30: ='Plot (3)'!$P$26 -> 0 | V30: ='Plot (3)'!$Q$26 -> 0 | W30: ='Plot (3)'!$P$27 -> 0 | X30: ='Plot (3)'!$Q$27 -> 0 | Y30: ='Plot (3)'!$P$28 -> 0 | Z30: ='Plot (3)'!$Q$28 -> 0 | AA30: ='Plot (3)'!$R$26 -> 0 | AB30: ='Plot (3)'!$S$26 -> 0 | AC30: ='Plot (3)'!$R$27 -> 0 | AD30: ='Plot (3)'!$S$27 -> 0 | AE30: ='Plot (3)'!$R$28 -> 0 | AF30: ='Plot (3)'!$S$28 -> 0 | AG30: ='Plot (3)'!$T$26 -> 0 | AH30: ='Plot (3)'!$U$26 -> 0 | AI30: ='Plot (3)'!$T$27 -> 0 | AJ30: ='Plot (3)'!$U$27 -> 0 | AK30: ='Plot (3)'!$T$28 -> 0 | AL30: ='Plot (3)'!$U$28 -> 0 | AN30: 6 | AO30: =+I57 -> N/A | AP30: =+SUM(I58:I67) -> 0 | AQ30: =+SUM(J58:J67) -> 0 | AR30: =+SUM(K58:K67) -> 0 | AS30: =+SUM(L58:L67) -> 0 | AT30: =+SUM(M58:M67) -> 0 | AU30: =+SUM(N58:N67) -> 0 | AV30: =SUM(AP30:AU30) -> 0
A31: 3 | B31: =+'Plot (3)'!A$29 -> 0 | C31: ='Plot (3)'!$J$29 -> 0 | D31: ='Plot (3)'!$K$29 -> 0 | E31: ='Plot (3)'!$J$30 -> 0 | F31: ='Plot (3)'!$K$30 -> 0 | G31: ='Plot (3)'!$J$31 -> 0 | H31: ='Plot (3)'!$K$31 -> 0 | I31: ='Plot (3)'!$L$29 -> 0 | J31: ='Plot (3)'!$M$29 -> 0 | K31: ='Plot (3)'!$L$30 -> 0 | L31: ='Plot (3)'!$M$30 -> 0 | M31: ='Plot (3)'!$L$31 -> 0 | N31: ='Plot (3)'!$M$31 -> 0 | O31: ='Plot (3)'!$N$29 -> 0 | P31: ='Plot (3)'!$O$29 -> 0 | Q31: ='Plot (3)'!$N$30 -> 0 | R31: ='Plot (3)'!$O$30 -> 0 | S31: ='Plot (3)'!$N$31 -> 0 | T31: ='Plot (3)'!$O$31 -> 0 | U31: ='Plot (3)'!$P$29 -> 0 | V31: ='Plot (3)'!$Q$29 -> 0 | W31: ='Plot (3)'!$P$30 -> 0 | X31: ='Plot (3)'!$Q$30 -> 0 | Y31: ='Plot (3)'!$P$31 -> 0 | Z31: ='Plot (3)'!$Q$31 -> 0 | AA31: ='Plot (3)'!$R$29 -> 0 | AB31: ='Plot (3)'!$S$29 -> 0 | AC31: ='Plot (3)'!$R$30 -> 0 | AD31: ='Plot (3)'!$S$30 -> 0 | AE31: ='Plot (3)'!$R$31 -> 0 | AF31: ='Plot (3)'!$S$31 -> 0 | AG31: ='Plot (3)'!$T$29 -> 0 | AH31: ='Plot (3)'!$U$29 -> 0 | AI31: ='Plot (3)'!$T$30 -> 0 | AJ31: ='Plot (3)'!$U$30 -> 0 | AK31: ='Plot (3)'!$T$31 -> 0 | AL31: ='Plot (3)'!$U$31 -> 0 | AN31: 6 | AO31: =+O57 -> N/A | AP31: =+SUM(O58:O67) -> 0 | AQ31: =+SUM(P58:P67) -> 0 | AR31: =+SUM(Q58:Q67) -> 0 | AS31: =+SUM(R58:R67) -> 0 | AT31: =+SUM(S58:S67) -> 0 | AU31: =+SUM(T58:T67) -> 0 | AV31: =SUM(AP31:AU31) -> 0
A32: 3 | B32: =+'Plot (3)'!A$32 -> 0 | C32: ='Plot (3)'!$J$32 -> 0 | D32: ='Plot (3)'!$K$32 -> 0 | E32: ='Plot (3)'!$J$33 -> 0 | F32: ='Plot (3)'!$K$33 -> 0 | G32: ='Plot (3)'!$J$34 -> 0 | H32: ='Plot (3)'!$K$34 -> 0 | I32: ='Plot (3)'!$L$32 -> 0 | J32: ='Plot (3)'!$M$32 -> 0 | K32: ='Plot (3)'!$L$33 -> 0 | L32: ='Plot (3)'!$M$33 -> 0 | M32: ='Plot (3)'!$L$34 -> 0 | N32: ='Plot (3)'!$M$34 -> 0 | O32: ='Plot (3)'!$N$32 -> 0 | P32: ='Plot (3)'!$O$32 -> 0 | Q32: ='Plot (3)'!$N$33 -> 0 | R32: ='Plot (3)'!$O$33 -> 0 | S32: ='Plot (3)'!$N$34 -> 0 | T32: ='Plot (3)'!$O$34 -> 0 | U32: ='Plot (3)'!$P$32 -> 0 | V32: ='Plot (3)'!$Q$32 -> 0 | W32: ='Plot (3)'!$P$33 -> 0 | X32: ='Plot (3)'!$Q$33 -> 0 | Y32: ='Plot (3)'!$P$34 -> 0 | Z32: ='Plot (3)'!$Q$34 -> 0 | AA32: ='Plot (3)'!$R$32 -> 0 | AB32: ='Plot (3)'!$S$32 -> 0 | AC32: ='Plot (3)'!$R$33 -> 0 | AD32: ='Plot (3)'!$S$33 -> 0 | AE32: ='Plot (3)'!$R$34 -> 0 | AF32: ='Plot (3)'!$S$34 -> 0 | AG32: ='Plot (3)'!$T$32 -> 0 | AH32: ='Plot (3)'!$U$32 -> 0 | AI32: ='Plot (3)'!$T$33 -> 0 | AJ32: ='Plot (3)'!$U$33 -> 0 | AK32: ='Plot (3)'!$T$34 -> 0 | AL32: ='Plot (3)'!$U$34 -> 0 | AN32: 6 | AO32: =+U57 -> N/A | AP32: =+SUM(U58:U67) -> 0 | AQ32: =+SUM(V58:V67) -> 0 | AR32: =+SUM(W58:W67) -> 0 | AS32: =+SUM(X58:X67) -> 0 | AT32: =+SUM(Y58:Y67) -> 0 | AU32: =+SUM(Z58:Z67) -> 0 | AV32: =SUM(AP32:AU32) -> 0
A33: 3 | B33: =+'Plot (3)'!A$35 -> 0 | C33: ='Plot (3)'!$J$35 -> 0 | D33: ='Plot (3)'!$K$35 -> 0 | E33: ='Plot (3)'!$J$36 -> 0 | F33: ='Plot (3)'!$K$36 -> 0 | G33: ='Plot (3)'!$J$37 -> 0 | H33: ='Plot (3)'!$K$37 -> 0 | I33: ='Plot (3)'!$L$35 -> 0 | J33: ='Plot (3)'!$M$35 -> 0 | K33: ='Plot (3)'!$L$36 -> 0 | L33: ='Plot (3)'!$M$36 -> 0 | M33: ='Plot (3)'!$L$37 -> 0 | N33: ='Plot (3)'!$M$37 -> 0 | O33: ='Plot (3)'!$N$35 -> 0 | P33: ='Plot (3)'!$O$35 -> 0 | Q33: ='Plot (3)'!$N$36 -> 0 | R33: ='Plot (3)'!$O$36 -> 0 | S33: ='Plot (3)'!$N$37 -> 0 | T33: ='Plot (3)'!$O$37 -> 0 | U33: ='Plot (3)'!$P$35 -> 0 | V33: ='Plot (3)'!$Q$35 -> 0 | W33: ='Plot (3)'!$P$36 -> 0 | X33: ='Plot (3)'!$Q$36 -> 0 | Y33: ='Plot (3)'!$P$37 -> 0 | Z33: ='Plot (3)'!$Q$37 -> 0 | AA33: ='Plot (3)'!$R$35 -> 0 | AB33: ='Plot (3)'!$S$35 -> 0 | AC33: ='Plot (3)'!$R$36 -> 0 | AD33: ='Plot (3)'!$S$36 -> 0 | AE33: ='Plot (3)'!$R$37 -> 0 | AF33: ='Plot (3)'!$S$37 -> 0 | AG33: ='Plot (3)'!$T$35 -> 0 | AH33: ='Plot (3)'!$U$35 -> 0 | AI33: ='Plot (3)'!$T$36 -> 0 | AJ33: ='Plot (3)'!$U$36 -> 0 | AK33: ='Plot (3)'!$T$37 -> 0 | AL33: ='Plot (3)'!$U$37 -> 0 | AN33: 6 | AO33: =+AG57 -> N/A | AP33: =+SUM(AG58:AG67) -> 0 | AQ33: =+SUM(AH58:AH67) -> 0 | AR33: =+SUM(AI58:AI67) -> 0 | AS33: =+SUM(AJ58:AJ67) -> 0 | AT33: =+SUM(AK58:AK67) -> 0 | AU33: =+SUM(AL58:AL67) -> 0 | AV33: =SUM(AP33:AU33) -> 0
A34: 3 | B34: =+'Plot (3)'!A$38 -> 0 | C34: ='Plot (3)'!$J$38 -> 0 | D34: ='Plot (3)'!$K$38 -> 0 | E34: ='Plot (3)'!$J$39 -> 0 | F34: ='Plot (3)'!$K$39 -> 0 | G34: ='Plot (3)'!$J$40 -> 0 | H34: ='Plot (3)'!$K$40 -> 0 | I34: ='Plot (3)'!$L$38 -> 0 | J34: ='Plot (3)'!$M$38 -> 0 | K34: ='Plot (3)'!$L$39 -> 0 | L34: ='Plot (3)'!$M$39 -> 0 | M34: ='Plot (3)'!$L$40 -> 0 | N34: ='Plot (3)'!$M$40 -> 0 | O34: ='Plot (3)'!$N$38 -> 0 | P34: ='Plot (3)'!$O$38 -> 0 | Q34: ='Plot (3)'!$N$39 -> 0 | R34: ='Plot (3)'!$O$39 -> 0 | S34: ='Plot (3)'!$N$40 -> 0 | T34: ='Plot (3)'!$O$40 -> 0 | U34: ='Plot (3)'!$P$38 -> 0 | V34: ='Plot (3)'!$Q$38 -> 0 | W34: ='Plot (3)'!$P$39 -> 0 | X34: ='Plot (3)'!$Q$39 -> 0 | Y34: ='Plot (3)'!$P$40 -> 0 | Z34: ='Plot (3)'!$Q$40 -> 0 | AA34: ='Plot (3)'!$R$38 -> 0 | AB34: ='Plot (3)'!$S$38 -> 0 | AC34: ='Plot (3)'!$R$39 -> 0 | AD34: ='Plot (3)'!$S$39 -> 0 | AE34: ='Plot (3)'!$R$40 -> 0 | AF34: ='Plot (3)'!$S$40 -> 0 | AG34: ='Plot (3)'!$T$38 -> 0 | AH34: ='Plot (3)'!$U$38 -> 0 | AI34: ='Plot (3)'!$T$39 -> 0 | AJ34: ='Plot (3)'!$U$39 -> 0 | AK34: ='Plot (3)'!$T$40 -> 0 | AL34: ='Plot (3)'!$U$40 -> 0 | AN34: 7 | AO34: =+C68 -> N/A | AP34: =+SUM(C69:C78) -> 0 | AQ34: =+SUM(D69:D78) -> 0 | AR34: =+SUM(E69:E78) -> 0 | AS34: =+SUM(F69:F78) -> 0 | AT34: =+SUM(G69:G78) -> 0 | AU34: =+SUM(H69:H78) -> 0 | AV34: =SUM(AP34:AU34) -> 0
A35: 4 | B35: FOREST HEALTH DAMAGE AGENTS | C35: =IF(CELL("type",('Plot (4)'!$J$8))="b","N/A",'Plot (4)'!$J$8) -> N/A | I35: =IF(CELL("type",('Plot (4)'!$L$8))="b","N/A",'Plot (4)'!$L$8) -> N/A | O35: =IF(CELL("type",('Plot (4)'!$N$8))="b","N/A",'Plot (4)'!$N$8) -> N/A | U35: =IF(CELL("type",('Plot (4)'!$P$8))="b","N/A",'Plot (4)'!$P$8) -> N/A | AA35: =IF(CELL("type",('Plot (4)'!$R$8))="b","N/A",'Plot (4)'!$R$8) -> N/A | AG35: =IF(CELL("type",('Plot (4)'!$T$8))="b","N/A",'Plot (4)'!$T$8) -> N/A | AN35: 7 | AO35: =+I68 -> N/A | AP35: =+SUM(I69:I78) -> 0 | AQ35: =+SUM(J69:J78) -> 0 | AR35: =+SUM(K69:K78) -> 0 | AS35: =+SUM(L69:L78) -> 0 | AT35: =+SUM(M69:M78) -> 0 | AU35: =+SUM(N69:N78) -> 0 | AV35: =SUM(AP35:AU35) -> 0
A36: 4 | B36: =+'Plot (4)'!A$11 -> 0 | C36: ='Plot (4)'!$J$11 -> 0 | D36: ='Plot (4)'!$K$11 -> 0 | E36: ='Plot (4)'!$J$12 -> 0 | F36: ='Plot (4)'!$K$12 -> 0 | G36: ='Plot (4)'!$J$13 -> 0 | H36: ='Plot (4)'!$K$13 -> 0 | I36: ='Plot (4)'!$L$11 -> 0 | J36: ='Plot (4)'!$M$11 -> 0 | K36: ='Plot (4)'!$L$12 -> 0 | L36: ='Plot (4)'!$M$12 -> 0 | M36: ='Plot (4)'!$L$13 -> 0 | N36: ='Plot (4)'!$M$13 -> 0 | O36: ='Plot (4)'!$N$11 -> 0 | P36: ='Plot (4)'!$O$11 -> 0 | Q36: ='Plot (4)'!$N$12 -> 0 | R36: ='Plot (4)'!$O$12 -> 0 | S36: ='Plot (4)'!$N$13 -> 0 | T36: ='Plot (4)'!$O$13 -> 0 | U36: ='Plot (4)'!$P$11 -> 0 | V36: ='Plot (4)'!$Q$11 -> 0 | W36: ='Plot (4)'!$P$12 -> 0 | X36: ='Plot (4)'!$Q$12 -> 0 | Y36: ='Plot (4)'!$P$13 -> 0 | Z36: ='Plot (4)'!$Q$13 -> 0 | AA36: ='Plot (4)'!$R$11 -> 0 | AB36: ='Plot (4)'!$S$11 -> 0 | AC36: ='Plot (4)'!$R$12 -> 0 | AD36: ='Plot (4)'!$S$12 -> 0 | AE36: ='Plot (4)'!$R$13 -> 0 | AF36: ='Plot (4)'!$S$13 -> 0 | AG36: ='Plot (4)'!$T$11 -> 0 | AH36: ='Plot (4)'!$U$11 -> 0 | AI36: ='Plot (4)'!$T$12 -> 0 | AJ36: ='Plot (4)'!$U$12 -> 0 | AK36: ='Plot (4)'!$T$13 -> 0 | AL36: ='Plot (4)'!$U$13 -> 0 | AN36: 7 | AO36: =+O68 -> N/A | AP36: =+SUM(O69:O78) -> 0 | AQ36: =+SUM(P69:P78) -> 0 | AR36: =+SUM(Q69:Q78) -> 0 | AS36: =+SUM(R69:R78) -> 0 | AT36: =+SUM(S69:S78) -> 0 | AU36: =+SUM(T69:T78) -> 0 | AV36: =SUM(AP36:AU36) -> 0
A37: 4 | B37: =+'Plot (4)'!A$14 -> 0 | C37: ='Plot (4)'!$J$14 -> 0 | D37: ='Plot (4)'!$K$14 -> 0 | E37: ='Plot (4)'!$J$15 -> 0 | F37: ='Plot (4)'!$K$15 -> 0 | G37: ='Plot (4)'!$J$16 -> 0 | H37: ='Plot (4)'!$K$16 -> 0 | I37: ='Plot (4)'!$L$14 -> 0 | J37: ='Plot (4)'!$M$14 -> 0 | K37: ='Plot (4)'!$L$15 -> 0 | L37: ='Plot (4)'!$M$15 -> 0 | M37: ='Plot (4)'!$L$16 -> 0 | N37: ='Plot (4)'!$M$16 -> 0 | O37: ='Plot (4)'!$N$14 -> 0 | P37: ='Plot (4)'!$O$14 -> 0 | Q37: ='Plot (4)'!$N$15 -> 0 | R37: ='Plot (4)'!$O$15 -> 0 | S37: ='Plot (4)'!$N$16 -> 0 | T37: ='Plot (4)'!$O$16 -> 0 | U37: ='Plot (4)'!$P$14 -> 0 | V37: ='Plot (4)'!$Q$14 -> 0 | W37: ='Plot (4)'!$P$15 -> 0 | X37: ='Plot (4)'!$Q$15 -> 0 | Y37: ='Plot (4)'!$P$16 -> 0 | Z37: ='Plot (4)'!$Q$16 -> 0 | AA37: ='Plot (4)'!$R$14 -> 0 | AB37: ='Plot (4)'!$S$14 -> 0 | AC37: ='Plot (4)'!$R$15 -> 0 | AD37: ='Plot (4)'!$S$15 -> 0 | AE37: ='Plot (4)'!$R$16 -> 0 | AF37: ='Plot (4)'!$S$16 -> 0 | AG37: ='Plot (4)'!$T$14 -> 0 | AH37: ='Plot (4)'!$U$14 -> 0 | AI37: ='Plot (4)'!$T$15 -> 0 | AJ37: ='Plot (4)'!$U$15 -> 0 | AK37: ='Plot (4)'!$T$16 -> 0 | AL37: ='Plot (4)'!$U$16 -> 0 | AN37: 7 | AO37: =+U68 -> N/A | AP37: =+SUM(U69:U78) -> 0 | AQ37: =+SUM(V69:V78) -> 0 | AR37: =+SUM(W69:W78) -> 0 | AS37: =+SUM(X69:X78) -> 0 | AT37: =+SUM(Y69:Y78) -> 0 | AU37: =+SUM(Z69:Z78) -> 0 | AV37: =SUM(AP37:AU37) -> 0
A38: 4 | B38: =+'Plot (4)'!A$17 -> 0 | C38: ='Plot (4)'!$J$17 -> 0 | D38: ='Plot (4)'!$K$17 -> 0 | E38: ='Plot (4)'!$J$18 -> 0 | F38: ='Plot (4)'!$K$18 -> 0 | G38: ='Plot (4)'!$J$19 -> 0 | H38: ='Plot (4)'!$K$19 -> 0 | I38: ='Plot (4)'!$L$17 -> 0 | J38: ='Plot (4)'!$M$17 -> 0 | K38: ='Plot (4)'!$L$18 -> 0 | L38: ='Plot (4)'!$M$18 -> 0 | M38: ='Plot (4)'!$L$19 -> 0 | N38: ='Plot (4)'!$M$19 -> 0 | O38: ='Plot (4)'!$N$17 -> 0 | P38: ='Plot (4)'!$O$17 -> 0 | Q38: ='Plot (4)'!$N$18 -> 0 | R38: ='Plot (4)'!$O$18 -> 0 | S38: ='Plot (4)'!$N$19 -> 0 | T38: ='Plot (4)'!$O$19 -> 0 | U38: ='Plot (4)'!$P$17 -> 0 | V38: ='Plot (4)'!$Q$17 -> 0 | W38: ='Plot (4)'!$P$18 -> 0 | X38: ='Plot (4)'!$Q$18 -> 0 | Y38: ='Plot (4)'!$P$19 -> 0 | Z38: ='Plot (4)'!$Q$19 -> 0 | AA38: ='Plot (4)'!$R$17 -> 0 | AB38: ='Plot (4)'!$S$17 -> 0 | AC38: ='Plot (4)'!$R$18 -> 0 | AD38: ='Plot (4)'!$S$18 -> 0 | AE38: ='Plot (4)'!$R$19 -> 0 | AF38: ='Plot (4)'!$S$19 -> 0 | AG38: ='Plot (4)'!$T$17 -> 0 | AH38: ='Plot (4)'!$U$17 -> 0 | AI38: ='Plot (4)'!$T$18 -> 0 | AJ38: ='Plot (4)'!$U$18 -> 0 | AK38: ='Plot (4)'!$T$19 -> 0 | AL38: ='Plot (4)'!$U$19 -> 0 | AN38: 7 | AO38: =+AG68 -> N/A | AP38: =+SUM(AG69:AG78) -> 0 | AQ38: =+SUM(AH69:AH78) -> 0 | AR38: =+SUM(AI69:AI78) -> 0 | AS38: =+SUM(AJ69:AJ78) -> 0 | AT38: =+SUM(AK69:AK78) -> 0 | AU38: =+SUM(AL69:AL78) -> 0 | AV38: =SUM(AP38:AU38) -> 0
A39: 4 | B39: =+'Plot (4)'!A$20 -> 0 | C39: ='Plot (4)'!$J$20 -> 0 | D39: ='Plot (4)'!$K$20 -> 0 | E39: ='Plot (4)'!$J$21 -> 0 | F39: ='Plot (4)'!$K$21 -> 0 | G39: ='Plot (4)'!$J$22 -> 0 | H39: ='Plot (4)'!$K$22 -> 0 | I39: ='Plot (4)'!$L$20 -> 0 | J39: ='Plot (4)'!$M$20 -> 0 | K39: ='Plot (4)'!$L$21 -> 0 | L39: ='Plot (4)'!$M$21 -> 0 | M39: ='Plot (4)'!$L$22 -> 0 | N39: ='Plot (4)'!$M$22 -> 0 | O39: ='Plot (4)'!$N$20 -> 0 | P39: ='Plot (4)'!$O$20 -> 0 | Q39: ='Plot (4)'!$N$21 -> 0 | R39: ='Plot (4)'!$O$21 -> 0 | S39: ='Plot (4)'!$N$22 -> 0 | T39: ='Plot (4)'!$O$22 -> 0 | U39: ='Plot (4)'!$P$20 -> 0 | V39: ='Plot (4)'!$Q$20 -> 0 | W39: ='Plot (4)'!$P$21 -> 0 | X39: ='Plot (4)'!$Q$21 -> 0 | Y39: ='Plot (4)'!$P$22 -> 0 | Z39: ='Plot (4)'!$Q$22 -> 0 | AA39: ='Plot (4)'!$R$20 -> 0 | AB39: ='Plot (4)'!$S$20 -> 0 | AC39: ='Plot (4)'!$R$21 -> 0 | AD39: ='Plot (4)'!$S$21 -> 0 | AE39: ='Plot (4)'!$R$22 -> 0 | AF39: ='Plot (4)'!$S$22 -> 0 | AG39: ='Plot (4)'!$T$20 -> 0 | AH39: ='Plot (4)'!$U$20 -> 0 | AI39: ='Plot (4)'!$T$21 -> 0 | AJ39: ='Plot (4)'!$U$21 -> 0 | AK39: ='Plot (4)'!$T$22 -> 0 | AL39: ='Plot (4)'!$U$22 -> 0 | AN39: 8 | AO39: =+C79 -> N/A | AP39: =+SUM(C80:C89) -> 0 | AQ39: =+SUM(D80:D89) -> 0 | AR39: =+SUM(E80:E89) -> 0 | AS39: =+SUM(F80:F89) -> 0 | AT39: =+SUM(G80:G89) -> 0 | AU39: =+SUM(H80:H89) -> 0 | AV39: =SUM(AP39:AU39) -> 0
A40: 4 | B40: =+'Plot (4)'!A$23 -> 0 | C40: ='Plot (4)'!$J$23 -> 0 | D40: ='Plot (4)'!$K$23 -> 0 | E40: ='Plot (4)'!$J$24 -> 0 | F40: ='Plot (4)'!$K$24 -> 0 | G40: ='Plot (4)'!$J$25 -> 0 | H40: ='Plot (4)'!$K$25 -> 0 | I40: ='Plot (4)'!$L$23 -> 0 | J40: ='Plot (4)'!$M$23 -> 0 | K40: ='Plot (4)'!$L$24 -> 0 | L40: ='Plot (4)'!$M$24 -> 0 | M40: ='Plot (4)'!$L$25 -> 0 | N40: ='Plot (4)'!$M$25 -> 0 | O40: ='Plot (4)'!$N$23 -> 0 | P40: ='Plot (4)'!$O$23 -> 0 | Q40: ='Plot (4)'!$N$24 -> 0 | R40: ='Plot (4)'!$O$24 -> 0 | S40: ='Plot (4)'!$N$25 -> 0 | T40: ='Plot (4)'!$O$25 -> 0 | U40: ='Plot (4)'!$P$23 -> 0 | V40: ='Plot (4)'!$Q$23 -> 0 | W40: ='Plot (4)'!$P$24 -> 0 | X40: ='Plot (4)'!$Q$24 -> 0 | Y40: ='Plot (4)'!$P$25 -> 0 | Z40: ='Plot (4)'!$Q$25 -> 0 | AA40: ='Plot (4)'!$R$23 -> 0 | AB40: ='Plot (4)'!$S$23 -> 0 | AC40: ='Plot (4)'!$R$24 -> 0 | AD40: ='Plot (4)'!$S$24 -> 0 | AE40: ='Plot (4)'!$R$25 -> 0 | AF40: ='Plot (4)'!$S$25 -> 0 | AG40: ='Plot (4)'!$T$23 -> 0 | AH40: ='Plot (4)'!$U$23 -> 0 | AI40: ='Plot (4)'!$T$24 -> 0 | AJ40: ='Plot (4)'!$U$24 -> 0 | AK40: ='Plot (4)'!$T$25 -> 0 | AL40: ='Plot (4)'!$U$25 -> 0 | AN40: 8 | AO40: =+I79 -> N/A | AP40: =+SUM(I80:I89) -> 0 | AQ40: =+SUM(J80:J89) -> 0 | AR40: =+SUM(K80:K89) -> 0 | AS40: =+SUM(L80:L89) -> 0 | AT40: =+SUM(M80:M89) -> 0 | AU40: =+SUM(N80:N89) -> 0 | AV40: =SUM(AP40:AU40) -> 0
A41: 4 | B41: =+'Plot (4)'!A$26 -> 0 | C41: ='Plot (4)'!$J$26 -> 0 | D41: ='Plot (4)'!$K$26 -> 0 | E41: ='Plot (4)'!$J$27 -> 0 | F41: ='Plot (4)'!$K$27 -> 0 | G41: ='Plot (4)'!$J$28 -> 0 | H41: ='Plot (4)'!$K$28 -> 0 | I41: ='Plot (4)'!$L$26 -> 0 | J41: ='Plot (4)'!$M$26 -> 0 | K41: ='Plot (4)'!$L$27 -> 0 | L41: ='Plot (4)'!$M$27 -> 0 | M41: ='Plot (4)'!$L$28 -> 0 | N41: ='Plot (4)'!$M$28 -> 0 | O41: ='Plot (4)'!$N$26 -> 0 | P41: ='Plot (4)'!$O$26 -> 0 | Q41: ='Plot (4)'!$N$27 -> 0 | R41: ='Plot (4)'!$O$27 -> 0 | S41: ='Plot (4)'!$N$28 -> 0 | T41: ='Plot (4)'!$O$28 -> 0 | U41: ='Plot (4)'!$P$26 -> 0 | V41: ='Plot (4)'!$Q$26 -> 0 | W41: ='Plot (4)'!$P$27 -> 0 | X41: ='Plot (4)'!$Q$27 -> 0 | Y41: ='Plot (4)'!$P$28 -> 0 | Z41: ='Plot (4)'!$Q$28 -> 0 | AA41: ='Plot (4)'!$R$26 -> 0 | AB41: ='Plot (4)'!$S$26 -> 0 | AC41: ='Plot (4)'!$R$27 -> 0 | AD41: ='Plot (4)'!$S$27 -> 0 | AE41: ='Plot (4)'!$R$28 -> 0 | AF41: ='Plot (4)'!$S$28 -> 0 | AG41: ='Plot (4)'!$T$26 -> 0 | AH41: ='Plot (4)'!$U$26 -> 0 | AI41: ='Plot (4)'!$T$27 -> 0 | AJ41: ='Plot (4)'!$U$27 -> 0 | AK41: ='Plot (4)'!$T$28 -> 0 | AL41: ='Plot (4)'!$U$28 -> 0 | AN41: 8 | AO41: =+O79 -> N/A | AP41: =+SUM(O80:O89) -> 0 | AQ41: =+SUM(P80:P89) -> 0 | AR41: =+SUM(Q80:Q89) -> 0 | AS41: =+SUM(R80:R89) -> 0 | AT41: =+SUM(S80:S89) -> 0 | AU41: =+SUM(T80:T89) -> 0 | AV41: =SUM(AP41:AU41) -> 0
A42: 4 | B42: =+'Plot (4)'!A$29 -> 0 | C42: ='Plot (4)'!$J$29 -> 0 | D42: ='Plot (4)'!$K$29 -> 0 | E42: ='Plot (4)'!$J$30 -> 0 | F42: ='Plot (4)'!$K$30 -> 0 | G42: ='Plot (4)'!$J$31 -> 0 | H42: ='Plot (4)'!$K$31 -> 0 | I42: ='Plot (4)'!$L$29 -> 0 | J42: ='Plot (4)'!$M$29 -> 0 | K42: ='Plot (4)'!$L$30 -> 0 | L42: ='Plot (4)'!$M$30 -> 0 | M42: ='Plot (4)'!$L$31 -> 0 | N42: ='Plot (4)'!$M$31 -> 0 | O42: ='Plot (4)'!$N$29 -> 0 | P42: ='Plot (4)'!$O$29 -> 0 | Q42: ='Plot (4)'!$N$30 -> 0 | R42: ='Plot (4)'!$O$30 -> 0 | S42: ='Plot (4)'!$N$31 -> 0 | T42: ='Plot (4)'!$O$31 -> 0 | U42: ='Plot (4)'!$P$29 -> 0 | V42: ='Plot (4)'!$Q$29 -> 0 | W42: ='Plot (4)'!$P$30 -> 0 | X42: ='Plot (4)'!$Q$30 -> 0 | Y42: ='Plot (4)'!$P$31 -> 0 | Z42: ='Plot (4)'!$Q$31 -> 0 | AA42: ='Plot (4)'!$R$29 -> 0 | AB42: ='Plot (4)'!$S$29 -> 0 | AC42: ='Plot (4)'!$R$30 -> 0 | AD42: ='Plot (4)'!$S$30 -> 0 | AE42: ='Plot (4)'!$R$31 -> 0 | AF42: ='Plot (4)'!$S$31 -> 0 | AG42: ='Plot (4)'!$T$29 -> 0 | AH42: ='Plot (4)'!$U$29 -> 0 | AI42: ='Plot (4)'!$T$30 -> 0 | AJ42: ='Plot (4)'!$U$30 -> 0 | AK42: ='Plot (4)'!$T$31 -> 0 | AL42: ='Plot (4)'!$U$31 -> 0 | AN42: 8 | AO42: =+U79 -> N/A | AP42: =+SUM(U80:U89) -> 0 | AQ42: =+SUM(V80:V89) -> 0 | AR42: =+SUM(W80:W89) -> 0 | AS42: =+SUM(X80:X89) -> 0 | AT42: =+SUM(Y80:Y89) -> 0 | AU42: =+SUM(Z80:Z89) -> 0 | AV42: =SUM(AP42:AU42) -> 0
A43: 4 | B43: =+'Plot (4)'!A$32 -> 0 | C43: ='Plot (4)'!$J$32 -> 0 | D43: ='Plot (4)'!$K$32 -> 0 | E43: ='Plot (4)'!$J$33 -> 0 | F43: ='Plot (4)'!$K$33 -> 0 | G43: ='Plot (4)'!$J$34 -> 0 | H43: ='Plot (4)'!$K$34 -> 0 | I43: ='Plot (4)'!$L$32 -> 0 | J43: ='Plot (4)'!$M$32 -> 0 | K43: ='Plot (4)'!$L$33 -> 0 | L43: ='Plot (4)'!$M$33 -> 0 | M43: ='Plot (4)'!$L$34 -> 0 | N43: ='Plot (4)'!$M$34 -> 0 | O43: ='Plot (4)'!$N$32 -> 0 | P43: ='Plot (4)'!$O$32 -> 0 | Q43: ='Plot (4)'!$N$33 -> 0 | R43: ='Plot (4)'!$O$33 -> 0 | S43: ='Plot (4)'!$N$34 -> 0 | T43: ='Plot (4)'!$O$34 -> 0 | U43: ='Plot (4)'!$P$32 -> 0 | V43: ='Plot (4)'!$Q$32 -> 0 | W43: ='Plot (4)'!$P$33 -> 0 | X43: ='Plot (4)'!$Q$33 -> 0 | Y43: ='Plot (4)'!$P$34 -> 0 | Z43: ='Plot (4)'!$Q$34 -> 0 | AA43: ='Plot (4)'!$R$32 -> 0 | AB43: ='Plot (4)'!$S$32 -> 0 | AC43: ='Plot (4)'!$R$33 -> 0 | AD43: ='Plot (4)'!$S$33 -> 0 | AE43: ='Plot (4)'!$R$34 -> 0 | AF43: ='Plot (4)'!$S$34 -> 0 | AG43: ='Plot (4)'!$T$32 -> 0 | AH43: ='Plot (4)'!$U$32 -> 0 | AI43: ='Plot (4)'!$T$33 -> 0 | AJ43: ='Plot (4)'!$U$33 -> 0 | AK43: ='Plot (4)'!$T$34 -> 0 | AL43: ='Plot (4)'!$U$34 -> 0 | AN43: 8 | AO43: =+AG79 -> N/A | AP43: =+SUM(AG80:AG89) -> 0 | AQ43: =+SUM(AH80:AH89) -> 0 | AR43: =+SUM(AI80:AI89) -> 0 | AS43: =+SUM(AJ80:AJ89) -> 0 | AT43: =+SUM(AK80:AK89) -> 0 | AU43: =+SUM(AL80:AL89) -> 0 | AV43: =SUM(AP43:AU43) -> 0
A44: 4 | B44: =+'Plot (4)'!A$35 -> 0 | C44: ='Plot (4)'!$J$35 -> 0 | D44: ='Plot (4)'!$K$35 -> 0 | E44: ='Plot (4)'!$J$36 -> 0 | F44: ='Plot (4)'!$K$36 -> 0 | G44: ='Plot (4)'!$J$37 -> 0 | H44: ='Plot (4)'!$K$37 -> 0 | I44: ='Plot (4)'!$L$35 -> 0 | J44: ='Plot (4)'!$M$35 -> 0 | K44: ='Plot (4)'!$L$36 -> 0 | L44: ='Plot (4)'!$M$36 -> 0 | M44: ='Plot (4)'!$L$37 -> 0 | N44: ='Plot (4)'!$M$37 -> 0 | O44: ='Plot (4)'!$N$35 -> 0 | P44: ='Plot (4)'!$O$35 -> 0 | Q44: ='Plot (4)'!$N$36 -> 0 | R44: ='Plot (4)'!$O$36 -> 0 | S44: ='Plot (4)'!$N$37 -> 0 | T44: ='Plot (4)'!$O$37 -> 0 | U44: ='Plot (4)'!$P$35 -> 0 | V44: ='Plot (4)'!$Q$35 -> 0 | W44: ='Plot (4)'!$P$36 -> 0 | X44: ='Plot (4)'!$Q$36 -> 0 | Y44: ='Plot (4)'!$P$37 -> 0 | Z44: ='Plot (4)'!$Q$37 -> 0 | AA44: ='Plot (4)'!$R$35 -> 0 | AB44: ='Plot (4)'!$S$35 -> 0 | AC44: ='Plot (4)'!$R$36 -> 0 | AD44: ='Plot (4)'!$S$36 -> 0 | AE44: ='Plot (4)'!$R$37 -> 0 | AF44: ='Plot (4)'!$S$37 -> 0 | AG44: ='Plot (4)'!$T$35 -> 0 | AH44: ='Plot (4)'!$U$35 -> 0 | AI44: ='Plot (4)'!$T$36 -> 0 | AJ44: ='Plot (4)'!$U$36 -> 0 | AK44: ='Plot (4)'!$T$37 -> 0 | AL44: ='Plot (4)'!$U$37 -> 0 | AN44: 9 | AO44: =+C90 -> N/A | AP44: =+SUM(C91:C100) -> 0 | AQ44: =+SUM(D91:D100) -> 0 | AR44: =+SUM(E91:E100) -> 0 | AS44: =+SUM(F91:F100) -> 0 | AT44: =+SUM(G91:G100) -> 0 | AU44: =+SUM(H91:H100) -> 0 | AV44: =SUM(AP44:AU44) -> 0
A45: 4 | B45: =+'Plot (4)'!A$38 -> 0 | C45: ='Plot (4)'!$J$38 -> 0 | D45: ='Plot (4)'!$K$38 -> 0 | E45: ='Plot (4)'!$J$39 -> 0 | F45: ='Plot (4)'!$K$39 -> 0 | G45: ='Plot (4)'!$J$40 -> 0 | H45: ='Plot (4)'!$K$40 -> 0 | I45: ='Plot (4)'!$L$38 -> 0 | J45: ='Plot (4)'!$M$38 -> 0 | K45: ='Plot (4)'!$L$39 -> 0 | L45: ='Plot (4)'!$M$39 -> 0 | M45: ='Plot (4)'!$L$40 -> 0 | N45: ='Plot (4)'!$M$40 -> 0 | O45: ='Plot (4)'!$N$38 -> 0 | P45: ='Plot (4)'!$O$38 -> 0 | Q45: ='Plot (4)'!$N$39 -> 0 | R45: ='Plot (4)'!$O$39 -> 0 | S45: ='Plot (4)'!$N$40 -> 0 | T45: ='Plot (4)'!$O$40 -> 0 | U45: ='Plot (4)'!$P$38 -> 0 | V45: ='Plot (4)'!$Q$38 -> 0 | W45: ='Plot (4)'!$P$39 -> 0 | X45: ='Plot (4)'!$Q$39 -> 0 | Y45: ='Plot (4)'!$P$40 -> 0 | Z45: ='Plot (4)'!$Q$40 -> 0 | AA45: ='Plot (4)'!$R$38 -> 0 | AB45: ='Plot (4)'!$S$38 -> 0 | AC45: ='Plot (4)'!$R$39 -> 0 | AD45: ='Plot (4)'!$S$39 -> 0 | AE45: ='Plot (4)'!$R$40 -> 0 | AF45: ='Plot (4)'!$S$40 -> 0 | AG45: ='Plot (4)'!$T$38 -> 0 | AH45: ='Plot (4)'!$U$38 -> 0 | AI45: ='Plot (4)'!$T$39 -> 0 | AJ45: ='Plot (4)'!$U$39 -> 0 | AK45: ='Plot (4)'!$T$40 -> 0 | AL45: ='Plot (4)'!$U$40 -> 0 | AN45: 9 | AO45: =+I90 -> N/A | AP45: =+SUM(I91:I100) -> 0 | AQ45: =+SUM(J91:J100) -> 0 | AR45: =+SUM(K91:K100) -> 0 | AS45: =+SUM(L91:L100) -> 0 | AT45: =+SUM(M91:M100) -> 0 | AU45: =+SUM(N91:N100) -> 0 | AV45: =SUM(AP45:AU45) -> 0
A46: 5 | B46: FOREST HEALTH DAMAGE AGENTS | C46: =IF(CELL("type",('Plot (5)'!$J$8))="b","N/A",'Plot (5)'!$J$8) -> N/A | I46: =IF(CELL("type",('Plot (5)'!$L$8))="b","N/A",'Plot (5)'!$L$8) -> N/A | O46: =IF(CELL("type",('Plot (5)'!$N$8))="b","N/A",'Plot (5)'!$N$8) -> N/A | U46: =IF(CELL("type",('Plot (5)'!$P$8))="b","N/A",'Plot (5)'!$P$8) -> N/A | AA46: =IF(CELL("type",('Plot (5)'!$R$8))="b","N/A",'Plot (5)'!$R$8) -> N/A | AG46: =IF(CELL("type",('Plot (5)'!$T$8))="b","N/A",'Plot (5)'!$T$8) -> N/A | AN46: 9 | AO46: =+O90 -> N/A | AP46: =+SUM(O91:O100) -> 0 | AQ46: =+SUM(P91:P100) -> 0 | AR46: =+SUM(Q91:Q100) -> 0 | AS46: =+SUM(R91:R100) -> 0 | AT46: =+SUM(S91:S100) -> 0 | AU46: =+SUM(T91:T100) -> 0 | AV46: =SUM(AP46:AU46) -> 0
A47: 5 | B47: =+'Plot (5)'!A$11 -> 0 | C47: ='Plot (5)'!$J$11 -> 0 | D47: ='Plot (5)'!$K$11 -> 0 | E47: ='Plot (5)'!$J$12 -> 0 | F47: ='Plot (5)'!$K$12 -> 0 | G47: ='Plot (5)'!$J$13 -> 0 | H47: ='Plot (5)'!$K$13 -> 0 | I47: ='Plot (5)'!$L$11 -> 0 | J47: ='Plot (5)'!$M$11 -> 0 | K47: ='Plot (5)'!$L$12 -> 0 | L47: ='Plot (5)'!$M$12 -> 0 | M47: ='Plot (5)'!$L$13 -> 0 | N47: ='Plot (5)'!$M$13 -> 0 | O47: ='Plot (5)'!$N$11 -> 0 | P47: ='Plot (5)'!$O$11 -> 0 | Q47: ='Plot (5)'!$N$12 -> 0 | R47: ='Plot (5)'!$O$12 -> 0 | S47: ='Plot (5)'!$N$13 -> 0 | T47: ='Plot (5)'!$O$13 -> 0 | U47: ='Plot (5)'!$P$11 -> 0 | V47: ='Plot (5)'!$Q$11 -> 0 | W47: ='Plot (5)'!$P$12 -> 0 | X47: ='Plot (5)'!$Q$12 -> 0 | Y47: ='Plot (5)'!$P$13 -> 0 | Z47: ='Plot (5)'!$Q$13 -> 0 | AA47: ='Plot (5)'!$R$11 -> 0 | AB47: ='Plot (5)'!$S$11 -> 0 | AC47: ='Plot (5)'!$R$12 -> 0 | AD47: ='Plot (5)'!$S$12 -> 0 | AE47: ='Plot (5)'!$R$13 -> 0 | AF47: ='Plot (5)'!$S$13 -> 0 | AG47: ='Plot (5)'!$T$11 -> 0 | AH47: ='Plot (5)'!$U$11 -> 0 | AI47: ='Plot (5)'!$T$12 -> 0 | AJ47: ='Plot (5)'!$U$12 -> 0 | AK47: ='Plot (5)'!$T$13 -> 0 | AL47: ='Plot (5)'!$U$13 -> 0 | AN47: 9 | AO47: =+U90 -> N/A | AP47: =+SUM(U91:U100) -> 0 | AQ47: =+SUM(V91:V100) -> 0 | AR47: =+SUM(W91:W100) -> 0 | AS47: =+SUM(X91:X100) -> 0 | AT47: =+SUM(Y91:Y100) -> 0 | AU47: =+SUM(Z91:Z100) -> 0 | AV47: =SUM(AP47:AU47) -> 0
A48: 5 | B48: =+'Plot (5)'!A$14 -> 0 | C48: ='Plot (5)'!$J$14 -> 0 | D48: ='Plot (5)'!$K$14 -> 0 | E48: ='Plot (5)'!$J$15 -> 0 | F48: ='Plot (5)'!$K$15 -> 0 | G48: ='Plot (5)'!$J$16 -> 0 | H48: ='Plot (5)'!$K$16 -> 0 | I48: ='Plot (5)'!$L$14 -> 0 | J48: ='Plot (5)'!$M$14 -> 0 | K48: ='Plot (5)'!$L$15 -> 0 | L48: ='Plot (5)'!$M$15 -> 0 | M48: ='Plot (5)'!$L$16 -> 0 | N48: ='Plot (5)'!$M$16 -> 0 | O48: ='Plot (5)'!$N$14 -> 0 | P48: ='Plot (5)'!$O$14 -> 0 | Q48: ='Plot (5)'!$N$15 -> 0 | R48: ='Plot (5)'!$O$15 -> 0 | S48: ='Plot (5)'!$N$16 -> 0 | T48: ='Plot (5)'!$O$16 -> 0 | U48: ='Plot (5)'!$P$14 -> 0 | V48: ='Plot (5)'!$Q$14 -> 0 | W48: ='Plot (5)'!$P$15 -> 0 | X48: ='Plot (5)'!$Q$15 -> 0 | Y48: ='Plot (5)'!$P$16 -> 0 | Z48: ='Plot (5)'!$Q$16 -> 0 | AA48: ='Plot (5)'!$R$14 -> 0 | AB48: ='Plot (5)'!$S$14 -> 0 | AC48: ='Plot (5)'!$R$15 -> 0 | AD48: ='Plot (5)'!$S$15 -> 0 | AE48: ='Plot (5)'!$R$16 -> 0 | AF48: ='Plot (5)'!$S$16 -> 0 | AG48: ='Plot (5)'!$T$14 -> 0 | AH48: ='Plot (5)'!$U$14 -> 0 | AI48: ='Plot (5)'!$T$15 -> 0 | AJ48: ='Plot (5)'!$U$15 -> 0 | AK48: ='Plot (5)'!$T$16 -> 0 | AL48: ='Plot (5)'!$U$16 -> 0 | AN48: 9 | AO48: =+AG90 -> N/A | AP48: =+SUM(AG91:AG100) -> 0 | AQ48: =+SUM(AH91:AH100) -> 0 | AR48: =+SUM(AI91:AI100) -> 0 | AS48: =+SUM(AJ91:AJ100) -> 0 | AT48: =+SUM(AK91:AK100) -> 0 | AU48: =+SUM(AL91:AL100) -> 0 | AV48: =SUM(AP48:AU48) -> 0
A49: 5 | B49: =+'Plot (5)'!A$17 -> 0 | C49: ='Plot (5)'!$J$17 -> 0 | D49: ='Plot (5)'!$K$17 -> 0 | E49: ='Plot (5)'!$J$18 -> 0 | F49: ='Plot (5)'!$K$18 -> 0 | G49: ='Plot (5)'!$J$19 -> 0 | H49: ='Plot (5)'!$K$19 -> 0 | I49: ='Plot (5)'!$L$17 -> 0 | J49: ='Plot (5)'!$M$17 -> 0 | K49: ='Plot (5)'!$L$18 -> 0 | L49: ='Plot (5)'!$M$18 -> 0 | M49: ='Plot (5)'!$L$19 -> 0 | N49: ='Plot (5)'!$M$19 -> 0 | O49: ='Plot (5)'!$N$17 -> 0 | P49: ='Plot (5)'!$O$17 -> 0 | Q49: ='Plot (5)'!$N$18 -> 0 | R49: ='Plot (5)'!$O$18 -> 0 | S49: ='Plot (5)'!$N$19 -> 0 | T49: ='Plot (5)'!$O$19 -> 0 | U49: ='Plot (5)'!$P$17 -> 0 | V49: ='Plot (5)'!$Q$17 -> 0 | W49: ='Plot (5)'!$P$18 -> 0 | X49: ='Plot (5)'!$Q$18 -> 0 | Y49: ='Plot (5)'!$P$19 -> 0 | Z49: ='Plot (5)'!$Q$19 -> 0 | AA49: ='Plot (5)'!$R$17 -> 0 | AB49: ='Plot (5)'!$S$17 -> 0 | AC49: ='Plot (5)'!$R$18 -> 0 | AD49: ='Plot (5)'!$S$18 -> 0 | AE49: ='Plot (5)'!$R$19 -> 0 | AF49: ='Plot (5)'!$S$19 -> 0 | AG49: ='Plot (5)'!$T$17 -> 0 | AH49: ='Plot (5)'!$U$17 -> 0 | AI49: ='Plot (5)'!$T$18 -> 0 | AJ49: ='Plot (5)'!$U$18 -> 0 | AK49: ='Plot (5)'!$T$19 -> 0 | AL49: ='Plot (5)'!$U$19 -> 0 | AN49: 10 | AO49: =+C101 -> N/A | AP49: =+SUM(C102:C111) -> 0 | AQ49: =+SUM(D102:D111) -> 0 | AR49: =+SUM(E102:E111) -> 0 | AS49: =+SUM(F102:F111) -> 0 | AT49: =+SUM(G102:G111) -> 0 | AU49: =+SUM(H102:H111) -> 0 | AV49: =SUM(AP49:AU49) -> 0
A50: 5 | B50: =+'Plot (5)'!A$20 -> 0 | C50: ='Plot (5)'!$J$20 -> 0 | D50: ='Plot (5)'!$K$20 -> 0 | E50: ='Plot (5)'!$J$21 -> 0 | F50: ='Plot (5)'!$K$21 -> 0 | G50: ='Plot (5)'!$J$22 -> 0 | H50: ='Plot (5)'!$K$22 -> 0 | I50: ='Plot (5)'!$L$20 -> 0 | J50: ='Plot (5)'!$M$20 -> 0 | K50: ='Plot (5)'!$L$21 -> 0 | L50: ='Plot (5)'!$M$21 -> 0 | M50: ='Plot (5)'!$L$22 -> 0 | N50: ='Plot (5)'!$M$22 -> 0 | O50: ='Plot (5)'!$N$20 -> 0 | P50: ='Plot (5)'!$O$20 -> 0 | Q50: ='Plot (5)'!$N$21 -> 0 | R50: ='Plot (5)'!$O$21 -> 0 | S50: ='Plot (5)'!$N$22 -> 0 | T50: ='Plot (5)'!$O$22 -> 0 | U50: ='Plot (5)'!$P$20 -> 0 | V50: ='Plot (5)'!$Q$20 -> 0 | W50: ='Plot (5)'!$P$21 -> 0 | X50: ='Plot (5)'!$Q$21 -> 0 | Y50: ='Plot (5)'!$P$22 -> 0 | Z50: ='Plot (5)'!$Q$22 -> 0 | AA50: ='Plot (5)'!$R$20 -> 0 | AB50: ='Plot (5)'!$S$20 -> 0 | AC50: ='Plot (5)'!$R$21 -> 0 | AD50: ='Plot (5)'!$S$21 -> 0 | AE50: ='Plot (5)'!$R$22 -> 0 | AF50: ='Plot (5)'!$S$22 -> 0 | AG50: ='Plot (5)'!$T$20 -> 0 | AH50: ='Plot (5)'!$U$20 -> 0 | AI50: ='Plot (5)'!$T$21 -> 0 | AJ50: ='Plot (5)'!$U$21 -> 0 | AK50: ='Plot (5)'!$T$22 -> 0 | AL50: ='Plot (5)'!$U$22 -> 0 | AN50: 10 | AO50: =+I101 -> N/A | AP50: =+SUM(I102:I111) -> 0 | AQ50: =+SUM(J102:J111) -> 0 | AR50: =+SUM(K102:K111) -> 0 | AS50: =+SUM(L102:L111) -> 0 | AT50: =+SUM(M102:M111) -> 0 | AU50: =+SUM(N102:N111) -> 0 | AV50: =SUM(AP50:AU50) -> 0
A51: 5 | B51: =+'Plot (5)'!A$23 -> 0 | C51: ='Plot (5)'!$J$23 -> 0 | D51: ='Plot (5)'!$K$23 -> 0 | E51: ='Plot (5)'!$J$24 -> 0 | F51: ='Plot (5)'!$K$24 -> 0 | G51: ='Plot (5)'!$J$25 -> 0 | H51: ='Plot (5)'!$K$25 -> 0 | I51: ='Plot (5)'!$L$23 -> 0 | J51: ='Plot (5)'!$M$23 -> 0 | K51: ='Plot (5)'!$L$24 -> 0 | L51: ='Plot (5)'!$M$24 -> 0 | M51: ='Plot (5)'!$L$25 -> 0 | N51: ='Plot (5)'!$M$25 -> 0 | O51: ='Plot (5)'!$N$23 -> 0 | P51: ='Plot (5)'!$O$23 -> 0 | Q51: ='Plot (5)'!$N$24 -> 0 | R51: ='Plot (5)'!$O$24 -> 0 | S51: ='Plot (5)'!$N$25 -> 0 | T51: ='Plot (5)'!$O$25 -> 0 | U51: ='Plot (5)'!$P$23 -> 0 | V51: ='Plot (5)'!$Q$23 -> 0 | W51: ='Plot (5)'!$P$24 -> 0 | X51: ='Plot (5)'!$Q$24 -> 0 | Y51: ='Plot (5)'!$P$25 -> 0 | Z51: ='Plot (5)'!$Q$25 -> 0 | AA51: ='Plot (5)'!$R$23 -> 0 | AB51: ='Plot (5)'!$S$23 -> 0 | AC51: ='Plot (5)'!$R$24 -> 0 | AD51: ='Plot (5)'!$S$24 -> 0 | AE51: ='Plot (5)'!$R$25 -> 0 | AF51: ='Plot (5)'!$S$25 -> 0 | AG51: ='Plot (5)'!$T$23 -> 0 | AH51: ='Plot (5)'!$U$23 -> 0 | AI51: ='Plot (5)'!$T$24 -> 0 | AJ51: ='Plot (5)'!$U$24 -> 0 | AK51: ='Plot (5)'!$T$25 -> 0 | AL51: ='Plot (5)'!$U$25 -> 0 | AN51: 10 | AO51: =+O101 -> N/A | AP51: =+SUM(O102:O111) -> 0 | AQ51: =+SUM(P102:P111) -> 0 | AR51: =+SUM(Q102:Q111) -> 0 | AS51: =+SUM(R102:R111) -> 0 | AT51: =+SUM(S102:S111) -> 0 | AU51: =+SUM(T102:T111) -> 0 | AV51: =SUM(AP51:AU51) -> 0
A52: 5 | B52: =+'Plot (5)'!A$26 -> 0 | C52: ='Plot (5)'!$J$26 -> 0 | D52: ='Plot (5)'!$K$26 -> 0 | E52: ='Plot (5)'!$J$27 -> 0 | F52: ='Plot (5)'!$K$27 -> 0 | G52: ='Plot (5)'!$J$28 -> 0 | H52: ='Plot (5)'!$K$28 -> 0 | I52: ='Plot (5)'!$L$26 -> 0 | J52: ='Plot (5)'!$M$26 -> 0 | K52: ='Plot (5)'!$L$27 -> 0 | L52: ='Plot (5)'!$M$27 -> 0 | M52: ='Plot (5)'!$L$28 -> 0 | N52: ='Plot (5)'!$M$28 -> 0 | O52: ='Plot (5)'!$N$26 -> 0 | P52: ='Plot (5)'!$O$26 -> 0 | Q52: ='Plot (5)'!$N$27 -> 0 | R52: ='Plot (5)'!$O$27 -> 0 | S52: ='Plot (5)'!$N$28 -> 0 | T52: ='Plot (5)'!$O$28 -> 0 | U52: ='Plot (5)'!$P$26 -> 0 | V52: ='Plot (5)'!$Q$26 -> 0 | W52: ='Plot (5)'!$P$27 -> 0 | X52: ='Plot (5)'!$Q$27 -> 0 | Y52: ='Plot (5)'!$P$28 -> 0 | Z52: ='Plot (5)'!$Q$28 -> 0 | AA52: ='Plot (5)'!$R$26 -> 0 | AB52: ='Plot (5)'!$S$26 -> 0 | AC52: ='Plot (5)'!$R$27 -> 0 | AD52: ='Plot (5)'!$S$27 -> 0 | AE52: ='Plot (5)'!$R$28 -> 0 | AF52: ='Plot (5)'!$S$28 -> 0 | AG52: ='Plot (5)'!$T$26 -> 0 | AH52: ='Plot (5)'!$U$26 -> 0 | AI52: ='Plot (5)'!$T$27 -> 0 | AJ52: ='Plot (5)'!$U$27 -> 0 | AK52: ='Plot (5)'!$T$28 -> 0 | AL52: ='Plot (5)'!$U$28 -> 0 | AN52: 10 | AO52: =+U101 -> N/A | AP52: =+SUM(U102:U111) -> 0 | AQ52: =+SUM(V102:V111) -> 0 | AR52: =+SUM(W102:W111) -> 0 | AS52: =+SUM(X102:X111) -> 0 | AT52: =+SUM(Y102:Y111) -> 0 | AU52: =+SUM(Z102:Z111) -> 0 | AV52: =SUM(AP52:AU52) -> 0
A53: 5 | B53: =+'Plot (5)'!A$29 -> 0 | C53: ='Plot (5)'!$J$29 -> 0 | D53: ='Plot (5)'!$K$29 -> 0 | E53: ='Plot (5)'!$J$30 -> 0 | F53: ='Plot (5)'!$K$30 -> 0 | G53: ='Plot (5)'!$J$31 -> 0 | H53: ='Plot (5)'!$K$31 -> 0 | I53: ='Plot (5)'!$L$29 -> 0 | J53: ='Plot (5)'!$M$29 -> 0 | K53: ='Plot (5)'!$L$30 -> 0 | L53: ='Plot (5)'!$M$30 -> 0 | M53: ='Plot (5)'!$L$31 -> 0 | N53: ='Plot (5)'!$M$31 -> 0 | O53: ='Plot (5)'!$N$29 -> 0 | P53: ='Plot (5)'!$O$29 -> 0 | Q53: ='Plot (5)'!$N$30 -> 0 | R53: ='Plot (5)'!$O$30 -> 0 | S53: ='Plot (5)'!$N$31 -> 0 | T53: ='Plot (5)'!$O$31 -> 0 | U53: ='Plot (5)'!$P$29 -> 0 | V53: ='Plot (5)'!$Q$29 -> 0 | W53: ='Plot (5)'!$P$30 -> 0 | X53: ='Plot (5)'!$Q$30 -> 0 | Y53: ='Plot (5)'!$P$31 -> 0 | Z53: ='Plot (5)'!$Q$31 -> 0 | AA53: ='Plot (5)'!$R$29 -> 0 | AB53: ='Plot (5)'!$S$29 -> 0 | AC53: ='Plot (5)'!$R$30 -> 0 | AD53: ='Plot (5)'!$S$30 -> 0 | AE53: ='Plot (5)'!$R$31 -> 0 | AF53: ='Plot (5)'!$S$31 -> 0 | AG53: ='Plot (5)'!$T$29 -> 0 | AH53: ='Plot (5)'!$U$29 -> 0 | AI53: ='Plot (5)'!$T$30 -> 0 | AJ53: ='Plot (5)'!$U$30 -> 0 | AK53: ='Plot (5)'!$T$31 -> 0 | AL53: ='Plot (5)'!$U$31 -> 0 | AN53: 10 | AO53: =+AG101 -> N/A | AP53: =+SUM(AG102:AG111) -> 0 | AQ53: =+SUM(AH102:AH111) -> 0 | AR53: =+SUM(AI102:AI111) -> 0 | AS53: =+SUM(AJ102:AJ111) -> 0 | AT53: =+SUM(AK102:AK111) -> 0 | AU53: =+SUM(AL102:AL111) -> 0 | AV53: =SUM(AP53:AU53) -> 0
A54: 5 | B54: =+'Plot (5)'!A$32 -> 0 | C54: ='Plot (5)'!$J$32 -> 0 | D54: ='Plot (5)'!$K$32 -> 0 | E54: ='Plot (5)'!$J$33 -> 0 | F54: ='Plot (5)'!$K$33 -> 0 | G54: ='Plot (5)'!$J$34 -> 0 | H54: ='Plot (5)'!$K$34 -> 0 | I54: ='Plot (5)'!$L$32 -> 0 | J54: ='Plot (5)'!$M$32 -> 0 | K54: ='Plot (5)'!$L$33 -> 0 | L54: ='Plot (5)'!$M$33 -> 0 | M54: ='Plot (5)'!$L$34 -> 0 | N54: ='Plot (5)'!$M$34 -> 0 | O54: ='Plot (5)'!$N$32 -> 0 | P54: ='Plot (5)'!$O$32 -> 0 | Q54: ='Plot (5)'!$N$33 -> 0 | R54: ='Plot (5)'!$O$33 -> 0 | S54: ='Plot (5)'!$N$34 -> 0 | T54: ='Plot (5)'!$O$34 -> 0 | U54: ='Plot (5)'!$P$32 -> 0 | V54: ='Plot (5)'!$Q$32 -> 0 | W54: ='Plot (5)'!$P$33 -> 0 | X54: ='Plot (5)'!$Q$33 -> 0 | Y54: ='Plot (5)'!$P$34 -> 0 | Z54: ='Plot (5)'!$Q$34 -> 0 | AA54: ='Plot (5)'!$R$32 -> 0 | AB54: ='Plot (5)'!$S$32 -> 0 | AC54: ='Plot (5)'!$R$33 -> 0 | AD54: ='Plot (5)'!$S$33 -> 0 | AE54: ='Plot (5)'!$R$34 -> 0 | AF54: ='Plot (5)'!$S$34 -> 0 | AG54: ='Plot (5)'!$T$32 -> 0 | AH54: ='Plot (5)'!$U$32 -> 0 | AI54: ='Plot (5)'!$T$33 -> 0 | AJ54: ='Plot (5)'!$U$33 -> 0 | AK54: ='Plot (5)'!$T$34 -> 0 | AL54: ='Plot (5)'!$U$34 -> 0
A55: 5 | B55: =+'Plot (5)'!A$35 -> 0 | C55: ='Plot (5)'!$J$35 -> 0 | D55: ='Plot (5)'!$K$35 -> 0 | E55: ='Plot (5)'!$J$36 -> 0 | F55: ='Plot (5)'!$K$36 -> 0 | G55: ='Plot (5)'!$J$37 -> 0 | H55: ='Plot (5)'!$K$37 -> 0 | I55: ='Plot (5)'!$L$35 -> 0 | J55: ='Plot (5)'!$M$35 -> 0 | K55: ='Plot (5)'!$L$36 -> 0 | L55: ='Plot (5)'!$M$36 -> 0 | M55: ='Plot (5)'!$L$37 -> 0 | N55: ='Plot (5)'!$M$37 -> 0 | O55: ='Plot (5)'!$N$35 -> 0 | P55: ='Plot (5)'!$O$35 -> 0 | Q55: ='Plot (5)'!$N$36 -> 0 | R55: ='Plot (5)'!$O$36 -> 0 | S55: ='Plot (5)'!$N$37 -> 0 | T55: ='Plot (5)'!$O$37 -> 0 | U55: ='Plot (5)'!$P$35 -> 0 | V55: ='Plot (5)'!$Q$35 -> 0 | W55: ='Plot (5)'!$P$36 -> 0 | X55: ='Plot (5)'!$Q$36 -> 0 | Y55: ='Plot (5)'!$P$37 -> 0 | Z55: ='Plot (5)'!$Q$37 -> 0 | AA55: ='Plot (5)'!$R$35 -> 0 | AB55: ='Plot (5)'!$S$35 -> 0 | AC55: ='Plot (5)'!$R$36 -> 0 | AD55: ='Plot (5)'!$S$36 -> 0 | AE55: ='Plot (5)'!$R$37 -> 0 | AF55: ='Plot (5)'!$S$37 -> 0 | AG55: ='Plot (5)'!$T$35 -> 0 | AH55: ='Plot (5)'!$U$35 -> 0 | AI55: ='Plot (5)'!$T$36 -> 0 | AJ55: ='Plot (5)'!$U$36 -> 0 | AK55: ='Plot (5)'!$T$37 -> 0 | AL55: ='Plot (5)'!$U$37 -> 0
A56: 5 | B56: =+'Plot (5)'!A$38 -> 0 | C56: ='Plot (5)'!$J$38 -> 0 | D56: ='Plot (5)'!$K$38 -> 0 | E56: ='Plot (5)'!$J$39 -> 0 | F56: ='Plot (5)'!$K$39 -> 0 | G56: ='Plot (5)'!$J$40 -> 0 | H56: ='Plot (5)'!$K$40 -> 0 | I56: ='Plot (5)'!$L$38 -> 0 | J56: ='Plot (5)'!$M$38 -> 0 | K56: ='Plot (5)'!$L$39 -> 0 | L56: ='Plot (5)'!$M$39 -> 0 | M56: ='Plot (5)'!$L$40 -> 0 | N56: ='Plot (5)'!$M$40 -> 0 | O56: ='Plot (5)'!$N$38 -> 0 | P56: ='Plot (5)'!$O$38 -> 0 | Q56: ='Plot (5)'!$N$39 -> 0 | R56: ='Plot (5)'!$O$39 -> 0 | S56: ='Plot (5)'!$N$40 -> 0 | T56: ='Plot (5)'!$O$40 -> 0 | U56: ='Plot (5)'!$P$38 -> 0 | V56: ='Plot (5)'!$Q$38 -> 0 | W56: ='Plot (5)'!$P$39 -> 0 | X56: ='Plot (5)'!$Q$39 -> 0 | Y56: ='Plot (5)'!$P$40 -> 0 | Z56: ='Plot (5)'!$Q$40 -> 0 | AA56: ='Plot (5)'!$R$38 -> 0 | AB56: ='Plot (5)'!$S$38 -> 0 | AC56: ='Plot (5)'!$R$39 -> 0 | AD56: ='Plot (5)'!$S$39 -> 0 | AE56: ='Plot (5)'!$R$40 -> 0 | AF56: ='Plot (5)'!$S$40 -> 0 | AG56: ='Plot (5)'!$T$38 -> 0 | AH56: ='Plot (5)'!$U$38 -> 0 | AI56: ='Plot (5)'!$T$39 -> 0 | AJ56: ='Plot (5)'!$U$39 -> 0 | AK56: ='Plot (5)'!$T$40 -> 0 | AL56: ='Plot (5)'!$U$40 -> 0
A57: 6 | B57: FOREST HEALTH DAMAGE AGENTS | C57: =IF(CELL("type",('Plot (6)'!$J$8))="b","N/A",'Plot (6)'!$J$8) -> N/A | I57: =IF(CELL("type",('Plot (6)'!$L$8))="b","N/A",'Plot (6)'!$L$8) -> N/A | O57: =IF(CELL("type",('Plot (6)'!$N$8))="b","N/A",'Plot (6)'!$N$8) -> N/A | U57: =IF(CELL("type",('Plot (6)'!$P$8))="b","N/A",'Plot (6)'!$P$8) -> N/A | AA57: =IF(CELL("type",('Plot (6)'!$R$8))="b","N/A",'Plot (6)'!$R$8) -> N/A | AG57: =IF(CELL("type",('Plot (6)'!$T$8))="b","N/A",'Plot (6)'!$T$8) -> N/A
A58: 6 | B58: =+'Plot (6)'!A$11 -> 0 | C58: ='Plot (6)'!$J$11 -> 0 | D58: ='Plot (6)'!$K$11 -> 0 | E58: ='Plot (6)'!$J$12 -> 0 | F58: ='Plot (6)'!$K$12 -> 0 | G58: ='Plot (6)'!$J$13 -> 0 | H58: ='Plot (6)'!$K$13 -> 0 | I58: ='Plot (6)'!$L$11 -> 0 | J58: ='Plot (6)'!$M$11 -> 0 | K58: ='Plot (6)'!$L$12 -> 0 | L58: ='Plot (6)'!$M$12 -> 0 | M58: ='Plot (6)'!$L$13 -> 0 | N58: ='Plot (6)'!$M$13 -> 0 | O58: ='Plot (6)'!$N$11 -> 0 | P58: ='Plot (6)'!$O$11 -> 0 | Q58: ='Plot (6)'!$N$12 -> 0 | R58: ='Plot (6)'!$O$12 -> 0 | S58: ='Plot (6)'!$N$13 -> 0 | T58: ='Plot (6)'!$O$13 -> 0 | U58: ='Plot (6)'!$P$11 -> 0 | V58: ='Plot (6)'!$Q$11 -> 0 | W58: ='Plot (6)'!$P$12 -> 0 | X58: ='Plot (6)'!$Q$12 -> 0 | Y58: ='Plot (6)'!$P$13 -> 0 | Z58: ='Plot (6)'!$Q$13 -> 0 | AA58: ='Plot (6)'!$R$11 -> 0 | AB58: ='Plot (6)'!$S$11 -> 0 | AC58: ='Plot (6)'!$R$12 -> 0 | AD58: ='Plot (6)'!$S$12 -> 0 | AE58: ='Plot (6)'!$R$13 -> 0 | AF58: ='Plot (6)'!$S$13 -> 0 | AG58: ='Plot (6)'!$T$11 -> 0 | AH58: ='Plot (6)'!$U$11 -> 0 | AI58: ='Plot (6)'!$T$12 -> 0 | AJ58: ='Plot (6)'!$U$12 -> 0 | AK58: ='Plot (6)'!$T$13 -> 0 | AL58: ='Plot (6)'!$U$13 -> 0
A59: 6 | B59: =+'Plot (6)'!A$14 -> 0 | C59: ='Plot (6)'!$J$14 -> 0 | D59: ='Plot (6)'!$K$14 -> 0 | E59: ='Plot (6)'!$J$15 -> 0 | F59: ='Plot (6)'!$K$15 -> 0 | G59: ='Plot (6)'!$J$16 -> 0 | H59: ='Plot (6)'!$K$16 -> 0 | I59: ='Plot (6)'!$L$14 -> 0 | J59: ='Plot (6)'!$M$14 -> 0 | K59: ='Plot (6)'!$L$15 -> 0 | L59: ='Plot (6)'!$M$15 -> 0 | M59: ='Plot (6)'!$L$16 -> 0 | N59: ='Plot (6)'!$M$16 -> 0 | O59: ='Plot (6)'!$N$14 -> 0 | P59: ='Plot (6)'!$O$14 -> 0 | Q59: ='Plot (6)'!$N$15 -> 0 | R59: ='Plot (6)'!$O$15 -> 0 | S59: ='Plot (6)'!$N$16 -> 0 | T59: ='Plot (6)'!$O$16 -> 0 | U59: ='Plot (6)'!$P$14 -> 0 | V59: ='Plot (6)'!$Q$14 -> 0 | W59: ='Plot (6)'!$P$15 -> 0 | X59: ='Plot (6)'!$Q$15 -> 0 | Y59: ='Plot (6)'!$P$16 -> 0 | Z59: ='Plot (6)'!$Q$16 -> 0 | AA59: ='Plot (6)'!$R$14 -> 0 | AB59: ='Plot (6)'!$S$14 -> 0 | AC59: ='Plot (6)'!$R$15 -> 0 | AD59: ='Plot (6)'!$S$15 -> 0 | AE59: ='Plot (6)'!$R$16 -> 0 | AF59: ='Plot (6)'!$S$16 -> 0 | AG59: ='Plot (6)'!$T$14 -> 0 | AH59: ='Plot (6)'!$U$14 -> 0 | AI59: ='Plot (6)'!$T$15 -> 0 | AJ59: ='Plot (6)'!$U$15 -> 0 | AK59: ='Plot (6)'!$T$16 -> 0 | AL59: ='Plot (6)'!$U$16 -> 0
A60: 6 | B60: =+'Plot (6)'!A$17 -> 0 | C60: ='Plot (6)'!$J$17 -> 0 | D60: ='Plot (6)'!$K$17 -> 0 | E60: ='Plot (6)'!$J$18 -> 0 | F60: ='Plot (6)'!$K$18 -> 0 | G60: ='Plot (6)'!$J$19 -> 0 | H60: ='Plot (6)'!$K$19 -> 0 | I60: ='Plot (6)'!$L$17 -> 0 | J60: ='Plot (6)'!$M$17 -> 0 | K60: ='Plot (6)'!$L$18 -> 0 | L60: ='Plot (6)'!$M$18 -> 0 | M60: ='Plot (6)'!$L$19 -> 0 | N60: ='Plot (6)'!$M$19 -> 0 | O60: ='Plot (6)'!$N$17 -> 0 | P60: ='Plot (6)'!$O$17 -> 0 | Q60: ='Plot (6)'!$N$18 -> 0 | R60: ='Plot (6)'!$O$18 -> 0 | S60: ='Plot (6)'!$N$19 -> 0 | T60: ='Plot (6)'!$O$19 -> 0 | U60: ='Plot (6)'!$P$17 -> 0 | V60: ='Plot (6)'!$Q$17 -> 0 | W60: ='Plot (6)'!$P$18 -> 0 | X60: ='Plot (6)'!$Q$18 -> 0 | Y60: ='Plot (6)'!$P$19 -> 0 | Z60: ='Plot (6)'!$Q$19 -> 0 | AA60: ='Plot (6)'!$R$17 -> 0 | AB60: ='Plot (6)'!$S$17 -> 0 | AC60: ='Plot (6)'!$R$18 -> 0 | AD60: ='Plot (6)'!$S$18 -> 0 | AE60: ='Plot (6)'!$R$19 -> 0 | AF60: ='Plot (6)'!$S$19 -> 0 | AG60: ='Plot (6)'!$T$17 -> 0 | AH60: ='Plot (6)'!$U$17 -> 0 | AI60: ='Plot (6)'!$T$18 -> 0 | AJ60: ='Plot (6)'!$U$18 -> 0 | AK60: ='Plot (6)'!$T$19 -> 0 | AL60: ='Plot (6)'!$U$19 -> 0
A61: 6 | B61: =+'Plot (6)'!A$20 -> 0 | C61: ='Plot (6)'!$J$20 -> 0 | D61: ='Plot (6)'!$K$20 -> 0 | E61: ='Plot (6)'!$J$21 -> 0 | F61: ='Plot (6)'!$K$21 -> 0 | G61: ='Plot (6)'!$J$22 -> 0 | H61: ='Plot (6)'!$K$22 -> 0 | I61: ='Plot (6)'!$L$20 -> 0 | J61: ='Plot (6)'!$M$20 -> 0 | K61: ='Plot (6)'!$L$21 -> 0 | L61: ='Plot (6)'!$M$21 -> 0 | M61: ='Plot (6)'!$L$22 -> 0 | N61: ='Plot (6)'!$M$22 -> 0 | O61: ='Plot (6)'!$N$20 -> 0 | P61: ='Plot (6)'!$O$20 -> 0 | Q61: ='Plot (6)'!$N$21 -> 0 | R61: ='Plot (6)'!$O$21 -> 0 | S61: ='Plot (6)'!$N$22 -> 0 | T61: ='Plot (6)'!$O$22 -> 0 | U61: ='Plot (6)'!$P$20 -> 0 | V61: ='Plot (6)'!$Q$20 -> 0 | W61: ='Plot (6)'!$P$21 -> 0 | X61: ='Plot (6)'!$Q$21 -> 0 | Y61: ='Plot (6)'!$P$22 -> 0 | Z61: ='Plot (6)'!$Q$22 -> 0 | AA61: ='Plot (6)'!$R$20 -> 0 | AB61: ='Plot (6)'!$S$20 -> 0 | AC61: ='Plot (6)'!$R$21 -> 0 | AD61: ='Plot (6)'!$S$21 -> 0 | AE61: ='Plot (6)'!$R$22 -> 0 | AF61: ='Plot (6)'!$S$22 -> 0 | AG61: ='Plot (6)'!$T$20 -> 0 | AH61: ='Plot (6)'!$U$20 -> 0 | AI61: ='Plot (6)'!$T$21 -> 0 | AJ61: ='Plot (6)'!$U$21 -> 0 | AK61: ='Plot (6)'!$T$22 -> 0 | AL61: ='Plot (6)'!$U$22 -> 0
A62: 6 | B62: =+'Plot (6)'!A$23 -> 0 | C62: ='Plot (6)'!$J$23 -> 0 | D62: ='Plot (6)'!$K$23 -> 0 | E62: ='Plot (6)'!$J$24 -> 0 | F62: ='Plot (6)'!$K$24 -> 0 | G62: ='Plot (6)'!$J$25 -> 0 | H62: ='Plot (6)'!$K$25 -> 0 | I62: ='Plot (6)'!$L$23 -> 0 | J62: ='Plot (6)'!$M$23 -> 0 | K62: ='Plot (6)'!$L$24 -> 0 | L62: ='Plot (6)'!$M$24 -> 0 | M62: ='Plot (6)'!$L$25 -> 0 | N62: ='Plot (6)'!$M$25 -> 0 | O62: ='Plot (6)'!$N$23 -> 0 | P62: ='Plot (6)'!$O$23 -> 0 | Q62: ='Plot (6)'!$N$24 -> 0 | R62: ='Plot (6)'!$O$24 -> 0 | S62: ='Plot (6)'!$N$25 -> 0 | T62: ='Plot (6)'!$O$25 -> 0 | U62: ='Plot (6)'!$P$23 -> 0 | V62: ='Plot (6)'!$Q$23 -> 0 | W62: ='Plot (6)'!$P$24 -> 0 | X62: ='Plot (6)'!$Q$24 -> 0 | Y62: ='Plot (6)'!$P$25 -> 0 | Z62: ='Plot (6)'!$Q$25 -> 0 | AA62: ='Plot (6)'!$R$23 -> 0 | AB62: ='Plot (6)'!$S$23 -> 0 | AC62: ='Plot (6)'!$R$24 -> 0 | AD62: ='Plot (6)'!$S$24 -> 0 | AE62: ='Plot (6)'!$R$25 -> 0 | AF62: ='Plot (6)'!$S$25 -> 0 | AG62: ='Plot (6)'!$T$23 -> 0 | AH62: ='Plot (6)'!$U$23 -> 0 | AI62: ='Plot (6)'!$T$24 -> 0 | AJ62: ='Plot (6)'!$U$24 -> 0 | AK62: ='Plot (6)'!$T$25 -> 0 | AL62: ='Plot (6)'!$U$25 -> 0
A63: 6 | B63: =+'Plot (6)'!A$26 -> 0 | C63: ='Plot (6)'!$J$26 -> 0 | D63: ='Plot (6)'!$K$26 -> 0 | E63: ='Plot (6)'!$J$27 -> 0 | F63: ='Plot (6)'!$K$27 -> 0 | G63: ='Plot (6)'!$J$28 -> 0 | H63: ='Plot (6)'!$K$28 -> 0 | I63: ='Plot (6)'!$L$26 -> 0 | J63: ='Plot (6)'!$M$26 -> 0 | K63: ='Plot (6)'!$L$27 -> 0 | L63: ='Plot (6)'!$M$27 -> 0 | M63: ='Plot (6)'!$L$28 -> 0 | N63: ='Plot (6)'!$M$28 -> 0 | O63: ='Plot (6)'!$N$26 -> 0 | P63: ='Plot (6)'!$O$26 -> 0 | Q63: ='Plot (6)'!$N$27 -> 0 | R63: ='Plot (6)'!$O$27 -> 0 | S63: ='Plot (6)'!$N$28 -> 0 | T63: ='Plot (6)'!$O$28 -> 0 | U63: ='Plot (6)'!$P$26 -> 0 | V63: ='Plot (6)'!$Q$26 -> 0 | W63: ='Plot (6)'!$P$27 -> 0 | X63: ='Plot (6)'!$Q$27 -> 0 | Y63: ='Plot (6)'!$P$28 -> 0 | Z63: ='Plot (6)'!$Q$28 -> 0 | AA63: ='Plot (6)'!$R$26 -> 0 | AB63: ='Plot (6)'!$S$26 -> 0 | AC63: ='Plot (6)'!$R$27 -> 0 | AD63: ='Plot (6)'!$S$27 -> 0 | AE63: ='Plot (6)'!$R$28 -> 0 | AF63: ='Plot (6)'!$S$28 -> 0 | AG63: ='Plot (6)'!$T$26 -> 0 | AH63: ='Plot (6)'!$U$26 -> 0 | AI63: ='Plot (6)'!$T$27 -> 0 | AJ63: ='Plot (6)'!$U$27 -> 0 | AK63: ='Plot (6)'!$T$28 -> 0 | AL63: ='Plot (6)'!$U$28 -> 0
A64: 6 | B64: =+'Plot (6)'!A$29 -> 0 | C64: ='Plot (6)'!$J$29 -> 0 | D64: ='Plot (6)'!$K$29 -> 0 | E64: ='Plot (6)'!$J$30 -> 0 | F64: ='Plot (6)'!$K$30 -> 0 | G64: ='Plot (6)'!$J$31 -> 0 | H64: ='Plot (6)'!$K$31 -> 0 | I64: ='Plot (6)'!$L$29 -> 0 | J64: ='Plot (6)'!$M$29 -> 0 | K64: ='Plot (6)'!$L$30 -> 0 | L64: ='Plot (6)'!$M$30 -> 0 | M64: ='Plot (6)'!$L$31 -> 0 | N64: ='Plot (6)'!$M$31 -> 0 | O64: ='Plot (6)'!$N$29 -> 0 | P64: ='Plot (6)'!$O$29 -> 0 | Q64: ='Plot (6)'!$N$30 -> 0 | R64: ='Plot (6)'!$O$30 -> 0 | S64: ='Plot (6)'!$N$31 -> 0 | T64: ='Plot (6)'!$O$31 -> 0 | U64: ='Plot (6)'!$P$29 -> 0 | V64: ='Plot (6)'!$Q$29 -> 0 | W64: ='Plot (6)'!$P$30 -> 0 | X64: ='Plot (6)'!$Q$30 -> 0 | Y64: ='Plot (6)'!$P$31 -> 0 | Z64: ='Plot (6)'!$Q$31 -> 0 | AA64: ='Plot (6)'!$R$29 -> 0 | AB64: ='Plot (6)'!$S$29 -> 0 | AC64: ='Plot (6)'!$R$30 -> 0 | AD64: ='Plot (6)'!$S$30 -> 0 | AE64: ='Plot (6)'!$R$31 -> 0 | AF64: ='Plot (6)'!$S$31 -> 0 | AG64: ='Plot (6)'!$T$29 -> 0 | AH64: ='Plot (6)'!$U$29 -> 0 | AI64: ='Plot (6)'!$T$30 -> 0 | AJ64: ='Plot (6)'!$U$30 -> 0 | AK64: ='Plot (6)'!$T$31 -> 0 | AL64: ='Plot (6)'!$U$31 -> 0
A65: 6 | B65: =+'Plot (6)'!A$32 -> 0 | C65: ='Plot (6)'!$J$32 -> 0 | D65: ='Plot (6)'!$K$32 -> 0 | E65: ='Plot (6)'!$J$33 -> 0 | F65: ='Plot (6)'!$K$33 -> 0 | G65: ='Plot (6)'!$J$34 -> 0 | H65: ='Plot (6)'!$K$34 -> 0 | I65: ='Plot (6)'!$L$32 -> 0 | J65: ='Plot (6)'!$M$32 -> 0 | K65: ='Plot (6)'!$L$33 -> 0 | L65: ='Plot (6)'!$M$33 -> 0 | M65: ='Plot (6)'!$L$34 -> 0 | N65: ='Plot (6)'!$M$34 -> 0 | O65: ='Plot (6)'!$N$32 -> 0 | P65: ='Plot (6)'!$O$32 -> 0 | Q65: ='Plot (6)'!$N$33 -> 0 | R65: ='Plot (6)'!$O$33 -> 0 | S65: ='Plot (6)'!$N$34 -> 0 | T65: ='Plot (6)'!$O$34 -> 0 | U65: ='Plot (6)'!$P$32 -> 0 | V65: ='Plot (6)'!$Q$32 -> 0 | W65: ='Plot (6)'!$P$33 -> 0 | X65: ='Plot (6)'!$Q$33 -> 0 | Y65: ='Plot (6)'!$P$34 -> 0 | Z65: ='Plot (6)'!$Q$34 -> 0 | AA65: ='Plot (6)'!$R$32 -> 0 | AB65: ='Plot (6)'!$S$32 -> 0 | AC65: ='Plot (6)'!$R$33 -> 0 | AD65: ='Plot (6)'!$S$33 -> 0 | AE65: ='Plot (6)'!$R$34 -> 0 | AF65: ='Plot (6)'!$S$34 -> 0 | AG65: ='Plot (6)'!$T$32 -> 0 | AH65: ='Plot (6)'!$U$32 -> 0 | AI65: ='Plot (6)'!$T$33 -> 0 | AJ65: ='Plot (6)'!$U$33 -> 0 | AK65: ='Plot (6)'!$T$34 -> 0 | AL65: ='Plot (6)'!$U$34 -> 0
A66: 6 | B66: =+'Plot (6)'!A$35 -> 0 | C66: ='Plot (6)'!$J$35 -> 0 | D66: ='Plot (6)'!$K$35 -> 0 | E66: ='Plot (6)'!$J$36 -> 0 | F66: ='Plot (6)'!$K$36 -> 0 | G66: ='Plot (6)'!$J$37 -> 0 | H66: ='Plot (6)'!$K$37 -> 0 | I66: ='Plot (6)'!$L$35 -> 0 | J66: ='Plot (6)'!$M$35 -> 0 | K66: ='Plot (6)'!$L$36 -> 0 | L66: ='Plot (6)'!$M$36 -> 0 | M66: ='Plot (6)'!$L$37 -> 0 | N66: ='Plot (6)'!$M$37 -> 0 | O66: ='Plot (6)'!$N$35 -> 0 | P66: ='Plot (6)'!$O$35 -> 0 | Q66: ='Plot (6)'!$N$36 -> 0 | R66: ='Plot (6)'!$O$36 -> 0 | S66: ='Plot (6)'!$N$37 -> 0 | T66: ='Plot (6)'!$O$37 -> 0 | U66: ='Plot (6)'!$P$35 -> 0 | V66: ='Plot (6)'!$Q$35 -> 0 | W66: ='Plot (6)'!$P$36 -> 0 | X66: ='Plot (6)'!$Q$36 -> 0 | Y66: ='Plot (6)'!$P$37 -> 0 | Z66: ='Plot (6)'!$Q$37 -> 0 | AA66: ='Plot (6)'!$R$35 -> 0 | AB66: ='Plot (6)'!$S$35 -> 0 | AC66: ='Plot (6)'!$R$36 -> 0 | AD66: ='Plot (6)'!$S$36 -> 0 | AE66: ='Plot (6)'!$R$37 -> 0 | AF66: ='Plot (6)'!$S$37 -> 0 | AG66: ='Plot (6)'!$T$35 -> 0 | AH66: ='Plot (6)'!$U$35 -> 0 | AI66: ='Plot (6)'!$T$36 -> 0 | AJ66: ='Plot (6)'!$U$36 -> 0 | AK66: ='Plot (6)'!$T$37 -> 0 | AL66: ='Plot (6)'!$U$37 -> 0
A67: 6 | B67: =+'Plot (6)'!A$38 -> 0 | C67: ='Plot (6)'!$J$38 -> 0 | D67: ='Plot (6)'!$K$38 -> 0 | E67: ='Plot (6)'!$J$39 -> 0 | F67: ='Plot (6)'!$K$39 -> 0 | G67: ='Plot (6)'!$J$40 -> 0 | H67: ='Plot (6)'!$K$40 -> 0 | I67: ='Plot (6)'!$L$38 -> 0 | J67: ='Plot (6)'!$M$38 -> 0 | K67: ='Plot (6)'!$L$39 -> 0 | L67: ='Plot (6)'!$M$39 -> 0 | M67: ='Plot (6)'!$L$40 -> 0 | N67: ='Plot (6)'!$M$40 -> 0 | O67: ='Plot (6)'!$N$38 -> 0 | P67: ='Plot (6)'!$O$38 -> 0 | Q67: ='Plot (6)'!$N$39 -> 0 | R67: ='Plot (6)'!$O$39 -> 0 | S67: ='Plot (6)'!$N$40 -> 0 | T67: ='Plot (6)'!$O$40 -> 0 | U67: ='Plot (6)'!$P$38 -> 0 | V67: ='Plot (6)'!$Q$38 -> 0 | W67: ='Plot (6)'!$P$39 -> 0 | X67: ='Plot (6)'!$Q$39 -> 0 | Y67: ='Plot (6)'!$P$40 -> 0 | Z67: ='Plot (6)'!$Q$40 -> 0 | AA67: ='Plot (6)'!$R$38 -> 0 | AB67: ='Plot (6)'!$S$38 -> 0 | AC67: ='Plot (6)'!$R$39 -> 0 | AD67: ='Plot (6)'!$S$39 -> 0 | AE67: ='Plot (6)'!$R$40 -> 0 | AF67: ='Plot (6)'!$S$40 -> 0 | AG67: ='Plot (6)'!$T$38 -> 0 | AH67: ='Plot (6)'!$U$38 -> 0 | AI67: ='Plot (6)'!$T$39 -> 0 | AJ67: ='Plot (6)'!$U$39 -> 0 | AK67: ='Plot (6)'!$T$40 -> 0 | AL67: ='Plot (6)'!$U$40 -> 0
A68: 7 | B68: FOREST HEALTH DAMAGE AGENTS | C68: =IF(CELL("type",('Plot (7)'!$J$8))="b","N/A",'Plot (7)'!$J$8) -> N/A | I68: =IF(CELL("type",('Plot (7)'!$L$8))="b","N/A",'Plot (7)'!$L$8) -> N/A | O68: =IF(CELL("type",('Plot (7)'!$N$8))="b","N/A",'Plot (7)'!$N$8) -> N/A | U68: =IF(CELL("type",('Plot (7)'!$P$8))="b","N/A",'Plot (7)'!$P$8) -> N/A | AA68: =IF(CELL("type",('Plot (7)'!$R$8))="b","N/A",'Plot (7)'!$R$8) -> N/A | AG68: =IF(CELL("type",('Plot (7)'!$T$8))="b","N/A",'Plot (7)'!$T$8) -> N/A
A69: 7 | B69: =+'Plot (7)'!A$11 -> 0 | C69: ='Plot (7)'!$J$11 -> 0 | D69: ='Plot (7)'!$K$11 -> 0 | E69: ='Plot (7)'!$J$12 -> 0 | F69: ='Plot (7)'!$K$12 -> 0 | G69: ='Plot (7)'!$J$13 -> 0 | H69: ='Plot (7)'!$K$13 -> 0 | I69: ='Plot (7)'!$L$11 -> 0 | J69: ='Plot (7)'!$M$11 -> 0 | K69: ='Plot (7)'!$L$12 -> 0 | L69: ='Plot (7)'!$M$12 -> 0 | M69: ='Plot (7)'!$L$13 -> 0 | N69: ='Plot (7)'!$M$13 -> 0 | O69: ='Plot (7)'!$N$11 -> 0 | P69: ='Plot (7)'!$O$11 -> 0 | Q69: ='Plot (7)'!$N$12 -> 0 | R69: ='Plot (7)'!$O$12 -> 0 | S69: ='Plot (7)'!$N$13 -> 0 | T69: ='Plot (7)'!$O$13 -> 0 | U69: ='Plot (7)'!$P$11 -> 0 | V69: ='Plot (7)'!$Q$11 -> 0 | W69: ='Plot (7)'!$P$12 -> 0 | X69: ='Plot (7)'!$Q$12 -> 0 | Y69: ='Plot (7)'!$P$13 -> 0 | Z69: ='Plot (7)'!$Q$13 -> 0 | AA69: ='Plot (7)'!$R$11 -> 0 | AB69: ='Plot (7)'!$S$11 -> 0 | AC69: ='Plot (7)'!$R$12 -> 0 | AD69: ='Plot (7)'!$S$12 -> 0 | AE69: ='Plot (7)'!$R$13 -> 0 | AF69: ='Plot (7)'!$S$13 -> 0 | AG69: ='Plot (7)'!$T$11 -> 0 | AH69: ='Plot (7)'!$U$11 -> 0 | AI69: ='Plot (7)'!$T$12 -> 0 | AJ69: ='Plot (7)'!$U$12 -> 0 | AK69: ='Plot (7)'!$T$13 -> 0 | AL69: ='Plot (7)'!$U$13 -> 0
A70: 7 | B70: =+'Plot (7)'!A$14 -> 0 | C70: ='Plot (7)'!$J$14 -> 0 | D70: ='Plot (7)'!$K$14 -> 0 | E70: ='Plot (7)'!$J$15 -> 0 | F70: ='Plot (7)'!$K$15 -> 0 | G70: ='Plot (7)'!$J$16 -> 0 | H70: ='Plot (7)'!$K$16 -> 0 | I70: ='Plot (7)'!$L$14 -> 0 | J70: ='Plot (7)'!$M$14 -> 0 | K70: ='Plot (7)'!$L$15 -> 0 | L70: ='Plot (7)'!$M$15 -> 0 | M70: ='Plot (7)'!$L$16 -> 0 | N70: ='Plot (7)'!$M$16 -> 0 | O70: ='Plot (7)'!$N$14 -> 0 | P70: ='Plot (7)'!$O$14 -> 0 | Q70: ='Plot (7)'!$N$15 -> 0 | R70: ='Plot (7)'!$O$15 -> 0 | S70: ='Plot (7)'!$N$16 -> 0 | T70: ='Plot (7)'!$O$16 -> 0 | U70: ='Plot (7)'!$P$14 -> 0 | V70: ='Plot (7)'!$Q$14 -> 0 | W70: ='Plot (7)'!$P$15 -> 0 | X70: ='Plot (7)'!$Q$15 -> 0 | Y70: ='Plot (7)'!$P$16 -> 0 | Z70: ='Plot (7)'!$Q$16 -> 0 | AA70: ='Plot (7)'!$R$14 -> 0 | AB70: ='Plot (7)'!$S$14 -> 0 | AC70: ='Plot (7)'!$R$15 -> 0 | AD70: ='Plot (7)'!$S$15 -> 0 | AE70: ='Plot (7)'!$R$16 -> 0 | AF70: ='Plot (7)'!$S$16 -> 0 | AG70: ='Plot (7)'!$T$14 -> 0 | AH70: ='Plot (7)'!$U$14 -> 0 | AI70: ='Plot (7)'!$T$15 -> 0 | AJ70: ='Plot (7)'!$U$15 -> 0 | AK70: ='Plot (7)'!$T$16 -> 0 | AL70: ='Plot (7)'!$U$16 -> 0
A71: 7 | B71: =+'Plot (7)'!A$17 -> 0 | C71: ='Plot (7)'!$J$17 -> 0 | D71: ='Plot (7)'!$K$17 -> 0 | E71: ='Plot (7)'!$J$18 -> 0 | F71: ='Plot (7)'!$K$18 -> 0 | G71: ='Plot (7)'!$J$19 -> 0 | H71: ='Plot (7)'!$K$19 -> 0 | I71: ='Plot (7)'!$L$17 -> 0 | J71: ='Plot (7)'!$M$17 -> 0 | K71: ='Plot (7)'!$L$18 -> 0 | L71: ='Plot (7)'!$M$18 -> 0 | M71: ='Plot (7)'!$L$19 -> 0 | N71: ='Plot (7)'!$M$19 -> 0 | O71: ='Plot (7)'!$N$17 -> 0 | P71: ='Plot (7)'!$O$17 -> 0 | Q71: ='Plot (7)'!$N$18 -> 0 | R71: ='Plot (7)'!$O$18 -> 0 | S71: ='Plot (7)'!$N$19 -> 0 | T71: ='Plot (7)'!$O$19 -> 0 | U71: ='Plot (7)'!$P$17 -> 0 | V71: ='Plot (7)'!$Q$17 -> 0 | W71: ='Plot (7)'!$P$18 -> 0 | X71: ='Plot (7)'!$Q$18 -> 0 | Y71: ='Plot (7)'!$P$19 -> 0 | Z71: ='Plot (7)'!$Q$19 -> 0 | AA71: ='Plot (7)'!$R$17 -> 0 | AB71: ='Plot (7)'!$S$17 -> 0 | AC71: ='Plot (7)'!$R$18 -> 0 | AD71: ='Plot (7)'!$S$18 -> 0 | AE71: ='Plot (7)'!$R$19 -> 0 | AF71: ='Plot (7)'!$S$19 -> 0 | AG71: ='Plot (7)'!$T$17 -> 0 | AH71: ='Plot (7)'!$U$17 -> 0 | AI71: ='Plot (7)'!$T$18 -> 0 | AJ71: ='Plot (7)'!$U$18 -> 0 | AK71: ='Plot (7)'!$T$19 -> 0 | AL71: ='Plot (7)'!$U$19 -> 0
A72: 7 | B72: =+'Plot (7)'!A$20 -> 0 | C72: ='Plot (7)'!$J$20 -> 0 | D72: ='Plot (7)'!$K$20 -> 0 | E72: ='Plot (7)'!$J$21 -> 0 | F72: ='Plot (7)'!$K$21 -> 0 | G72: ='Plot (7)'!$J$22 -> 0 | H72: ='Plot (7)'!$K$22 -> 0 | I72: ='Plot (7)'!$L$20 -> 0 | J72: ='Plot (7)'!$M$20 -> 0 | K72: ='Plot (7)'!$L$21 -> 0 | L72: ='Plot (7)'!$M$21 -> 0 | M72: ='Plot (7)'!$L$22 -> 0 | N72: ='Plot (7)'!$M$22 -> 0 | O72: ='Plot (7)'!$N$20 -> 0 | P72: ='Plot (7)'!$O$20 -> 0 | Q72: ='Plot (7)'!$N$21 -> 0 | R72: ='Plot (7)'!$O$21 -> 0 | S72: ='Plot (7)'!$N$22 -> 0 | T72: ='Plot (7)'!$O$22 -> 0 | U72: ='Plot (7)'!$P$20 -> 0 | V72: ='Plot (7)'!$Q$20 -> 0 | W72: ='Plot (7)'!$P$21 -> 0 | X72: ='Plot (7)'!$Q$21 -> 0 | Y72: ='Plot (7)'!$P$22 -> 0 | Z72: ='Plot (7)'!$Q$22 -> 0 | AA72: ='Plot (7)'!$R$20 -> 0 | AB72: ='Plot (7)'!$S$20 -> 0 | AC72: ='Plot (7)'!$R$21 -> 0 | AD72: ='Plot (7)'!$S$21 -> 0 | AE72: ='Plot (7)'!$R$22 -> 0 | AF72: ='Plot (7)'!$S$22 -> 0 | AG72: ='Plot (7)'!$T$20 -> 0 | AH72: ='Plot (7)'!$U$20 -> 0 | AI72: ='Plot (7)'!$T$21 -> 0 | AJ72: ='Plot (7)'!$U$21 -> 0 | AK72: ='Plot (7)'!$T$22 -> 0 | AL72: ='Plot (7)'!$U$22 -> 0
A73: 7 | B73: =+'Plot (7)'!A$23 -> 0 | C73: ='Plot (7)'!$J$23 -> 0 | D73: ='Plot (7)'!$K$23 -> 0 | E73: ='Plot (7)'!$J$24 -> 0 | F73: ='Plot (7)'!$K$24 -> 0 | G73: ='Plot (7)'!$J$25 -> 0 | H73: ='Plot (7)'!$K$25 -> 0 | I73: ='Plot (7)'!$L$23 -> 0 | J73: ='Plot (7)'!$M$23 -> 0 | K73: ='Plot (7)'!$L$24 -> 0 | L73: ='Plot (7)'!$M$24 -> 0 | M73: ='Plot (7)'!$L$25 -> 0 | N73: ='Plot (7)'!$M$25 -> 0 | O73: ='Plot (7)'!$N$23 -> 0 | P73: ='Plot (7)'!$O$23 -> 0 | Q73: ='Plot (7)'!$N$24 -> 0 | R73: ='Plot (7)'!$O$24 -> 0 | S73: ='Plot (7)'!$N$25 -> 0 | T73: ='Plot (7)'!$O$25 -> 0 | U73: ='Plot (7)'!$P$23 -> 0 | V73: ='Plot (7)'!$Q$23 -> 0 | W73: ='Plot (7)'!$P$24 -> 0 | X73: ='Plot (7)'!$Q$24 -> 0 | Y73: ='Plot (7)'!$P$25 -> 0 | Z73: ='Plot (7)'!$Q$25 -> 0 | AA73: ='Plot (7)'!$R$23 -> 0 | AB73: ='Plot (7)'!$S$23 -> 0 | AC73: ='Plot (7)'!$R$24 -> 0 | AD73: ='Plot (7)'!$S$24 -> 0 | AE73: ='Plot (7)'!$R$25 -> 0 | AF73: ='Plot (7)'!$S$25 -> 0 | AG73: ='Plot (7)'!$T$23 -> 0 | AH73: ='Plot (7)'!$U$23 -> 0 | AI73: ='Plot (7)'!$T$24 -> 0 | AJ73: ='Plot (7)'!$U$24 -> 0 | AK73: ='Plot (7)'!$T$25 -> 0 | AL73: ='Plot (7)'!$U$25 -> 0
A74: 7 | B74: =+'Plot (7)'!A$26 -> 0 | C74: ='Plot (7)'!$J$26 -> 0 | D74: ='Plot (7)'!$K$26 -> 0 | E74: ='Plot (7)'!$J$27 -> 0 | F74: ='Plot (7)'!$K$27 -> 0 | G74: ='Plot (7)'!$J$28 -> 0 | H74: ='Plot (7)'!$K$28 -> 0 | I74: ='Plot (7)'!$L$26 -> 0 | J74: ='Plot (7)'!$M$26 -> 0 | K74: ='Plot (7)'!$L$27 -> 0 | L74: ='Plot (7)'!$M$27 -> 0 | M74: ='Plot (7)'!$L$28 -> 0 | N74: ='Plot (7)'!$M$28 -> 0 | O74: ='Plot (7)'!$N$26 -> 0 | P74: ='Plot (7)'!$O$26 -> 0 | Q74: ='Plot (7)'!$N$27 -> 0 | R74: ='Plot (7)'!$O$27 -> 0 | S74: ='Plot (7)'!$N$28 -> 0 | T74: ='Plot (7)'!$O$28 -> 0 | U74: ='Plot (7)'!$P$26 -> 0 | V74: ='Plot (7)'!$Q$26 -> 0 | W74: ='Plot (7)'!$P$27 -> 0 | X74: ='Plot (7)'!$Q$27 -> 0 | Y74: ='Plot (7)'!$P$28 -> 0 | Z74: ='Plot (7)'!$Q$28 -> 0 | AA74: ='Plot (7)'!$R$26 -> 0 | AB74: ='Plot (7)'!$S$26 -> 0 | AC74: ='Plot (7)'!$R$27 -> 0 | AD74: ='Plot (7)'!$S$27 -> 0 | AE74: ='Plot (7)'!$R$28 -> 0 | AF74: ='Plot (7)'!$S$28 -> 0 | AG74: ='Plot (7)'!$T$26 -> 0 | AH74: ='Plot (7)'!$U$26 -> 0 | AI74: ='Plot (7)'!$T$27 -> 0 | AJ74: ='Plot (7)'!$U$27 -> 0 | AK74: ='Plot (7)'!$T$28 -> 0 | AL74: ='Plot (7)'!$U$28 -> 0
A75: 7 | B75: =+'Plot (7)'!A$29 -> 0 | C75: ='Plot (7)'!$J$29 -> 0 | D75: ='Plot (7)'!$K$29 -> 0 | E75: ='Plot (7)'!$J$30 -> 0 | F75: ='Plot (7)'!$K$30 -> 0 | G75: ='Plot (7)'!$J$31 -> 0 | H75: ='Plot (7)'!$K$31 -> 0 | I75: ='Plot (7)'!$L$29 -> 0 | J75: ='Plot (7)'!$M$29 -> 0 | K75: ='Plot (7)'!$L$30 -> 0 | L75: ='Plot (7)'!$M$30 -> 0 | M75: ='Plot (7)'!$L$31 -> 0 | N75: ='Plot (7)'!$M$31 -> 0 | O75: ='Plot (7)'!$N$29 -> 0 | P75: ='Plot (7)'!$O$29 -> 0 | Q75: ='Plot (7)'!$N$30 -> 0 | R75: ='Plot (7)'!$O$30 -> 0 | S75: ='Plot (7)'!$N$31 -> 0 | T75: ='Plot (7)'!$O$31 -> 0 | U75: ='Plot (7)'!$P$29 -> 0 | V75: ='Plot (7)'!$Q$29 -> 0 | W75: ='Plot (7)'!$P$30 -> 0 | X75: ='Plot (7)'!$Q$30 -> 0 | Y75: ='Plot (7)'!$P$31 -> 0 | Z75: ='Plot (7)'!$Q$31 -> 0 | AA75: ='Plot (7)'!$R$29 -> 0 | AB75: ='Plot (7)'!$S$29 -> 0 | AC75: ='Plot (7)'!$R$30 -> 0 | AD75: ='Plot (7)'!$S$30 -> 0 | AE75: ='Plot (7)'!$R$31 -> 0 | AF75: ='Plot (7)'!$S$31 -> 0 | AG75: ='Plot (7)'!$T$29 -> 0 | AH75: ='Plot (7)'!$U$29 -> 0 | AI75: ='Plot (7)'!$T$30 -> 0 | AJ75: ='Plot (7)'!$U$30 -> 0 | AK75: ='Plot (7)'!$T$31 -> 0 | AL75: ='Plot (7)'!$U$31 -> 0
A76: 7 | B76: =+'Plot (7)'!A$32 -> 0 | C76: ='Plot (7)'!$J$32 -> 0 | D76: ='Plot (7)'!$K$32 -> 0 | E76: ='Plot (7)'!$J$33 -> 0 | F76: ='Plot (7)'!$K$33 -> 0 | G76: ='Plot (7)'!$J$34 -> 0 | H76: ='Plot (7)'!$K$34 -> 0 | I76: ='Plot (7)'!$L$32 -> 0 | J76: ='Plot (7)'!$M$32 -> 0 | K76: ='Plot (7)'!$L$33 -> 0 | L76: ='Plot (7)'!$M$33 -> 0 | M76: ='Plot (7)'!$L$34 -> 0 | N76: ='Plot (7)'!$M$34 -> 0 | O76: ='Plot (7)'!$N$32 -> 0 | P76: ='Plot (7)'!$O$32 -> 0 | Q76: ='Plot (7)'!$N$33 -> 0 | R76: ='Plot (7)'!$O$33 -> 0 | S76: ='Plot (7)'!$N$34 -> 0 | T76: ='Plot (7)'!$O$34 -> 0 | U76: ='Plot (7)'!$P$32 -> 0 | V76: ='Plot (7)'!$Q$32 -> 0 | W76: ='Plot (7)'!$P$33 -> 0 | X76: ='Plot (7)'!$Q$33 -> 0 | Y76: ='Plot (7)'!$P$34 -> 0 | Z76: ='Plot (7)'!$Q$34 -> 0 | AA76: ='Plot (7)'!$R$32 -> 0 | AB76: ='Plot (7)'!$S$32 -> 0 | AC76: ='Plot (7)'!$R$33 -> 0 | AD76: ='Plot (7)'!$S$33 -> 0 | AE76: ='Plot (7)'!$R$34 -> 0 | AF76: ='Plot (7)'!$S$34 -> 0 | AG76: ='Plot (7)'!$T$32 -> 0 | AH76: ='Plot (7)'!$U$32 -> 0 | AI76: ='Plot (7)'!$T$33 -> 0 | AJ76: ='Plot (7)'!$U$33 -> 0 | AK76: ='Plot (7)'!$T$34 -> 0 | AL76: ='Plot (7)'!$U$34 -> 0
A77: 7 | B77: =+'Plot (7)'!A$35 -> 0 | C77: ='Plot (7)'!$J$35 -> 0 | D77: ='Plot (7)'!$K$35 -> 0 | E77: ='Plot (7)'!$J$36 -> 0 | F77: ='Plot (7)'!$K$36 -> 0 | G77: ='Plot (7)'!$J$37 -> 0 | H77: ='Plot (7)'!$K$37 -> 0 | I77: ='Plot (7)'!$L$35 -> 0 | J77: ='Plot (7)'!$M$35 -> 0 | K77: ='Plot (7)'!$L$36 -> 0 | L77: ='Plot (7)'!$M$36 -> 0 | M77: ='Plot (7)'!$L$37 -> 0 | N77: ='Plot (7)'!$M$37 -> 0 | O77: ='Plot (7)'!$N$35 -> 0 | P77: ='Plot (7)'!$O$35 -> 0 | Q77: ='Plot (7)'!$N$36 -> 0 | R77: ='Plot (7)'!$O$36 -> 0 | S77: ='Plot (7)'!$N$37 -> 0 | T77: ='Plot (7)'!$O$37 -> 0 | U77: ='Plot (7)'!$P$35 -> 0 | V77: ='Plot (7)'!$Q$35 -> 0 | W77: ='Plot (7)'!$P$36 -> 0 | X77: ='Plot (7)'!$Q$36 -> 0 | Y77: ='Plot (7)'!$P$37 -> 0 | Z77: ='Plot (7)'!$Q$37 -> 0 | AA77: ='Plot (7)'!$R$35 -> 0 | AB77: ='Plot (7)'!$S$35 -> 0 | AC77: ='Plot (7)'!$R$36 -> 0 | AD77: ='Plot (7)'!$S$36 -> 0 | AE77: ='Plot (7)'!$R$37 -> 0 | AF77: ='Plot (7)'!$S$37 -> 0 | AG77: ='Plot (7)'!$T$35 -> 0 | AH77: ='Plot (7)'!$U$35 -> 0 | AI77: ='Plot (7)'!$T$36 -> 0 | AJ77: ='Plot (7)'!$U$36 -> 0 | AK77: ='Plot (7)'!$T$37 -> 0 | AL77: ='Plot (7)'!$U$37 -> 0
A78: 7 | B78: =+'Plot (7)'!A$38 -> 0 | C78: ='Plot (7)'!$J$38 -> 0 | D78: ='Plot (7)'!$K$38 -> 0 | E78: ='Plot (7)'!$J$39 -> 0 | F78: ='Plot (7)'!$K$39 -> 0 | G78: ='Plot (7)'!$J$40 -> 0 | H78: ='Plot (7)'!$K$40 -> 0 | I78: ='Plot (7)'!$L$38 -> 0 | J78: ='Plot (7)'!$M$38 -> 0 | K78: ='Plot (7)'!$L$39 -> 0 | L78: ='Plot (7)'!$M$39 -> 0 | M78: ='Plot (7)'!$L$40 -> 0 | N78: ='Plot (7)'!$M$40 -> 0 | O78: ='Plot (7)'!$N$38 -> 0 | P78: ='Plot (7)'!$O$38 -> 0 | Q78: ='Plot (7)'!$N$39 -> 0 | R78: ='Plot (7)'!$O$39 -> 0 | S78: ='Plot (7)'!$N$40 -> 0 | T78: ='Plot (7)'!$O$40 -> 0 | U78: ='Plot (7)'!$P$38 -> 0 | V78: ='Plot (7)'!$Q$38 -> 0 | W78: ='Plot (7)'!$P$39 -> 0 | X78: ='Plot (7)'!$Q$39 -> 0 | Y78: ='Plot (7)'!$P$40 -> 0 | Z78: ='Plot (7)'!$Q$40 -> 0 | AA78: ='Plot (7)'!$R$38 -> 0 | AB78: ='Plot (7)'!$S$38 -> 0 | AC78: ='Plot (7)'!$R$39 -> 0 | AD78: ='Plot (7)'!$S$39 -> 0 | AE78: ='Plot (7)'!$R$40 -> 0 | AF78: ='Plot (7)'!$S$40 -> 0 | AG78: ='Plot (7)'!$T$38 -> 0 | AH78: ='Plot (7)'!$U$38 -> 0 | AI78: ='Plot (7)'!$T$39 -> 0 | AJ78: ='Plot (7)'!$U$39 -> 0 | AK78: ='Plot (7)'!$T$40 -> 0 | AL78: ='Plot (7)'!$U$40 -> 0
A79: 8 | B79: FOREST HEALTH DAMAGE AGENTS | C79: =IF(CELL("type",('Plot (8)'!$J$8))="b","N/A",'Plot (8)'!$J$8) -> N/A | I79: =IF(CELL("type",('Plot (8)'!$L$8))="b","N/A",'Plot (8)'!$L$8) -> N/A | O79: =IF(CELL("type",('Plot (8)'!$N$8))="b","N/A",'Plot (8)'!$N$8) -> N/A | U79: =IF(CELL("type",('Plot (8)'!$P$8))="b","N/A",'Plot (8)'!$P$8) -> N/A | AA79: =IF(CELL("type",('Plot (8)'!$R$8))="b","N/A",'Plot (8)'!$R$8) -> N/A | AG79: =IF(CELL("type",('Plot (8)'!$T$8))="b","N/A",'Plot (8)'!$T$8) -> N/A
A80: 8 | B80: =+'Plot (8)'!A$11 -> 0 | C80: ='Plot (8)'!$J$11 -> 0 | D80: ='Plot (8)'!$K$11 -> 0 | E80: ='Plot (8)'!$J$12 -> 0 | F80: ='Plot (8)'!$K$12 -> 0 | G80: ='Plot (8)'!$J$13 -> 0 | H80: ='Plot (8)'!$K$13 -> 0 | I80: ='Plot (8)'!$L$11 -> 0 | J80: ='Plot (8)'!$M$11 -> 0 | K80: ='Plot (8)'!$L$12 -> 0 | L80: ='Plot (8)'!$M$12 -> 0 | M80: ='Plot (8)'!$L$13 -> 0 | N80: ='Plot (8)'!$M$13 -> 0 | O80: ='Plot (8)'!$N$11 -> 0 | P80: ='Plot (8)'!$O$11 -> 0 | Q80: ='Plot (8)'!$N$12 -> 0 | R80: ='Plot (8)'!$O$12 -> 0 | S80: ='Plot (8)'!$N$13 -> 0 | T80: ='Plot (8)'!$O$13 -> 0 | U80: ='Plot (8)'!$P$11 -> 0 | V80: ='Plot (8)'!$Q$11 -> 0 | W80: ='Plot (8)'!$P$12 -> 0 | X80: ='Plot (8)'!$Q$12 -> 0 | Y80: ='Plot (8)'!$P$13 -> 0 | Z80: ='Plot (8)'!$Q$13 -> 0 | AA80: ='Plot (8)'!$R$11 -> 0 | AB80: ='Plot (8)'!$S$11 -> 0 | AC80: ='Plot (8)'!$R$12 -> 0 | AD80: ='Plot (8)'!$S$12 -> 0 | AE80: ='Plot (8)'!$R$13 -> 0 | AF80: ='Plot (8)'!$S$13 -> 0 | AG80: ='Plot (8)'!$T$11 -> 0 | AH80: ='Plot (8)'!$U$11 -> 0 | AI80: ='Plot (8)'!$T$12 -> 0 | AJ80: ='Plot (8)'!$U$12 -> 0 | AK80: ='Plot (8)'!$T$13 -> 0 | AL80: ='Plot (8)'!$U$13 -> 0
A81: 8 | B81: =+'Plot (8)'!A$14 -> 0 | C81: ='Plot (8)'!$J$14 -> 0 | D81: ='Plot (8)'!$K$14 -> 0 | E81: ='Plot (8)'!$J$15 -> 0 | F81: ='Plot (8)'!$K$15 -> 0 | G81: ='Plot (8)'!$J$16 -> 0 | H81: ='Plot (8)'!$K$16 -> 0 | I81: ='Plot (8)'!$L$14 -> 0 | J81: ='Plot (8)'!$M$14 -> 0 | K81: ='Plot (8)'!$L$15 -> 0 | L81: ='Plot (8)'!$M$15 -> 0 | M81: ='Plot (8)'!$L$16 -> 0 | N81: ='Plot (8)'!$M$16 -> 0 | O81: ='Plot (8)'!$N$14 -> 0 | P81: ='Plot (8)'!$O$14 -> 0 | Q81: ='Plot (8)'!$N$15 -> 0 | R81: ='Plot (8)'!$O$15 -> 0 | S81: ='Plot (8)'!$N$16 -> 0 | T81: ='Plot (8)'!$O$16 -> 0 | U81: ='Plot (8)'!$P$14 -> 0 | V81: ='Plot (8)'!$Q$14 -> 0 | W81: ='Plot (8)'!$P$15 -> 0 | X81: ='Plot (8)'!$Q$15 -> 0 | Y81: ='Plot (8)'!$P$16 -> 0 | Z81: ='Plot (8)'!$Q$16 -> 0 | AA81: ='Plot (8)'!$R$14 -> 0 | AB81: ='Plot (8)'!$S$14 -> 0 | AC81: ='Plot (8)'!$R$15 -> 0 | AD81: ='Plot (8)'!$S$15 -> 0 | AE81: ='Plot (8)'!$R$16 -> 0 | AF81: ='Plot (8)'!$S$16 -> 0 | AG81: ='Plot (8)'!$T$14 -> 0 | AH81: ='Plot (8)'!$U$14 -> 0 | AI81: ='Plot (8)'!$T$15 -> 0 | AJ81: ='Plot (8)'!$U$15 -> 0 | AK81: ='Plot (8)'!$T$16 -> 0 | AL81: ='Plot (8)'!$U$16 -> 0
A82: 8 | B82: =+'Plot (8)'!A$17 -> 0 | C82: ='Plot (8)'!$J$17 -> 0 | D82: ='Plot (8)'!$K$17 -> 0 | E82: ='Plot (8)'!$J$18 -> 0 | F82: ='Plot (8)'!$K$18 -> 0 | G82: ='Plot (8)'!$J$19 -> 0 | H82: ='Plot (8)'!$K$19 -> 0 | I82: ='Plot (8)'!$L$17 -> 0 | J82: ='Plot (8)'!$M$17 -> 0 | K82: ='Plot (8)'!$L$18 -> 0 | L82: ='Plot (8)'!$M$18 -> 0 | M82: ='Plot (8)'!$L$19 -> 0 | N82: ='Plot (8)'!$M$19 -> 0 | O82: ='Plot (8)'!$N$17 -> 0 | P82: ='Plot (8)'!$O$17 -> 0 | Q82: ='Plot (8)'!$N$18 -> 0 | R82: ='Plot (8)'!$O$18 -> 0 | S82: ='Plot (8)'!$N$19 -> 0 | T82: ='Plot (8)'!$O$19 -> 0 | U82: ='Plot (8)'!$P$17 -> 0 | V82: ='Plot (8)'!$Q$17 -> 0 | W82: ='Plot (8)'!$P$18 -> 0 | X82: ='Plot (8)'!$Q$18 -> 0 | Y82: ='Plot (8)'!$P$19 -> 0 | Z82: ='Plot (8)'!$Q$19 -> 0 | AA82: ='Plot (8)'!$R$17 -> 0 | AB82: ='Plot (8)'!$S$17 -> 0 | AC82: ='Plot (8)'!$R$18 -> 0 | AD82: ='Plot (8)'!$S$18 -> 0 | AE82: ='Plot (8)'!$R$19 -> 0 | AF82: ='Plot (8)'!$S$19 -> 0 | AG82: ='Plot (8)'!$T$17 -> 0 | AH82: ='Plot (8)'!$U$17 -> 0 | AI82: ='Plot (8)'!$T$18 -> 0 | AJ82: ='Plot (8)'!$U$18 -> 0 | AK82: ='Plot (8)'!$T$19 -> 0 | AL82: ='Plot (8)'!$U$19 -> 0
A83: 8 | B83: =+'Plot (8)'!A$20 -> 0 | C83: ='Plot (8)'!$J$20 -> 0 | D83: ='Plot (8)'!$K$20 -> 0 | E83: ='Plot (8)'!$J$21 -> 0 | F83: ='Plot (8)'!$K$21 -> 0 | G83: ='Plot (8)'!$J$22 -> 0 | H83: ='Plot (8)'!$K$22 -> 0 | I83: ='Plot (8)'!$L$20 -> 0 | J83: ='Plot (8)'!$M$20 -> 0 | K83: ='Plot (8)'!$L$21 -> 0 | L83: ='Plot (8)'!$M$21 -> 0 | M83: ='Plot (8)'!$L$22 -> 0 | N83: ='Plot (8)'!$M$22 -> 0 | O83: ='Plot (8)'!$N$20 -> 0 | P83: ='Plot (8)'!$O$20 -> 0 | Q83: ='Plot (8)'!$N$21 -> 0 | R83: ='Plot (8)'!$O$21 -> 0 | S83: ='Plot (8)'!$N$22 -> 0 | T83: ='Plot (8)'!$O$22 -> 0 | U83: ='Plot (8)'!$P$20 -> 0 | V83: ='Plot (8)'!$Q$20 -> 0 | W83: ='Plot (8)'!$P$21 -> 0 | X83: ='Plot (8)'!$Q$21 -> 0 | Y83: ='Plot (8)'!$P$22 -> 0 | Z83: ='Plot (8)'!$Q$22 -> 0 | AA83: ='Plot (8)'!$R$20 -> 0 | AB83: ='Plot (8)'!$S$20 -> 0 | AC83: ='Plot (8)'!$R$21 -> 0 | AD83: ='Plot (8)'!$S$21 -> 0 | AE83: ='Plot (8)'!$R$22 -> 0 | AF83: ='Plot (8)'!$S$22 -> 0 | AG83: ='Plot (8)'!$T$20 -> 0 | AH83: ='Plot (8)'!$U$20 -> 0 | AI83: ='Plot (8)'!$T$21 -> 0 | AJ83: ='Plot (8)'!$U$21 -> 0 | AK83: ='Plot (8)'!$T$22 -> 0 | AL83: ='Plot (8)'!$U$22 -> 0
A84: 8 | B84: =+'Plot (8)'!A$23 -> 0 | C84: ='Plot (8)'!$J$23 -> 0 | D84: ='Plot (8)'!$K$23 -> 0 | E84: ='Plot (8)'!$J$24 -> 0 | F84: ='Plot (8)'!$K$24 -> 0 | G84: ='Plot (8)'!$J$25 -> 0 | H84: ='Plot (8)'!$K$25 -> 0 | I84: ='Plot (8)'!$L$23 -> 0 | J84: ='Plot (8)'!$M$23 -> 0 | K84: ='Plot (8)'!$L$24 -> 0 | L84: ='Plot (8)'!$M$24 -> 0 | M84: ='Plot (8)'!$L$25 -> 0 | N84: ='Plot (8)'!$M$25 -> 0 | O84: ='Plot (8)'!$N$23 -> 0 | P84: ='Plot (8)'!$O$23 -> 0 | Q84: ='Plot (8)'!$N$24 -> 0 | R84: ='Plot (8)'!$O$24 -> 0 | S84: ='Plot (8)'!$N$25 -> 0 | T84: ='Plot (8)'!$O$25 -> 0 | U84: ='Plot (8)'!$P$23 -> 0 | V84: ='Plot (8)'!$Q$23 -> 0 | W84: ='Plot (8)'!$P$24 -> 0 | X84: ='Plot (8)'!$Q$24 -> 0 | Y84: ='Plot (8)'!$P$25 -> 0 | Z84: ='Plot (8)'!$Q$25 -> 0 | AA84: ='Plot (8)'!$R$23 -> 0 | AB84: ='Plot (8)'!$S$23 -> 0 | AC84: ='Plot (8)'!$R$24 -> 0 | AD84: ='Plot (8)'!$S$24 -> 0 | AE84: ='Plot (8)'!$R$25 -> 0 | AF84: ='Plot (8)'!$S$25 -> 0 | AG84: ='Plot (8)'!$T$23 -> 0 | AH84: ='Plot (8)'!$U$23 -> 0 | AI84: ='Plot (8)'!$T$24 -> 0 | AJ84: ='Plot (8)'!$U$24 -> 0 | AK84: ='Plot (8)'!$T$25 -> 0 | AL84: ='Plot (8)'!$U$25 -> 0
A85: 8 | B85: =+'Plot (8)'!A$26 -> 0 | C85: ='Plot (8)'!$J$26 -> 0 | D85: ='Plot (8)'!$K$26 -> 0 | E85: ='Plot (8)'!$J$27 -> 0 | F85: ='Plot (8)'!$K$27 -> 0 | G85: ='Plot (8)'!$J$28 -> 0 | H85: ='Plot (8)'!$K$28 -> 0 | I85: ='Plot (8)'!$L$26 -> 0 | J85: ='Plot (8)'!$M$26 -> 0 | K85: ='Plot (8)'!$L$27 -> 0 | L85: ='Plot (8)'!$M$27 -> 0 | M85: ='Plot (8)'!$L$28 -> 0 | N85: ='Plot (8)'!$M$28 -> 0 | O85: ='Plot (8)'!$N$26 -> 0 | P85: ='Plot (8)'!$O$26 -> 0 | Q85: ='Plot (8)'!$N$27 -> 0 | R85: ='Plot (8)'!$O$27 -> 0 | S85: ='Plot (8)'!$N$28 -> 0 | T85: ='Plot (8)'!$O$28 -> 0 | U85: ='Plot (8)'!$P$26 -> 0 | V85: ='Plot (8)'!$Q$26 -> 0 | W85: ='Plot (8)'!$P$27 -> 0 | X85: ='Plot (8)'!$Q$27 -> 0 | Y85: ='Plot (8)'!$P$28 -> 0 | Z85: ='Plot (8)'!$Q$28 -> 0 | AA85: ='Plot (8)'!$R$26 -> 0 | AB85: ='Plot (8)'!$S$26 -> 0 | AC85: ='Plot (8)'!$R$27 -> 0 | AD85: ='Plot (8)'!$S$27 -> 0 | AE85: ='Plot (8)'!$R$28 -> 0 | AF85: ='Plot (8)'!$S$28 -> 0 | AG85: ='Plot (8)'!$T$26 -> 0 | AH85: ='Plot (8)'!$U$26 -> 0 | AI85: ='Plot (8)'!$T$27 -> 0 | AJ85: ='Plot (8)'!$U$27 -> 0 | AK85: ='Plot (8)'!$T$28 -> 0 | AL85: ='Plot (8)'!$U$28 -> 0
A86: 8 | B86: =+'Plot (8)'!A$29 -> 0 | C86: ='Plot (8)'!$J$29 -> 0 | D86: ='Plot (8)'!$K$29 -> 0 | E86: ='Plot (8)'!$J$30 -> 0 | F86: ='Plot (8)'!$K$30 -> 0 | G86: ='Plot (8)'!$J$31 -> 0 | H86: ='Plot (8)'!$K$31 -> 0 | I86: ='Plot (8)'!$L$29 -> 0 | J86: ='Plot (8)'!$M$29 -> 0 | K86: ='Plot (8)'!$L$30 -> 0 | L86: ='Plot (8)'!$M$30 -> 0 | M86: ='Plot (8)'!$L$31 -> 0 | N86: ='Plot (8)'!$M$31 -> 0 | O86: ='Plot (8)'!$N$29 -> 0 | P86: ='Plot (8)'!$O$29 -> 0 | Q86: ='Plot (8)'!$N$30 -> 0 | R86: ='Plot (8)'!$O$30 -> 0 | S86: ='Plot (8)'!$N$31 -> 0 | T86: ='Plot (8)'!$O$31 -> 0 | U86: ='Plot (8)'!$P$29 -> 0 | V86: ='Plot (8)'!$Q$29 -> 0 | W86: ='Plot (8)'!$P$30 -> 0 | X86: ='Plot (8)'!$Q$30 -> 0 | Y86: ='Plot (8)'!$P$31 -> 0 | Z86: ='Plot (8)'!$Q$31 -> 0 | AA86: ='Plot (8)'!$R$29 -> 0 | AB86: ='Plot (8)'!$S$29 -> 0 | AC86: ='Plot (8)'!$R$30 -> 0 | AD86: ='Plot (8)'!$S$30 -> 0 | AE86: ='Plot (8)'!$R$31 -> 0 | AF86: ='Plot (8)'!$S$31 -> 0 | AG86: ='Plot (8)'!$T$29 -> 0 | AH86: ='Plot (8)'!$U$29 -> 0 | AI86: ='Plot (8)'!$T$30 -> 0 | AJ86: ='Plot (8)'!$U$30 -> 0 | AK86: ='Plot (8)'!$T$31 -> 0 | AL86: ='Plot (8)'!$U$31 -> 0
A87: 8 | B87: =+'Plot (8)'!A$32 -> 0 | C87: ='Plot (8)'!$J$32 -> 0 | D87: ='Plot (8)'!$K$32 -> 0 | E87: ='Plot (8)'!$J$33 -> 0 | F87: ='Plot (8)'!$K$33 -> 0 | G87: ='Plot (8)'!$J$34 -> 0 | H87: ='Plot (8)'!$K$34 -> 0 | I87: ='Plot (8)'!$L$32 -> 0 | J87: ='Plot (8)'!$M$32 -> 0 | K87: ='Plot (8)'!$L$33 -> 0 | L87: ='Plot (8)'!$M$33 -> 0 | M87: ='Plot (8)'!$L$34 -> 0 | N87: ='Plot (8)'!$M$34 -> 0 | O87: ='Plot (8)'!$N$32 -> 0 | P87: ='Plot (8)'!$O$32 -> 0 | Q87: ='Plot (8)'!$N$33 -> 0 | R87: ='Plot (8)'!$O$33 -> 0 | S87: ='Plot (8)'!$N$34 -> 0 | T87: ='Plot (8)'!$O$34 -> 0 | U87: ='Plot (8)'!$P$32 -> 0 | V87: ='Plot (8)'!$Q$32 -> 0 | W87: ='Plot (8)'!$P$33 -> 0 | X87: ='Plot (8)'!$Q$33 -> 0 | Y87: ='Plot (8)'!$P$34 -> 0 | Z87: ='Plot (8)'!$Q$34 -> 0 | AA87: ='Plot (8)'!$R$32 -> 0 | AB87: ='Plot (8)'!$S$32 -> 0 | AC87: ='Plot (8)'!$R$33 -> 0 | AD87: ='Plot (8)'!$S$33 -> 0 | AE87: ='Plot (8)'!$R$34 -> 0 | AF87: ='Plot (8)'!$S$34 -> 0 | AG87: ='Plot (8)'!$T$32 -> 0 | AH87: ='Plot (8)'!$U$32 -> 0 | AI87: ='Plot (8)'!$T$33 -> 0 | AJ87: ='Plot (8)'!$U$33 -> 0 | AK87: ='Plot (8)'!$T$34 -> 0 | AL87: ='Plot (8)'!$U$34 -> 0
A88: 8 | B88: =+'Plot (8)'!A$35 -> 0 | C88: ='Plot (8)'!$J$35 -> 0 | D88: ='Plot (8)'!$K$35 -> 0 | E88: ='Plot (8)'!$J$36 -> 0 | F88: ='Plot (8)'!$K$36 -> 0 | G88: ='Plot (8)'!$J$37 -> 0 | H88: ='Plot (8)'!$K$37 -> 0 | I88: ='Plot (8)'!$L$35 -> 0 | J88: ='Plot (8)'!$M$35 -> 0 | K88: ='Plot (8)'!$L$36 -> 0 | L88: ='Plot (8)'!$M$36 -> 0 | M88: ='Plot (8)'!$L$37 -> 0 | N88: ='Plot (8)'!$M$37 -> 0 | O88: ='Plot (8)'!$N$35 -> 0 | P88: ='Plot (8)'!$O$35 -> 0 | Q88: ='Plot (8)'!$N$36 -> 0 | R88: ='Plot (8)'!$O$36 -> 0 | S88: ='Plot (8)'!$N$37 -> 0 | T88: ='Plot (8)'!$O$37 -> 0 | U88: ='Plot (8)'!$P$35 -> 0 | V88: ='Plot (8)'!$Q$35 -> 0 | W88: ='Plot (8)'!$P$36 -> 0 | X88: ='Plot (8)'!$Q$36 -> 0 | Y88: ='Plot (8)'!$P$37 -> 0 | Z88: ='Plot (8)'!$Q$37 -> 0 | AA88: ='Plot (8)'!$R$35 -> 0 | AB88: ='Plot (8)'!$S$35 -> 0 | AC88: ='Plot (8)'!$R$36 -> 0 | AD88: ='Plot (8)'!$S$36 -> 0 | AE88: ='Plot (8)'!$R$37 -> 0 | AF88: ='Plot (8)'!$S$37 -> 0 | AG88: ='Plot (8)'!$T$35 -> 0 | AH88: ='Plot (8)'!$U$35 -> 0 | AI88: ='Plot (8)'!$T$36 -> 0 | AJ88: ='Plot (8)'!$U$36 -> 0 | AK88: ='Plot (8)'!$T$37 -> 0 | AL88: ='Plot (8)'!$U$37 -> 0
A89: 8 | B89: =+'Plot (8)'!A$38 -> 0 | C89: ='Plot (8)'!$J$38 -> 0 | D89: ='Plot (8)'!$K$38 -> 0 | E89: ='Plot (8)'!$J$39 -> 0 | F89: ='Plot (8)'!$K$39 -> 0 | G89: ='Plot (8)'!$J$40 -> 0 | H89: ='Plot (8)'!$K$40 -> 0 | I89: ='Plot (8)'!$L$38 -> 0 | J89: ='Plot (8)'!$M$38 -> 0 | K89: ='Plot (8)'!$L$39 -> 0 | L89: ='Plot (8)'!$M$39 -> 0 | M89: ='Plot (8)'!$L$40 -> 0 | N89: ='Plot (8)'!$M$40 -> 0 | O89: ='Plot (8)'!$N$38 -> 0 | P89: ='Plot (8)'!$O$38 -> 0 | Q89: ='Plot (8)'!$N$39 -> 0 | R89: ='Plot (8)'!$O$39 -> 0 | S89: ='Plot (8)'!$N$40 -> 0 | T89: ='Plot (8)'!$O$40 -> 0 | U89: ='Plot (8)'!$P$38 -> 0 | V89: ='Plot (8)'!$Q$38 -> 0 | W89: ='Plot (8)'!$P$39 -> 0 | X89: ='Plot (8)'!$Q$39 -> 0 | Y89: ='Plot (8)'!$P$40 -> 0 | Z89: ='Plot (8)'!$Q$40 -> 0 | AA89: ='Plot (8)'!$R$38 -> 0 | AB89: ='Plot (8)'!$S$38 -> 0 | AC89: ='Plot (8)'!$R$39 -> 0 | AD89: ='Plot (8)'!$S$39 -> 0 | AE89: ='Plot (8)'!$R$40 -> 0 | AF89: ='Plot (8)'!$S$40 -> 0 | AG89: ='Plot (8)'!$T$38 -> 0 | AH89: ='Plot (8)'!$U$38 -> 0 | AI89: ='Plot (8)'!$T$39 -> 0 | AJ89: ='Plot (8)'!$U$39 -> 0 | AK89: ='Plot (8)'!$T$40 -> 0 | AL89: ='Plot (8)'!$U$40 -> 0
A90: 9 | B90: FOREST HEALTH DAMAGE AGENTS | C90: =IF(CELL("type",('Plot (9)'!$J$8))="b","N/A",'Plot (9)'!$J$8) -> N/A | I90: =IF(CELL("type",('Plot (9)'!$L$8))="b","N/A",'Plot (9)'!$L$8) -> N/A | O90: =IF(CELL("type",('Plot (9)'!$N$8))="b","N/A",'Plot (9)'!$N$8) -> N/A | U90: =IF(CELL("type",('Plot (9)'!$P$8))="b","N/A",'Plot (9)'!$P$8) -> N/A | AA90: =IF(CELL("type",('Plot (9)'!$R$8))="b","N/A",'Plot (9)'!$R$8) -> N/A | AG90: =IF(CELL("type",('Plot (9)'!$T$8))="b","N/A",'Plot (9)'!$T$8) -> N/A
A91: 9 | B91: =+'Plot (9)'!A$11 -> 0 | C91: ='Plot (9)'!$J$11 -> 0 | D91: ='Plot (9)'!$K$11 -> 0 | E91: ='Plot (9)'!$J$12 -> 0 | F91: ='Plot (9)'!$K$12 -> 0 | G91: ='Plot (9)'!$J$13 -> 0 | H91: ='Plot (9)'!$K$13 -> 0 | I91: ='Plot (9)'!$L$11 -> 0 | J91: ='Plot (9)'!$M$11 -> 0 | K91: ='Plot (9)'!$L$12 -> 0 | L91: ='Plot (9)'!$M$12 -> 0 | M91: ='Plot (9)'!$L$13 -> 0 | N91: ='Plot (9)'!$M$13 -> 0 | O91: ='Plot (9)'!$N$11 -> 0 | P91: ='Plot (9)'!$O$11 -> 0 | Q91: ='Plot (9)'!$N$12 -> 0 | R91: ='Plot (9)'!$O$12 -> 0 | S91: ='Plot (9)'!$N$13 -> 0 | T91: ='Plot (9)'!$O$13 -> 0 | U91: ='Plot (9)'!$P$11 -> 0 | V91: ='Plot (9)'!$Q$11 -> 0 | W91: ='Plot (9)'!$P$12 -> 0 | X91: ='Plot (9)'!$Q$12 -> 0 | Y91: ='Plot (9)'!$P$13 -> 0 | Z91: ='Plot (9)'!$Q$13 -> 0 | AA91: ='Plot (9)'!$R$11 -> 0 | AB91: ='Plot (9)'!$S$11 -> 0 | AC91: ='Plot (9)'!$R$12 -> 0 | AD91: ='Plot (9)'!$S$12 -> 0 | AE91: ='Plot (9)'!$R$13 -> 0 | AF91: ='Plot (9)'!$S$13 -> 0 | AG91: ='Plot (9)'!$T$11 -> 0 | AH91: ='Plot (9)'!$U$11 -> 0 | AI91: ='Plot (9)'!$T$12 -> 0 | AJ91: ='Plot (9)'!$U$12 -> 0 | AK91: ='Plot (9)'!$T$13 -> 0 | AL91: ='Plot (9)'!$U$13 -> 0
A92: 9 | B92: =+'Plot (9)'!A$14 -> 0 | C92: ='Plot (9)'!$J$14 -> 0 | D92: ='Plot (9)'!$K$14 -> 0 | E92: ='Plot (9)'!$J$15 -> 0 | F92: ='Plot (9)'!$K$15 -> 0 | G92: ='Plot (9)'!$J$16 -> 0 | H92: ='Plot (9)'!$K$16 -> 0 | I92: ='Plot (9)'!$L$14 -> 0 | J92: ='Plot (9)'!$M$14 -> 0 | K92: ='Plot (9)'!$L$15 -> 0 | L92: ='Plot (9)'!$M$15 -> 0 | M92: ='Plot (9)'!$L$16 -> 0 | N92: ='Plot (9)'!$M$16 -> 0 | O92: ='Plot (9)'!$N$14 -> 0 | P92: ='Plot (9)'!$O$14 -> 0 | Q92: ='Plot (9)'!$N$15 -> 0 | R92: ='Plot (9)'!$O$15 -> 0 | S92: ='Plot (9)'!$N$16 -> 0 | T92: ='Plot (9)'!$O$16 -> 0 | U92: ='Plot (9)'!$P$14 -> 0 | V92: ='Plot (9)'!$Q$14 -> 0 | W92: ='Plot (9)'!$P$15 -> 0 | X92: ='Plot (9)'!$Q$15 -> 0 | Y92: ='Plot (9)'!$P$16 -> 0 | Z92: ='Plot (9)'!$Q$16 -> 0 | AA92: ='Plot (9)'!$R$14 -> 0 | AB92: ='Plot (9)'!$S$14 -> 0 | AC92: ='Plot (9)'!$R$15 -> 0 | AD92: ='Plot (9)'!$S$15 -> 0 | AE92: ='Plot (9)'!$R$16 -> 0 | AF92: ='Plot (9)'!$S$16 -> 0 | AG92: ='Plot (9)'!$T$14 -> 0 | AH92: ='Plot (9)'!$U$14 -> 0 | AI92: ='Plot (9)'!$T$15 -> 0 | AJ92: ='Plot (9)'!$U$15 -> 0 | AK92: ='Plot (9)'!$T$16 -> 0 | AL92: ='Plot (9)'!$U$16 -> 0
A93: 9 | B93: =+'Plot (9)'!A$17 -> 0 | C93: ='Plot (9)'!$J$17 -> 0 | D93: ='Plot (9)'!$K$17 -> 0 | E93: ='Plot (9)'!$J$18 -> 0 | F93: ='Plot (9)'!$K$18 -> 0 | G93: ='Plot (9)'!$J$19 -> 0 | H93: ='Plot (9)'!$K$19 -> 0 | I93: ='Plot (9)'!$L$17 -> 0 | J93: ='Plot (9)'!$M$17 -> 0 | K93: ='Plot (9)'!$L$18 -> 0 | L93: ='Plot (9)'!$M$18 -> 0 | M93: ='Plot (9)'!$L$19 -> 0 | N93: ='Plot (9)'!$M$19 -> 0 | O93: ='Plot (9)'!$N$17 -> 0 | P93: ='Plot (9)'!$O$17 -> 0 | Q93: ='Plot (9)'!$N$18 -> 0 | R93: ='Plot (9)'!$O$18 -> 0 | S93: ='Plot (9)'!$N$19 -> 0 | T93: ='Plot (9)'!$O$19 -> 0 | U93: ='Plot (9)'!$P$17 -> 0 | V93: ='Plot (9)'!$Q$17 -> 0 | W93: ='Plot (9)'!$P$18 -> 0 | X93: ='Plot (9)'!$Q$18 -> 0 | Y93: ='Plot (9)'!$P$19 -> 0 | Z93: ='Plot (9)'!$Q$19 -> 0 | AA93: ='Plot (9)'!$R$17 -> 0 | AB93: ='Plot (9)'!$S$17 -> 0 | AC93: ='Plot (9)'!$R$18 -> 0 | AD93: ='Plot (9)'!$S$18 -> 0 | AE93: ='Plot (9)'!$R$19 -> 0 | AF93: ='Plot (9)'!$S$19 -> 0 | AG93: ='Plot (9)'!$T$17 -> 0 | AH93: ='Plot (9)'!$U$17 -> 0 | AI93: ='Plot (9)'!$T$18 -> 0 | AJ93: ='Plot (9)'!$U$18 -> 0 | AK93: ='Plot (9)'!$T$19 -> 0 | AL93: ='Plot (9)'!$U$19 -> 0
A94: 9 | B94: =+'Plot (9)'!A$20 -> 0 | C94: ='Plot (9)'!$J$20 -> 0 | D94: ='Plot (9)'!$K$20 -> 0 | E94: ='Plot (9)'!$J$21 -> 0 | F94: ='Plot (9)'!$K$21 -> 0 | G94: ='Plot (9)'!$J$22 -> 0 | H94: ='Plot (9)'!$K$22 -> 0 | I94: ='Plot (9)'!$L$20 -> 0 | J94: ='Plot (9)'!$M$20 -> 0 | K94: ='Plot (9)'!$L$21 -> 0 | L94: ='Plot (9)'!$M$21 -> 0 | M94: ='Plot (9)'!$L$22 -> 0 | N94: ='Plot (9)'!$M$22 -> 0 | O94: ='Plot (9)'!$N$20 -> 0 | P94: ='Plot (9)'!$O$20 -> 0 | Q94: ='Plot (9)'!$N$21 -> 0 | R94: ='Plot (9)'!$O$21 -> 0 | S94: ='Plot (9)'!$N$22 -> 0 | T94: ='Plot (9)'!$O$22 -> 0 | U94: ='Plot (9)'!$P$20 -> 0 | V94: ='Plot (9)'!$Q$20 -> 0 | W94: ='Plot (9)'!$P$21 -> 0 | X94: ='Plot (9)'!$Q$21 -> 0 | Y94: ='Plot (9)'!$P$22 -> 0 | Z94: ='Plot (9)'!$Q$22 -> 0 | AA94: ='Plot (9)'!$R$20 -> 0 | AB94: ='Plot (9)'!$S$20 -> 0 | AC94: ='Plot (9)'!$R$21 -> 0 | AD94: ='Plot (9)'!$S$21 -> 0 | AE94: ='Plot (9)'!$R$22 -> 0 | AF94: ='Plot (9)'!$S$22 -> 0 | AG94: ='Plot (9)'!$T$20 -> 0 | AH94: ='Plot (9)'!$U$20 -> 0 | AI94: ='Plot (9)'!$T$21 -> 0 | AJ94: ='Plot (9)'!$U$21 -> 0 | AK94: ='Plot (9)'!$T$22 -> 0 | AL94: ='Plot (9)'!$U$22 -> 0
A95: 9 | B95: =+'Plot (9)'!A$23 -> 0 | C95: ='Plot (9)'!$J$23 -> 0 | D95: ='Plot (9)'!$K$23 -> 0 | E95: ='Plot (9)'!$J$24 -> 0 | F95: ='Plot (9)'!$K$24 -> 0 | G95: ='Plot (9)'!$J$25 -> 0 | H95: ='Plot (9)'!$K$25 -> 0 | I95: ='Plot (9)'!$L$23 -> 0 | J95: ='Plot (9)'!$M$23 -> 0 | K95: ='Plot (9)'!$L$24 -> 0 | L95: ='Plot (9)'!$M$24 -> 0 | M95: ='Plot (9)'!$L$25 -> 0 | N95: ='Plot (9)'!$M$25 -> 0 | O95: ='Plot (9)'!$N$23 -> 0 | P95: ='Plot (9)'!$O$23 -> 0 | Q95: ='Plot (9)'!$N$24 -> 0 | R95: ='Plot (9)'!$O$24 -> 0 | S95: ='Plot (9)'!$N$25 -> 0 | T95: ='Plot (9)'!$O$25 -> 0 | U95: ='Plot (9)'!$P$23 -> 0 | V95: ='Plot (9)'!$Q$23 -> 0 | W95: ='Plot (9)'!$P$24 -> 0 | X95: ='Plot (9)'!$Q$24 -> 0 | Y95: ='Plot (9)'!$P$25 -> 0 | Z95: ='Plot (9)'!$Q$25 -> 0 | AA95: ='Plot (9)'!$R$23 -> 0 | AB95: ='Plot (9)'!$S$23 -> 0 | AC95: ='Plot (9)'!$R$24 -> 0 | AD95: ='Plot (9)'!$S$24 -> 0 | AE95: ='Plot (9)'!$R$25 -> 0 | AF95: ='Plot (9)'!$S$25 -> 0 | AG95: ='Plot (9)'!$T$23 -> 0 | AH95: ='Plot (9)'!$U$23 -> 0 | AI95: ='Plot (9)'!$T$24 -> 0 | AJ95: ='Plot (9)'!$U$24 -> 0 | AK95: ='Plot (9)'!$T$25 -> 0 | AL95: ='Plot (9)'!$U$25 -> 0
A96: 9 | B96: =+'Plot (9)'!A$26 -> 0 | C96: ='Plot (9)'!$J$26 -> 0 | D96: ='Plot (9)'!$K$26 -> 0 | E96: ='Plot (9)'!$J$27 -> 0 | F96: ='Plot (9)'!$K$27 -> 0 | G96: ='Plot (9)'!$J$28 -> 0 | H96: ='Plot (9)'!$K$28 -> 0 | I96: ='Plot (9)'!$L$26 -> 0 | J96: ='Plot (9)'!$M$26 -> 0 | K96: ='Plot (9)'!$L$27 -> 0 | L96: ='Plot (9)'!$M$27 -> 0 | M96: ='Plot (9)'!$L$28 -> 0 | N96: ='Plot (9)'!$M$28 -> 0 | O96: ='Plot (9)'!$N$26 -> 0 | P96: ='Plot (9)'!$O$26 -> 0 | Q96: ='Plot (9)'!$N$27 -> 0 | R96: ='Plot (9)'!$O$27 -> 0 | S96: ='Plot (9)'!$N$28 -> 0 | T96: ='Plot (9)'!$O$28 -> 0 | U96: ='Plot (9)'!$P$26 -> 0 | V96: ='Plot (9)'!$Q$26 -> 0 | W96: ='Plot (9)'!$P$27 -> 0 | X96: ='Plot (9)'!$Q$27 -> 0 | Y96: ='Plot (9)'!$P$28 -> 0 | Z96: ='Plot (9)'!$Q$28 -> 0 | AA96: ='Plot (9)'!$R$26 -> 0 | AB96: ='Plot (9)'!$S$26 -> 0 | AC96: ='Plot (9)'!$R$27 -> 0 | AD96: ='Plot (9)'!$S$27 -> 0 | AE96: ='Plot (9)'!$R$28 -> 0 | AF96: ='Plot (9)'!$S$28 -> 0 | AG96: ='Plot (9)'!$T$26 -> 0 | AH96: ='Plot (9)'!$U$26 -> 0 | AI96: ='Plot (9)'!$T$27 -> 0 | AJ96: ='Plot (9)'!$U$27 -> 0 | AK96: ='Plot (9)'!$T$28 -> 0 | AL96: ='Plot (9)'!$U$28 -> 0
A97: 9 | B97: =+'Plot (9)'!A$29 -> 0 | C97: ='Plot (9)'!$J$29 -> 0 | D97: ='Plot (9)'!$K$29 -> 0 | E97: ='Plot (9)'!$J$30 -> 0 | F97: ='Plot (9)'!$K$30 -> 0 | G97: ='Plot (9)'!$J$31 -> 0 | H97: ='Plot (9)'!$K$31 -> 0 | I97: ='Plot (9)'!$L$29 -> 0 | J97: ='Plot (9)'!$M$29 -> 0 | K97: ='Plot (9)'!$L$30 -> 0 | L97: ='Plot (9)'!$M$30 -> 0 | M97: ='Plot (9)'!$L$31 -> 0 | N97: ='Plot (9)'!$M$31 -> 0 | O97: ='Plot (9)'!$N$29 -> 0 | P97: ='Plot (9)'!$O$29 -> 0 | Q97: ='Plot (9)'!$N$30 -> 0 | R97: ='Plot (9)'!$O$30 -> 0 | S97: ='Plot (9)'!$N$31 -> 0 | T97: ='Plot (9)'!$O$31 -> 0 | U97: ='Plot (9)'!$P$29 -> 0 | V97: ='Plot (9)'!$Q$29 -> 0 | W97: ='Plot (9)'!$P$30 -> 0 | X97: ='Plot (9)'!$Q$30 -> 0 | Y97: ='Plot (9)'!$P$31 -> 0 | Z97: ='Plot (9)'!$Q$31 -> 0 | AA97: ='Plot (9)'!$R$29 -> 0 | AB97: ='Plot (9)'!$S$29 -> 0 | AC97: ='Plot (9)'!$R$30 -> 0 | AD97: ='Plot (9)'!$S$30 -> 0 | AE97: ='Plot (9)'!$R$31 -> 0 | AF97: ='Plot (9)'!$S$31 -> 0 | AG97: ='Plot (9)'!$T$29 -> 0 | AH97: ='Plot (9)'!$U$29 -> 0 | AI97: ='Plot (9)'!$T$30 -> 0 | AJ97: ='Plot (9)'!$U$30 -> 0 | AK97: ='Plot (9)'!$T$31 -> 0 | AL97: ='Plot (9)'!$U$31 -> 0
A98: 9 | B98: =+'Plot (9)'!A$32 -> 0 | C98: ='Plot (9)'!$J$32 -> 0 | D98: ='Plot (9)'!$K$32 -> 0 | E98: ='Plot (9)'!$J$33 -> 0 | F98: ='Plot (9)'!$K$33 -> 0 | G98: ='Plot (9)'!$J$34 -> 0 | H98: ='Plot (9)'!$K$34 -> 0 | I98: ='Plot (9)'!$L$32 -> 0 | J98: ='Plot (9)'!$M$32 -> 0 | K98: ='Plot (9)'!$L$33 -> 0 | L98: ='Plot (9)'!$M$33 -> 0 | M98: ='Plot (9)'!$L$34 -> 0 | N98: ='Plot (9)'!$M$34 -> 0 | O98: ='Plot (9)'!$N$32 -> 0 | P98: ='Plot (9)'!$O$32 -> 0 | Q98: ='Plot (9)'!$N$33 -> 0 | R98: ='Plot (9)'!$O$33 -> 0 | S98: ='Plot (9)'!$N$34 -> 0 | T98: ='Plot (9)'!$O$34 -> 0 | U98: ='Plot (9)'!$P$32 -> 0 | V98: ='Plot (9)'!$Q$32 -> 0 | W98: ='Plot (9)'!$P$33 -> 0 | X98: ='Plot (9)'!$Q$33 -> 0 | Y98: ='Plot (9)'!$P$34 -> 0 | Z98: ='Plot (9)'!$Q$34 -> 0 | AA98: ='Plot (9)'!$R$32 -> 0 | AB98: ='Plot (9)'!$S$32 -> 0 | AC98: ='Plot (9)'!$R$33 -> 0 | AD98: ='Plot (9)'!$S$33 -> 0 | AE98: ='Plot (9)'!$R$34 -> 0 | AF98: ='Plot (9)'!$S$34 -> 0 | AG98: ='Plot (9)'!$T$32 -> 0 | AH98: ='Plot (9)'!$U$32 -> 0 | AI98: ='Plot (9)'!$T$33 -> 0 | AJ98: ='Plot (9)'!$U$33 -> 0 | AK98: ='Plot (9)'!$T$34 -> 0 | AL98: ='Plot (9)'!$U$34 -> 0
A99: 9 | B99: =+'Plot (9)'!A$35 -> 0 | C99: ='Plot (9)'!$J$35 -> 0 | D99: ='Plot (9)'!$K$35 -> 0 | E99: ='Plot (9)'!$J$36 -> 0 | F99: ='Plot (9)'!$K$36 -> 0 | G99: ='Plot (9)'!$J$37 -> 0 | H99: ='Plot (9)'!$K$37 -> 0 | I99: ='Plot (9)'!$L$35 -> 0 | J99: ='Plot (9)'!$M$35 -> 0 | K99: ='Plot (9)'!$L$36 -> 0 | L99: ='Plot (9)'!$M$36 -> 0 | M99: ='Plot (9)'!$L$37 -> 0 | N99: ='Plot (9)'!$M$37 -> 0 | O99: ='Plot (9)'!$N$35 -> 0 | P99: ='Plot (9)'!$O$35 -> 0 | Q99: ='Plot (9)'!$N$36 -> 0 | R99: ='Plot (9)'!$O$36 -> 0 | S99: ='Plot (9)'!$N$37 -> 0 | T99: ='Plot (9)'!$O$37 -> 0 | U99: ='Plot (9)'!$P$35 -> 0 | V99: ='Plot (9)'!$Q$35 -> 0 | W99: ='Plot (9)'!$P$36 -> 0 | X99: ='Plot (9)'!$Q$36 -> 0 | Y99: ='Plot (9)'!$P$37 -> 0 | Z99: ='Plot (9)'!$Q$37 -> 0 | AA99: ='Plot (9)'!$R$35 -> 0 | AB99: ='Plot (9)'!$S$35 -> 0 | AC99: ='Plot (9)'!$R$36 -> 0 | AD99: ='Plot (9)'!$S$36 -> 0 | AE99: ='Plot (9)'!$R$37 -> 0 | AF99: ='Plot (9)'!$S$37 -> 0 | AG99: ='Plot (9)'!$T$35 -> 0 | AH99: ='Plot (9)'!$U$35 -> 0 | AI99: ='Plot (9)'!$T$36 -> 0 | AJ99: ='Plot (9)'!$U$36 -> 0 | AK99: ='Plot (9)'!$T$37 -> 0 | AL99: ='Plot (9)'!$U$37 -> 0
A100: 9 | B100: =+'Plot (9)'!A$38 -> 0 | C100: ='Plot (9)'!$J$38 -> 0 | D100: ='Plot (9)'!$K$38 -> 0 | E100: ='Plot (9)'!$J$39 -> 0 | F100: ='Plot (9)'!$K$39 -> 0 | G100: ='Plot (9)'!$J$40 -> 0 | H100: ='Plot (9)'!$K$40 -> 0 | I100: ='Plot (9)'!$L$38 -> 0 | J100: ='Plot (9)'!$M$38 -> 0 | K100: ='Plot (9)'!$L$39 -> 0 | L100: ='Plot (9)'!$M$39 -> 0 | M100: ='Plot (9)'!$L$40 -> 0 | N100: ='Plot (9)'!$M$40 -> 0 | O100: ='Plot (9)'!$N$38 -> 0 | P100: ='Plot (9)'!$O$38 -> 0 | Q100: ='Plot (9)'!$N$39 -> 0 | R100: ='Plot (9)'!$O$39 -> 0 | S100: ='Plot (9)'!$N$40 -> 0 | T100: ='Plot (9)'!$O$40 -> 0 | U100: ='Plot (9)'!$P$38 -> 0 | V100: ='Plot (9)'!$Q$38 -> 0 | W100: ='Plot (9)'!$P$39 -> 0 | X100: ='Plot (9)'!$Q$39 -> 0 | Y100: ='Plot (9)'!$P$40 -> 0 | Z100: ='Plot (9)'!$Q$40 -> 0 | AA100: ='Plot (9)'!$R$38 -> 0 | AB100: ='Plot (9)'!$S$38 -> 0 | AC100: ='Plot (9)'!$R$39 -> 0 | AD100: ='Plot (9)'!$S$39 -> 0 | AE100: ='Plot (9)'!$R$40 -> 0 | AF100: ='Plot (9)'!$S$40 -> 0 | AG100: ='Plot (9)'!$T$38 -> 0 | AH100: ='Plot (9)'!$U$38 -> 0 | AI100: ='Plot (9)'!$T$39 -> 0 | AJ100: ='Plot (9)'!$U$39 -> 0 | AK100: ='Plot (9)'!$T$40 -> 0 | AL100: ='Plot (9)'!$U$40 -> 0
...

Sheet Density & Site Index
D2: Quick Plot Density and Site Index Summary
B4: MAPSHEET - OPENING NO. | E4: POLYGON | G4: BEC | I4: Site Index Summary
B5: ='Plot (1)'!A4 | E5: ='Plot (1)'!G4 -> 0 | G5: ='Plot (1)'!AC4 -> 0 | I5: Growth Intercept Sample
B6: PLOT | C6: TOTAL TREES | D6: TOTAL CON. | E6: DEAD TREES | F6: DEAD CON. | G6: WS | H6: FG | I6: Species | J6: Total Height | K6: Age @ 1.3m | L6: Site Index
B7: Plot 1 | C7: =IF(CELL("type",('Plot (1)'!D$10))="b","Blank Cell",IF(CELL("type",('Plot (1)'!D$10))="v",IF(('Plot (1)'!D$10)=SUM('Plot (1)'!D$11:D$40),('Plot (1)'!D$10),"Addition or Text Error"))) -> 0 | D7: =IF(CELL("type",('Plot (1)'!E$10))="b","Blank Cell",IF(CELL("type",('Plot (1)'!E$10))="v",IF(('Plot (1)'!E$10)=SUM('Plot (1)'!E$11:E$40),('Plot (1)'!E$10),"Addition or Text Error"))) -> 0 | E7: =IF(CELL("type",('Plot (1)'!F$10))="b","Blank Cell",IF(CELL("type",('Plot (1)'!F$10))="v",IF(('Plot (1)'!F$10)=SUM('Plot (1)'!F$11:F$40),('Plot (1)'!F$10),"Addition or Text Error"))) -> 0 | F7: =IF(CELL("type",('Plot (1)'!G$10))="b","Blank Cell",IF(CELL("type",('Plot (1)'!G$10))="v",IF(('Plot (1)'!G$10)=SUM('Plot (1)'!G$11:G$40),('Plot (1)'!G$10),"Addition or Text Error"))) -> 0 | G7: =IF(CELL("type",('Plot (1)'!H$10))="b","Blank Cell",IF(CELL("type",('Plot (1)'!H$10))="v",IF(('Plot (1)'!H$10)=SUM('Plot (1)'!H$11:H$40),('Plot (1)'!H$10),"Addition or Text Error"))) -> 0 | H7: =IF(CELL("type",('Plot (1)'!I$10))="b","Blank Cell",IF(CELL("type",('Plot (1)'!I$10))="v",IF(('Plot (1)'!I$10)=SUM('Plot (1)'!I$11:I$40),('Plot (1)'!I$10),"Addition or Text Error"))) -> 0 | I7: =IF('Plot (1)'!AE$12>0, 'Plot (1)'!AE$12, "Nil") -> Nil | J7: =IF('Plot (1)'!AE$14>0, 'Plot (1)'!AE$14, "") | K7: =IF('Plot (1)'!AE$15>0, 'Plot (1)'!AE$15, "") | L7: =IF('Plot (1)'!AE$16>0, 'Plot (1)'!AE$16, "") | N7: The "Quick Plot Density" table is automated. It DOES NOT require any input.
B8: Plot 2 | C8: =IF(CELL("type",('Plot (2)'!D$10))="b","Blank Cell",IF(CELL("type",('Plot (2)'!D$10))="v",IF(('Plot (2)'!D$10)=SUM('Plot (2)'!D$11:D$40),('Plot (2)'!D$10),"Addition or Text Error"))) -> 0 | D8: =IF(CELL("type",('Plot (2)'!E$10))="b","Blank Cell",IF(CELL("type",('Plot (2)'!E$10))="v",IF(('Plot (2)'!E$10)=SUM('Plot (2)'!E$11:E$40),('Plot (2)'!E$10),"Addition or Text Error"))) -> 0 | E8: =IF(CELL("type",('Plot (2)'!F$10))="b","Blank Cell",IF(CELL("type",('Plot (2)'!F$10))="v",IF(('Plot (2)'!F$10)=SUM('Plot (2)'!F$11:F$40),('Plot (2)'!F$10),"Addition or Text Error"))) -> 0 | F8: =IF(CELL("type",('Plot (2)'!G$10))="b","Blank Cell",IF(CELL("type",('Plot (2)'!G$10))="v",IF(('Plot (2)'!G$10)=SUM('Plot (2)'!G$11:G$40),('Plot (2)'!G$10),"Addition or Text Error"))) -> 0 | G8: =IF(CELL("type",('Plot (2)'!H$10))="b","Blank Cell",IF(CELL("type",('Plot (2)'!H$10))="v",IF(('Plot (2)'!H$10)=SUM('Plot (2)'!H$11:H$40),('Plot (2)'!H$10),"Addition or Text Error"))) -> 0 | H8: =IF(CELL("type",('Plot (2)'!I$10))="b","Blank Cell",IF(CELL("type",('Plot (2)'!I$10))="v",IF(('Plot (2)'!I$10)=SUM('Plot (2)'!I$11:I$40),('Plot (2)'!I$10),"Addition or Text Error"))) -> 0 | I8: =IF('Plot (2)'!AE$12>0, 'Plot (2)'!AE$12, "Nil") -> Nil | J8: =IF('Plot (2)'!AE$14>0, 'Plot (2)'!AE$14, "") | K8: =IF('Plot (2)'!AE$15>0, 'Plot (2)'!AE$15, "") | L8: =IF('Plot (2)'!AE$16>0, 'Plot (2)'!AE$16, "")
B9: Plot 3 | C9: =IF(CELL("type",('Plot (3)'!D$10))="b","Blank Cell",IF(CELL("type",('Plot (3)'!D$10))="v",IF(('Plot (3)'!D$10)=SUM('Plot (3)'!D$11:D$40),('Plot (3)'!D$10),"Addition or Text Error"))) -> 0 | D9: =IF(CELL("type",('Plot (3)'!E$10))="b","Blank Cell",IF(CELL("type",('Plot (3)'!E$10))="v",IF(('Plot (3)'!E$10)=SUM('Plot (3)'!E$11:E$40),('Plot (3)'!E$10),"Addition or Text Error"))) -> 0 | E9: =IF(CELL("type",('Plot (3)'!F$10))="b","Blank Cell",IF(CELL("type",('Plot (3)'!F$10))="v",IF(('Plot (3)'!F$10)=SUM('Plot (3)'!F$11:F$40),('Plot (3)'!F$10),"Addition or Text Error"))) -> 0 | F9: =IF(CELL("type",('Plot (3)'!G$10))="b","Blank Cell",IF(CELL("type",('Plot (3)'!G$10))="v",IF(('Plot (3)'!G$10)=SUM('Plot (3)'!G$11:G$40),('Plot (3)'!G$10),"Addition or Text Error"))) -> 0 | G9: =IF(CELL("type",('Plot (3)'!H$10))="b","Blank Cell",IF(CELL("type",('Plot (3)'!H$10))="v",IF(('Plot (3)'!H$10)=SUM('Plot (3)'!H$11:H$40),('Plot (3)'!H$10),"Addition or Text Error"))) -> 0 | H9: =IF(CELL("type",('Plot (3)'!I$10))="b","Blank Cell",IF(CELL("type",('Plot (3)'!I$10))="v",IF(('Plot (3)'!I$10)=SUM('Plot (3)'!I$11:I$40),('Plot (3)'!I$10),"Addition or Text Error"))) -> 0 | I9: =IF('Plot (3)'!AE$12>0, 'Plot (3)'!AE$12, "Nil") -> Nil | J9: =IF('Plot (3)'!AE$14>0, 'Plot (3)'!AE$14, "") | K9: =IF('Plot (3)'!AE$15>0, 'Plot (3)'!AE$15, "") | L9: =IF('Plot (3)'!AE$16>0, 'Plot (3)'!AE$16, "")
B10: Plot 4 | C10: =IF(CELL("type",('Plot (4)'!D$10))="b","Blank Cell",IF(CELL("type",('Plot (4)'!D$10))="v",IF(('Plot (4)'!D$10)=SUM('Plot (4)'!D$11:D$40),('Plot (4)'!D$10),"Addition or Text Error"))) -> 0 | D10: =IF(CELL("type",('Plot (4)'!E$10))="b","Blank Cell",IF(CELL("type",('Plot (4)'!E$10))="v",IF(('Plot (4)'!E$10)=SUM('Plot (4)'!E$11:E$40),('Plot (4)'!E$10),"Addition or Text Error"))) -> 0 | E10: =IF(CELL("type",('Plot (4)'!F$10))="b","Blank Cell",IF(CELL("type",('Plot (4)'!F$10))="v",IF(('Plot (4)'!F$10)=SUM('Plot (4)'!F$11:F$40),('Plot (4)'!F$10),"Addition or Text Error"))) -> 0 | F10: =IF(CELL("type",('Plot (4)'!G$10))="b","Blank Cell",IF(CELL("type",('Plot (4)'!G$10))="v",IF(('Plot (4)'!G$10)=SUM('Plot (4)'!G$11:G$40),('Plot (4)'!G$10),"Addition or Text Error"))) -> 0 | G10: =IF(CELL("type",('Plot (4)'!H$10))="b","Blank Cell",IF(CELL("type",('Plot (4)'!H$10))="v",IF(('Plot (4)'!H$10)=SUM('Plot (4)'!H$11:H$40),('Plot (4)'!H$10),"Addition or Text Error"))) -> 0 | H10: =IF(CELL("type",('Plot (4)'!I$10))="b","Blank Cell",IF(CELL("type",('Plot (4)'!I$10))="v",IF(('Plot (4)'!I$10)=SUM('Plot (4)'!I$11:I$40),('Plot (4)'!I$10),"Addition or Text Error"))) -> 0 | I10: =IF('Plot (4)'!AE$12>0, 'Plot (4)'!AE$12, "Nil") -> Nil | J10: =IF('Plot (4)'!AE$14>0, 'Plot (4)'!AE$14, "") | K10: =IF('Plot (4)'!AE$15>0, 'Plot (4)'!AE$15, "") | L10: =IF('Plot (4)'!AE$16>0, 'Plot (4)'!AE$16, "")
B11: Plot 5 | C11: =IF(CELL("type",('Plot (5)'!D$10))="b","Blank Cell",IF(CELL("type",('Plot (5)'!D$10))="v",IF(('Plot (5)'!D$10)=SUM('Plot (5)'!D$11:D$40),('Plot (5)'!D$10),"Addition or Text Error"))) -> 0 | D11: =IF(CELL("type",('Plot (5)'!E$10))="b","Blank Cell",IF(CELL("type",('Plot (5)'!E$10))="v",IF(('Plot (5)'!E$10)=SUM('Plot (5)'!E$11:E$40),('Plot (5)'!E$10),"Addition or Text Error"))) -> 0 | E11: =IF(CELL("type",('Plot (5)'!F$10))="b","Blank Cell",IF(CELL("type",('Plot (5)'!F$10))="v",IF(('Plot (5)'!F$10)=SUM('Plot (5)'!F$11:F$40),('Plot (5)'!F$10),"Addition or Text Error"))) -> 0 | F11: =IF(CELL("type",('Plot (5)'!G$10))="b","Blank Cell",IF(CELL("type",('Plot (5)'!G$10))="v",IF(('Plot (5)'!G$10)=SUM('Plot (5)'!G$11:G$40),('Plot (5)'!G$10),"Addition or Text Error"))) -> 0 | G11: =IF(CELL("type",('Plot (5)'!H$10))="b","Blank Cell",IF(CELL("type",('Plot (5)'!H$10))="v",IF(('Plot (5)'!H$10)=SUM('Plot (5)'!H$11:H$40),('Plot (5)'!H$10),"Addition or Text Error"))) -> 0 | H11: =IF(CELL("type",('Plot (5)'!I$10))="b","Blank Cell",IF(CELL("type",('Plot (5)'!I$10))="v",IF(('Plot (5)'!I$10)=SUM('Plot (5)'!I$11:I$40),('Plot (5)'!I$10),"Addition or Text Error"))) -> 0 | I11: =IF('Plot (5)'!AE$12>0, 'Plot (5)'!AE$12, "Nil") -> Nil | J11: =IF('Plot (5)'!AE$14>0, 'Plot (5)'!AE$14, "") | K11: =IF('Plot (5)'!AE$15>0, 'Plot (5)'!AE$15, "") | L11: =IF('Plot (5)'!AE$16>0, 'Plot (5)'!AE$16, "")
B12: Plot 6 | C12: =IF(CELL("type",('Plot (6)'!D$10))="b","Blank Cell",IF(CELL("type",('Plot (6)'!D$10))="v",IF(('Plot (6)'!D$10)=SUM('Plot (6)'!D$11:D$40),('Plot (6)'!D$10),"Addition or Text Error"))) -> 0 | D12: =IF(CELL("type",('Plot (6)'!E$10))="b","Blank Cell",IF(CELL("type",('Plot (6)'!E$10))="v",IF(('Plot (6)'!E$10)=SUM('Plot (6)'!E$11:E$40),('Plot (6)'!E$10),"Addition or Text Error"))) -> 0 | E12: =IF(CELL("type",('Plot (6)'!F$10))="b","Blank Cell",IF(CELL("type",('Plot (6)'!F$10))="v",IF(('Plot (6)'!F$10)=SUM('Plot (6)'!F$11:F$40),('Plot (6)'!F$10),"Addition or Text Error"))) -> 0 | F12: =IF(CELL("type",('Plot (6)'!G$10))="b","Blank Cell",IF(CELL("type",('Plot (6)'!G$10))="v",IF(('Plot (6)'!G$10)=SUM('Plot (6)'!G$11:G$40),('Plot (6)'!G$10),"Addition or Text Error"))) -> 0 | G12: =IF(CELL("type",('Plot (6)'!H$10))="b","Blank Cell",IF(CELL("type",('Plot (6)'!H$10))="v",IF(('Plot (6)'!H$10)=SUM('Plot (6)'!H$11:H$40),('Plot (6)'!H$10),"Addition or Text Error"))) -> 0 | H12: =IF(CELL("type",('Plot (6)'!I$10))="b","Blank Cell",IF(CELL("type",('Plot (6)'!I$10))="v",IF(('Plot (6)'!I$10)=SUM('Plot (6)'!I$11:I$40),('Plot (6)'!I$10),"Addition or Text Error"))) -> 0 | I12: =IF('Plot (6)'!AE$12>0, 'Plot (6)'!AE$12, "Nil") -> Nil | J12: =IF('Plot (6)'!AE$14>0, 'Plot (6)'!AE$14, "") | K12: =IF('Plot (6)'!AE$15>0, 'Plot (6)'!AE$15, "") | L12: =IF('Plot (6)'!AE$16>0, 'Plot (6)'!AE$16, "")
B13: Plot 7 | C13: =IF(CELL("type",('Plot (7)'!D$10))="b","Blank Cell",IF(CELL("type",('Plot (7)'!D$10))="v",IF(('Plot (7)'!D$10)=SUM('Plot (7)'!D$11:D$40),('Plot (7)'!D$10),"Addition or Text Error"))) -> 0 | D13: =IF(CELL("type",('Plot (7)'!E$10))="b","Blank Cell",IF(CELL("type",('Plot (7)'!E$10))="v",IF(('Plot (7)'!E$10)=SUM('Plot (7)'!E$11:E$40),('Plot (7)'!E$10),"Addition or Text Error"))) -> 0 | E13: =IF(CELL("type",('Plot (7)'!F$10))="b","Blank Cell",IF(CELL("type",('Plot (7)'!F$10))="v",IF(('Plot (7)'!F$10)=SUM('Plot (7)'!F$11:F$40),('Plot (7)'!F$10),"Addition or Text Error"))) -> 0 | F13: =IF(CELL("type",('Plot (7)'!G$10))="b","Blank Cell",IF(CELL("type",('Plot (7)'!G$10))="v",IF(('Plot (7)'!G$10)=SUM('Plot (7)'!G$11:G$40),('Plot (7)'!G$10),"Addition or Text Error"))) -> 0 | G13: =IF(CELL("type",('Plot (7)'!H$10))="b","Blank Cell",IF(CELL("type",('Plot (7)'!H$10))="v",IF(('Plot (7)'!H$10)=SUM('Plot (7)'!H$11:H$40),('Plot (7)'!H$10),"Addition or Text Error"))) -> 0 | H13: =IF(CELL("type",('Plot (7)'!I$10))="b","Blank Cell",IF(CELL("type",('Plot (7)'!I$10))="v",IF(('Plot (7)'!I$10)=SUM('Plot (7)'!I$11:I$40),('Plot (7)'!I$10),"Addition or Text Error"))) -> 0 | I13: =IF('Plot (7)'!AE$12>0, 'Plot (7)'!AE$12, "Nil") -> Nil | J13: =IF('Plot (7)'!AE$14>0, 'Plot (7)'!AE$14, "") | K13: =IF('Plot (7)'!AE$15>0, 'Plot (7)'!AE$15, "") | L13: =IF('Plot (7)'!AE$16>0, 'Plot (7)'!AE$16, "")
B14: Plot 8 | C14: =IF(CELL("type",('Plot (8)'!D$10))="b","Blank Cell",IF(CELL("type",('Plot (8)'!D$10))="v",IF(('Plot (8)'!D$10)=SUM('Plot (8)'!D$11:D$40),('Plot (8)'!D$10),"Addition or Text Error"))) -> 0 | D14: =IF(CELL("type",('Plot (8)'!E$10))="b","Blank Cell",IF(CELL("type",('Plot (8)'!E$10))="v",IF(('Plot (8)'!E$10)=SUM('Plot (8)'!E$11:E$324),('Plot (8)'!E$10),"Addition or Text Error"))) -> 0 | E14: =IF(CELL("type",('Plot (8)'!F$10))="b","Blank Cell",IF(CELL("type",('Plot (8)'!F$10))="v",IF(('Plot (8)'!F$10)=SUM('Plot (8)'!F$11:F$40),('Plot (8)'!F$10),"Addition or Text Error"))) -> 0 | F14: =IF(CELL("type",('Plot (8)'!G$10))="b","Blank Cell",IF(CELL("type",('Plot (8)'!G$10))="v",IF(('Plot (8)'!G$10)=SUM('Plot (8)'!G$11:G$40),('Plot (8)'!G$10),"Addition or Text Error"))) -> 0 | G14: =IF(CELL("type",('Plot (8)'!H$10))="b","Blank Cell",IF(CELL("type",('Plot (8)'!H$10))="v",IF(('Plot (8)'!H$10)=SUM('Plot (8)'!H$11:H$40),('Plot (8)'!H$10),"Addition or Text Error"))) -> 0 | H14: =IF(CELL("type",('Plot (8)'!I$10))="b","Blank Cell",IF(CELL("type",('Plot (8)'!I$10))="v",IF(('Plot (8)'!I$10)=SUM('Plot (8)'!I$11:I$40),('Plot (8)'!I$10),"Addition or Text Error"))) -> 0 | I14: =IF('Plot (8)'!AE$12>0, 'Plot (8)'!AE$12, "Nil") -> Nil | J14: =IF('Plot (8)'!AE$14>0, 'Plot (8)'!AE$14, "") | K14: =IF('Plot (8)'!AE$15>0, 'Plot (8)'!AE$15, "") | L14: =IF('Plot (8)'!AE$16>0, 'Plot (8)'!AE$16, "")
B15: Plot 9 | C15: =IF(CELL("type",('Plot (9)'!D$10))="b","Blank Cell",IF(CELL("type",('Plot (9)'!D$10))="v",IF(('Plot (9)'!D$10)=SUM('Plot (9)'!D$11:D$40),('Plot (9)'!D$10),"Addition or Text Error"))) -> 0 | D15: =IF(CELL("type",('Plot (9)'!E$10))="b","Blank Cell",IF(CELL("type",('Plot (9)'!E$10))="v",IF(('Plot (9)'!E$10)=SUM('Plot (9)'!E$11:E$40),('Plot (9)'!E$10),"Addition or Text Error"))) -> 0 | E15: =IF(CELL("type",('Plot (9)'!F$10))="b","Blank Cell",IF(CELL("type",('Plot (9)'!F$10))="v",IF(('Plot (9)'!F$10)=SUM('Plot (9)'!F$11:F$40),('Plot (9)'!F$10),"Addition or Text Error"))) -> 0 | F15: =IF(CELL("type",('Plot (9)'!G$10))="b","Blank Cell",IF(CELL("type",('Plot (9)'!G$10))="v",IF(('Plot (9)'!G$10)=SUM('Plot (9)'!G$11:G$40),('Plot (9)'!G$10),"Addition or Text Error"))) -> 0 | G15: =IF(CELL("type",('Plot (9)'!H$10))="b","Blank Cell",IF(CELL("type",('Plot (9)'!H$10))="v",IF(('Plot (9)'!H$10)=SUM('Plot (9)'!H$11:H$40),('Plot (9)'!H$10),"Addition or Text Error"))) -> 0 | H15: =IF(CELL("type",('Plot (9)'!I$10))="b","Blank Cell",IF(CELL("type",('Plot (9)'!I$10))="v",IF(('Plot (9)'!I$10)=SUM('Plot (9)'!I$11:I$40),('Plot (9)'!I$10),"Addition or Text Error"))) -> 0 | I15: =IF('Plot (9)'!AE$12>0, 'Plot (9)'!AE$12, "Nil") -> Nil | J15: =IF('Plot (9)'!AE$14>0, 'Plot (9)'!AE$14, "") | K15: =IF('Plot (9)'!AE$15>0, 'Plot (9)'!AE$15, "") | L15: =IF('Plot (9)'!AE$16>0, 'Plot (9)'!AE$16, "")
B16: Plot 10 | C16: =IF(CELL("type",('Plot (10)'!D$10))="b","Blank Cell",IF(CELL("type",('Plot (10)'!D$10))="v",IF(('Plot (10)'!D$10)=SUM('Plot (10)'!D$11:D$40),('Plot (10)'!D$10),"Addition or Text Error"))) -> 0 | D16: =IF(CELL("type",('Plot (10)'!E$10))="b","Blank Cell",IF(CELL("type",('Plot (10)'!E$10))="v",IF(('Plot (10)'!E$10)=SUM('Plot (10)'!E$11:E$40),('Plot (10)'!E$10),"Addition or Text Error"))) -> 0 | E16: =IF(CELL("type",('Plot (10)'!F$10))="b","Blank Cell",IF(CELL("type",('Plot (10)'!F$10))="v",IF(('Plot (10)'!F$10)=SUM('Plot (10)'!F$11:F$40),('Plot (10)'!F$10),"Addition or Text Error"))) -> 0 | F16: =IF(CELL("type",('Plot (10)'!G$10))="b","Blank Cell",IF(CELL("type",('Plot (10)'!G$10))="v",IF(('Plot (10)'!G$10)=SUM('Plot (10)'!G$11:G$40),('Plot (10)'!G$10),"Addition or Text Error"))) -> 0 | G16: =IF(CELL("type",('Plot (10)'!H$10))="b","Blank Cell",IF(CELL("type",('Plot (10)'!H$10))="v",IF(('Plot (10)'!H$10)=SUM('Plot (10)'!H$11:H$40),('Plot (10)'!H$10),"Addition or Text Error"))) -> 0 | H16: =IF(CELL("type",('Plot (10)'!I$10))="b","Blank Cell",IF(CELL("type",('Plot (10)'!I$10))="v",IF(('Plot (10)'!I$10)=SUM('Plot (10)'!I$11:I$40),('Plot (10)'!I$10),"Addition or Text Error"))) -> 0 | I16: =IF('Plot (10)'!AE$12>0, 'Plot (10)'!AE$12, "Nil") -> Nil | J16: =IF('Plot (10)'!AE$14>0, 'Plot (10)'!AE$14, "") | K16: =IF('Plot (10)'!AE$15>0, 'Plot (10)'!AE$15, "") | L16: =IF('Plot (10)'!AE$16>0, 'Plot (10)'!AE$16, "")
B17: TOTALS | C17: =+C7+C8+C9+C10+C11+C12+C13+C14+C15+C16 -> 0 | D17: =+D7+D8+D9+D10+D11+D12+D13+D14+D15+D16 -> 0 | E17: =+E7+E8+E9+E10+E11+E12+E13+E14+E15+E16 -> 0 | F17: =+F7+F8+F9+F10+F11+F12+F13+F14+F15+F16 -> 0 | G17: =+G7+G8+G9+G10+G11+G12+G13+G14+G15+G16 -> 0 | H17: =+H7+H8+H9+H10+H11+H12+H13+H14+H15+H16 -> 0
E19: Total Trees/ha | G19: =C17*200/10 -> 0 | K19: Site Index Estimate
E20: Total Conifers/ha | G20: =D17*200/10 -> 0 | J20: Species | K20: Number | L20: Average
E21: Well Spaced/ha | G21: =G17*200/10 -> 0 | J21: Nil | K21: 10 | L21: #DIV/0!
E22: Free Growing/ha | G22: =H17*200/10 -> 0 | J22: Grand Total | K22: 10 | L22: #DIV/0!
E23: Dead Trees/ha | G23: =E17*200/10 -> 0
E24: Dead Conifers/ha | G24: =F17*200/10 -> 0
B26: This "Site Index Summary" DOES require the user to "REFRESH" the sheet after new data entry (Data Menu > Refresh All)
B29: Plot | C29: Layer 1 | D29: Layer 2 | E29: Layer 3
B30: Plot 1 | C30: =('Plot (1)'!$D$11+'Plot (1)'!$D$14+'Plot (1)'!$D$17+'Plot (1)'!$D$20+'Plot (1)'!$D$23+'Plot (1)'!$D$26+'Plot (1)'!$D$29+'Plot (1)'!$D$32+'Plot (1)'!$D$35+'Plot (1)'!$D$38) -> 0 | D30: =('Plot (1)'!$D$12+'Plot (1)'!$D$15+'Plot (1)'!$D$18+'Plot (1)'!$D$21+'Plot (1)'!$D$24+'Plot (1)'!$D$27+'Plot (1)'!$D$30+'Plot (1)'!$D$33+'Plot (1)'!$D$36+'Plot (1)'!$D$39) -> 0 | E30: =('Plot (1)'!$D$13+'Plot (1)'!$D$16+'Plot (1)'!$D$19+'Plot (1)'!$D$22+'Plot (1)'!$D$25+'Plot (1)'!$D$28+'Plot (1)'!$D$31+'Plot (1)'!$D$34+'Plot (1)'!$D$37+'Plot (1)'!$D$40) -> 0
B31: Plot 2 | C31: =('Plot (2)'!$D$11+'Plot (2)'!$D$14+'Plot (2)'!$D$17+'Plot (2)'!$D$20+'Plot (2)'!$D$23+'Plot (2)'!$D$26+'Plot (2)'!$D$29+'Plot (2)'!$D$32+'Plot (2)'!$D$35+'Plot (2)'!$D$38) -> 0 | D31: =('Plot (2)'!$D$12+'Plot (2)'!$D$15+'Plot (2)'!$D$18+'Plot (2)'!$D$21+'Plot (2)'!$D$24+'Plot (2)'!$D$27+'Plot (2)'!$D$30+'Plot (2)'!$D$33+'Plot (2)'!$D$36+'Plot (2)'!$D$39) -> 0 | E31: =('Plot (2)'!$D$13+'Plot (2)'!$D$16+'Plot (2)'!$D$19+'Plot (2)'!$D$22+'Plot (2)'!$D$25+'Plot (2)'!$D$28+'Plot (2)'!$D$31+'Plot (2)'!$D$34+'Plot (2)'!$D$37+'Plot (2)'!$D$40) -> 0
B32: Plot 3 | C32: =('Plot (3)'!$D$11+'Plot (3)'!$D$14+'Plot (3)'!$D$17+'Plot (3)'!$D$20+'Plot (3)'!$D$23+'Plot (3)'!$D$26+'Plot (3)'!$D$29+'Plot (3)'!$D$32+'Plot (3)'!$D$35+'Plot (3)'!$D$38) -> 0 | D32: =('Plot (3)'!$D$12+'Plot (3)'!$D$15+'Plot (3)'!$D$18+'Plot (3)'!$D$21+'Plot (3)'!$D$24+'Plot (3)'!$D$27+'Plot (3)'!$D$30+'Plot (3)'!$D$33+'Plot (3)'!$D$36+'Plot (3)'!$D$39) -> 0 | E32: =('Plot (3)'!$D$13+'Plot (3)'!$D$16+'Plot (3)'!$D$19+'Plot (3)'!$D$22+'Plot (3)'!$D$25+'Plot (3)'!$D$28+'Plot (3)'!$D$31+'Plot (3)'!$D$34+'Plot (3)'!$D$37+'Plot (3)'!$D$40) -> 0
B33: Plot 4 | C33: =('Plot (4)'!$D$11+'Plot (4)'!$D$14+'Plot (4)'!$D$17+'Plot (4)'!$D$20+'Plot (4)'!$D$23+'Plot (4)'!$D$26+'Plot (4)'!$D$29+'Plot (4)'!$D$32+'Plot (4)'!$D$35+'Plot (4)'!$D$38) -> 0 | D33: =('Plot (4)'!$D$12+'Plot (4)'!$D$15+'Plot (4)'!$D$18+'Plot (4)'!$D$21+'Plot (4)'!$D$24+'Plot (4)'!$D$27+'Plot (4)'!$D$30+'Plot (4)'!$D$33+'Plot (4)'!$D$36+'Plot (4)'!$D$39) -> 0 | E33: =('Plot (4)'!$D$13+'Plot (4)'!$D$16+'Plot (4)'!$D$19+'Plot (4)'!$D$22+'Plot (4)'!$D$25+'Plot (4)'!$D$28+'Plot (4)'!$D$31+'Plot (4)'!$D$34+'Plot (4)'!$D$37+'Plot (4)'!$D$40) -> 0
B34: Plot 5 | C34: =('Plot (5)'!$D$11+'Plot (5)'!$D$14+'Plot (5)'!$D$17+'Plot (5)'!$D$20+'Plot (5)'!$D$23+'Plot (5)'!$D$26+'Plot (5)'!$D$29+'Plot (5)'!$D$32+'Plot (5)'!$D$35+'Plot (5)'!$D$38) -> 0 | D34: =('Plot (5)'!$D$12+'Plot (5)'!$D$15+'Plot (5)'!$D$18+'Plot (5)'!$D$21+'Plot (5)'!$D$24+'Plot (5)'!$D$27+'Plot (5)'!$D$30+'Plot (5)'!$D$33+'Plot (5)'!$D$36+'Plot (5)'!$D$39) -> 0 | E34: =('Plot (5)'!$D$13+'Plot (5)'!$D$16+'Plot (5)'!$D$19+'Plot (5)'!$D$22+'Plot (5)'!$D$25+'Plot (5)'!$D$28+'Plot (5)'!$D$31+'Plot (5)'!$D$34+'Plot (5)'!$D$37+'Plot (5)'!$D$40) -> 0
B35: Plot 6 | C35: =('Plot (6)'!$D$11+'Plot (6)'!$D$14+'Plot (6)'!$D$17+'Plot (6)'!$D$20+'Plot (6)'!$D$23+'Plot (6)'!$D$26+'Plot (6)'!$D$29+'Plot (6)'!$D$32+'Plot (6)'!$D$35+'Plot (6)'!$D$38) -> 0 | D35: =('Plot (6)'!$D$12+'Plot (6)'!$D$15+'Plot (6)'!$D$18+'Plot (6)'!$D$21+'Plot (6)'!$D$24+'Plot (6)'!$D$27+'Plot (6)'!$D$30+'Plot (6)'!$D$33+'Plot (6)'!$D$36+'Plot (6)'!$D$39) -> 0 | E35: =('Plot (6)'!$D$13+'Plot (6)'!$D$16+'Plot (6)'!$D$19+'Plot (6)'!$D$22+'Plot (6)'!$D$25+'Plot (6)'!$D$28+'Plot (6)'!$D$31+'Plot (6)'!$D$34+'Plot (6)'!$D$37+'Plot (6)'!$D$40) -> 0
B36: Plot 7 | C36: =('Plot (7)'!$D$11+'Plot (7)'!$D$14+'Plot (7)'!$D$17+'Plot (7)'!$D$20+'Plot (7)'!$D$23+'Plot (7)'!$D$26+'Plot (7)'!$D$29+'Plot (7)'!$D$32+'Plot (7)'!$D$35+'Plot (7)'!$D$38) -> 0 | D36: =('Plot (7)'!$D$12+'Plot (7)'!$D$15+'Plot (7)'!$D$18+'Plot (7)'!$D$21+'Plot (7)'!$D$24+'Plot (7)'!$D$27+'Plot (7)'!$D$30+'Plot (7)'!$D$33+'Plot (7)'!$D$36+'Plot (7)'!$D$39) -> 0 | E36: =('Plot (7)'!$D$13+'Plot (7)'!$D$16+'Plot (7)'!$D$19+'Plot (7)'!$D$22+'Plot (7)'!$D$25+'Plot (7)'!$D$28+'Plot (7)'!$D$31+'Plot (7)'!$D$34+'Plot (7)'!$D$37+'Plot (7)'!$D$40) -> 0
B37: Plot 8 | C37: =('Plot (8)'!$D$11+'Plot (8)'!$D$14+'Plot (8)'!$D$17+'Plot (8)'!$D$20+'Plot (8)'!$D$23+'Plot (8)'!$D$26+'Plot (8)'!$D$29+'Plot (8)'!$D$32+'Plot (8)'!$D$35+'Plot (8)'!$D$38) -> 0 | D37: =('Plot (8)'!$D$12+'Plot (8)'!$D$15+'Plot (8)'!$D$18+'Plot (8)'!$D$21+'Plot (8)'!$D$24+'Plot (8)'!$D$27+'Plot (8)'!$D$30+'Plot (8)'!$D$33+'Plot (8)'!$D$36+'Plot (8)'!$D$39) -> 0 | E37: =('Plot (8)'!$D$13+'Plot (8)'!$D$16+'Plot (8)'!$D$19+'Plot (8)'!$D$22+'Plot (8)'!$D$25+'Plot (8)'!$D$28+'Plot (8)'!$D$31+'Plot (8)'!$D$34+'Plot (8)'!$D$37+'Plot (8)'!$D$40) -> 0
B38: Plot 9 | C38: =('Plot (9)'!$D$11+'Plot (9)'!$D$14+'Plot (9)'!$D$17+'Plot (9)'!$D$20+'Plot (9)'!$D$23+'Plot (9)'!$D$26+'Plot (9)'!$D$29+'Plot (9)'!$D$32+'Plot (9)'!$D$35+'Plot (9)'!$D$38) -> 0 | D38: =('Plot (9)'!$D$12+'Plot (9)'!$D$15+'Plot (9)'!$D$18+'Plot (9)'!$D$21+'Plot (9)'!$D$24+'Plot (9)'!$D$27+'Plot (9)'!$D$30+'Plot (9)'!$D$33+'Plot (9)'!$D$36+'Plot (9)'!$D$39) -> 0 | E38: =('Plot (9)'!$D$13+'Plot (9)'!$D$16+'Plot (9)'!$D$19+'Plot (9)'!$D$22+'Plot (9)'!$D$25+'Plot (9)'!$D$28+'Plot (9)'!$D$31+'Plot (9)'!$D$34+'Plot (9)'!$D$37+'Plot (9)'!$D$40) -> 0
B39: Plot 10 | C39: =('Plot (10)'!$D$11+'Plot (10)'!$D$14+'Plot (10)'!$D$17+'Plot (10)'!$D$20+'Plot (10)'!$D$23+'Plot (10)'!$D$26+'Plot (10)'!$D$29+'Plot (10)'!$D$32+'Plot (10)'!$D$35+'Plot (10)'!$D$38) -> 0 | D39: =('Plot (10)'!$D$12+'Plot (10)'!$D$15+'Plot (10)'!$D$18+'Plot (10)'!$D$21+'Plot (10)'!$D$24+'Plot (10)'!$D$27+'Plot (10)'!$D$30+'Plot (10)'!$D$33+'Plot (10)'!$D$36+'Plot (10)'!$D$39) -> 0 | E39: =('Plot (10)'!$D$13+'Plot (10)'!$D$16+'Plot (10)'!$D$19+'Plot (10)'!$D$22+'Plot (10)'!$D$25+'Plot (10)'!$D$28+'Plot (10)'!$D$31+'Plot (10)'!$D$34+'Plot (10)'!$D$37+'Plot (10)'!$D$40) -> 0
B40: Totals | C40: =SUM(C30:C39) -> 0 | D40: =SUM(D30:D39) -> 0 | E40: =SUM(E30:E39) -> 0 | F40: =SUM(C40:E40) -> 0
B41: Stems/ha | C41: =C40*200/10 -> 0 | D41: =D40*200/10 -> 0 | E41: =E40*200/10 -> 0 | F41: =SUM(C41:E41) -> 0

Sheet Inventory Label
B2: Mapsheet | D2: Polygon | G2: Quick Plot Inventory Label Summary | U2: Interim Calculation Table
B3: ='Plot (1)'!$A$4 | D3: ='Plot (1)'!$G$4 -> 0
B4: Plot | C4: Leading Species | D4: % | E4: Age | F4: Height (m) | G4: Second Species | H4: % | I4: Age | J4: Height (m) | K4: Species 3 | L4: % | M4: Species 4 | N4: % | O4: Species 5 | P4: % | Q4: Species 6 | R4: % | S4: Total % | U4: Rank | W4: Sum % | X4: Average %
B5: 1 | C5: ='Plot (1)'!W$42 -> 0 | D5: ='Plot (1)'!$V$44 -> 0 | E5: ='Plot (1)'!W$44 -> 0 | F5: ='Plot (1)'!X44 -> 0 | G5: ='Plot (1)'!$Z$42 -> 0 | H5: ='Plot (1)'!$Y$44 -> 0 | I5: ='Plot (1)'!$AB$44 -> 0 | J5: ='Plot (1)'!$AA$44 -> 0 | K5: ='Plot (1)'!$AB$42 -> 0 | L5: ='Plot (1)'!$AB$44 -> 0 | M5: ='Plot (1)'!$AC$42 -> 0 | N5: ='Plot (1)'!$AC$44 -> 0 | O5: ='Plot (1)'!$AD$42 -> 0 | P5: ='Plot (1)'!$AD$44 -> 0 | Q5: ='Plot (1)'!$AE$42 -> 0 | R5: ='Plot (1)'!$AE$44 -> 0 | S5: =D5+H5+L5+N5+P5+R5 -> 0 | U5: =RANK(X5,X$5:X$61) -> #DIV/0! | V5: ='Validation Lists'!F2 -> Ac | W5: =+SUMIF($C$5:$C$14,V5,$D$5:$D$14)+SUMIF($G$5:$G$14,V5,$H$5:$H$14)+SUMIF(K$5:K$14,V5,L$5:L$14)+SUMIF(M$5:M$14,V5,N$5:N$14)+SUMIF(O$5:O$14,V5,P$5:P$14)+SUMIF(Q$5:Q$14,V5,R$5:R$14) -> 0 | X5: =(W5)/$J$16 -> #DIV/0!
B6: 2 | C6: ='Plot (2)'!$W$42 -> 0 | D6: ='Plot (2)'!$V$44 -> 0 | E6: ='Plot (2)'!$W$44 -> 0 | F6: ='Plot (2)'!$X$44 -> 0 | G6: ='Plot (2)'!$Z$42 -> 0 | H6: ='Plot (2)'!$Y$44 -> 0 | I6: ='Plot (2)'!$Z$44 -> 0 | J6: ='Plot (2)'!$AA$44 -> 0 | K6: ='Plot (2)'!$AB$42 -> 0 | L6: ='Plot (2)'!$AB$44 -> 0 | M6: ='Plot (2)'!$AC$42 -> 0 | N6: ='Plot (2)'!$AC$44 -> 0 | O6: ='Plot (2)'!$AD$42 -> 0 | P6: ='Plot (2)'!$AD$44 -> 0 | Q6: ='Plot (2)'!$AE$42 -> 0 | R6: ='Plot (2)'!$AE$44 -> 0 | S6: =D6+H6+L6+N6+P6+R6 -> 0 | U6: =RANK(X6,X$5:X$61) -> #DIV/0! | V6: ='Validation Lists'!F3 -> Acb | W6: =+SUMIF($C$5:$C$14,V6,$D$5:$D$14)+SUMIF($G$5:$G$14,V6,$H$5:$H$14)+SUMIF(K$5:K$14,V6,L$5:L$14)+SUMIF(M$5:M$14,V6,N$5:N$14)+SUMIF(O$5:O$14,V6,P$5:P$14)+SUMIF(Q$5:Q$14,V6,R$5:R$14) -> 0 | X6: =(W6)/$J$16 -> #DIV/0!
B7: 3 | C7: ='Plot (3)'!$W$42 -> 0 | D7: ='Plot (3)'!$V$44 -> 0 | E7: ='Plot (3)'!$W$44 -> 0 | F7: ='Plot (3)'!$X$44 -> 0 | G7: ='Plot (3)'!$Z$42 -> 0 | H7: ='Plot (3)'!$Y$44 -> 0 | I7: ='Plot (3)'!$Z$44 -> 0 | J7: ='Plot (3)'!$AA$44 -> 0 | K7: ='Plot (3)'!$AB$42 -> 0 | L7: ='Plot (3)'!$AB$44 -> 0 | M7: ='Plot (3)'!$AC$42 -> 0 | N7: ='Plot (3)'!$AC$44 -> 0 | O7: ='Plot (3)'!$AD$42 -> 0 | P7: ='Plot (3)'!$AD$44 -> 0 | Q7: ='Plot (3)'!$AE$42 -> 0 | R7: ='Plot (3)'!$AE$44 -> 0 | S7: =D7+H7+L7+N7+P7+R7 -> 0 | U7: =RANK(X7,X$5:X$61) -> #DIV/0! | V7: ='Validation Lists'!F4 -> Act | W7: =+SUMIF($C$5:$C$14,V7,$D$5:$D$14)+SUMIF($G$5:$G$14,V7,$H$5:$H$14)+SUMIF(K$5:K$14,V7,L$5:L$14)+SUMIF(M$5:M$14,V7,N$5:N$14)+SUMIF(O$5:O$14,V7,P$5:P$14)+SUMIF(Q$5:Q$14,V7,R$5:R$14) -> 0 | X7: =(W7)/$J$16 -> #DIV/0!
B8: 4 | C8: ='Plot (4)'!$W$42 -> 0 | D8: ='Plot (4)'!$V$44 -> 0 | E8: ='Plot (4)'!$W$44 -> 0 | F8: ='Plot (4)'!$X$44 -> 0 | G8: ='Plot (4)'!$Z$42 -> 0 | H8: ='Plot (4)'!$Y$44 -> 0 | I8: ='Plot (4)'!$Z$44 -> 0 | J8: ='Plot (4)'!$AA$44 -> 0 | K8: ='Plot (4)'!$AB$42 -> 0 | L8: ='Plot (4)'!$AB$44 -> 0 | M8: ='Plot (4)'!$AC$42 -> 0 | N8: ='Plot (4)'!$AC$44 -> 0 | O8: ='Plot (4)'!$AD$42 -> 0 | P8: ='Plot (4)'!$AD$44 -> 0 | Q8: ='Plot (4)'!$AE$42 -> 0 | R8: ='Plot (4)'!$AE$44 -> 0 | S8: =D8+H8+L8+N8+P8+R8 -> 0 | U8: =RANK(X8,X$5:X$61) -> #DIV/0! | V8: ='Validation Lists'!F5 -> At | W8: =+SUMIF($C$5:$C$14,V8,$D$5:$D$14)+SUMIF($G$5:$G$14,V8,$H$5:$H$14)+SUMIF(K$5:K$14,V8,L$5:L$14)+SUMIF(M$5:M$14,V8,N$5:N$14)+SUMIF(O$5:O$14,V8,P$5:P$14)+SUMIF(Q$5:Q$14,V8,R$5:R$14) -> 0 | X8: =(W8)/$J$16 -> #DIV/0!
B9: 5 | C9: ='Plot (5)'!$W$42 -> 0 | D9: ='Plot (5)'!$V$44 -> 0 | E9: ='Plot (5)'!$W$44 -> 0 | F9: ='Plot (5)'!$X$44 -> 0 | G9: ='Plot (5)'!$Z$42 -> 0 | H9: ='Plot (5)'!$Y$44 -> 0 | I9: ='Plot (5)'!$Z$44 -> 0 | J9: ='Plot (5)'!$AA$44 -> 0 | K9: ='Plot (5)'!$AB$42 -> 0 | L9: ='Plot (5)'!$AB$44 -> 0 | M9: ='Plot (5)'!$AC$42 -> 0 | N9: ='Plot (5)'!$AC$44 -> 0 | O9: ='Plot (5)'!$AD$42 -> 0 | P9: ='Plot (5)'!$AD$44 -> 0 | Q9: ='Plot (5)'!$AE$42 -> 0 | R9: ='Plot (5)'!$AE$44 -> 0 | S9: =D9+H9+L9+N9+P9+R9 -> 0 | U9: =RANK(X9,X$5:X$61) -> #DIV/0! | V9: ='Validation Lists'!F6 -> Ba | W9: =+SUMIF($C$5:$C$14,V9,$D$5:$D$14)+SUMIF($G$5:$G$14,V9,$H$5:$H$14)+SUMIF(K$5:K$14,V9,L$5:L$14)+SUMIF(M$5:M$14,V9,N$5:N$14)+SUMIF(O$5:O$14,V9,P$5:P$14)+SUMIF(Q$5:Q$14,V9,R$5:R$14) -> 0 | X9: =(W9)/$J$16 -> #DIV/0!
B10: 6 | C10: ='Plot (6)'!$W$42 -> 0 | D10: ='Plot (6)'!$V$44 -> 0 | E10: ='Plot (6)'!$W$44 -> 0 | F10: ='Plot (6)'!$X$44 -> 0 | G10: ='Plot (6)'!$Z$42 -> 0 | H10: ='Plot (6)'!$Y$44 -> 0 | I10: ='Plot (6)'!$Z$44 -> 0 | J10: ='Plot (6)'!$AA$44 -> 0 | K10: ='Plot (6)'!$AB$42 -> 0 | L10: ='Plot (6)'!$AB$44 -> 0 | M10: ='Plot (6)'!$AC$42 -> 0 | N10: ='Plot (6)'!$AC$44 -> 0 | O10: ='Plot (6)'!$AD$42 -> 0 | P10: ='Plot (6)'!$AD$44 -> 0 | Q10: ='Plot (6)'!$AE$42 -> 0 | R10: ='Plot (6)'!$AE$44 -> 0 | S10: =D10+H10+L10+N10+P10+R10 -> 0 | U10: =RANK(X10,X$5:X$61) -> #DIV/0! | V10: ='Validation Lists'!F7 -> Bb | W10: =+SUMIF($C$5:$C$14,V10,$D$5:$D$14)+SUMIF($G$5:$G$14,V10,$H$5:$H$14)+SUMIF(K$5:K$14,V10,L$5:L$14)+SUMIF(M$5:M$14,V10,N$5:N$14)+SUMIF(O$5:O$14,V10,P$5:P$14)+SUMIF(Q$5:Q$14,V10,R$5:R$14) -> 0 | X10: =(W10)/$J$16 -> #DIV/0!
B11: 7 | C11: ='Plot (7)'!$W$42 -> 0 | D11: ='Plot (7)'!$V$44 -> 0 | E11: ='Plot (7)'!$W$44 -> 0 | F11: ='Plot (7)'!$X$44 -> 0 | G11: ='Plot (7)'!$Z$42 -> 0 | H11: ='Plot (7)'!$Y$44 -> 0 | I11: ='Plot (7)'!$Z$44 -> 0 | J11: ='Plot (7)'!$AA$44 -> 0 | K11: ='Plot (7)'!$AB$42 -> 0 | L11: ='Plot (7)'!$AB$44 -> 0 | M11: ='Plot (7)'!$AC$42 -> 0 | N11: ='Plot (7)'!$AC$44 -> 0 | O11: ='Plot (7)'!$AD$42 -> 0 | P11: ='Plot (7)'!$AD$44 -> 0 | Q11: ='Plot (7)'!$AE$42 -> 0 | R11: ='Plot (7)'!$AE$44 -> 0 | S11: =D11+H11+L11+N11+P11+R11 -> 0 | U11: =RANK(X11,X$5:X$61) -> #DIV/0! | V11: ='Validation Lists'!F8 -> Bg | W11: =+SUMIF($C$5:$C$14,V11,$D$5:$D$14)+SUMIF($G$5:$G$14,V11,$H$5:$H$14)+SUMIF(K$5:K$14,V11,L$5:L$14)+SUMIF(M$5:M$14,V11,N$5:N$14)+SUMIF(O$5:O$14,V11,P$5:P$14)+SUMIF(Q$5:Q$14,V11,R$5:R$14) -> 0 | X11: =(W11)/$J$16 -> #DIV/0!
B12: 8 | C12: ='Plot (8)'!$W$42 -> 0 | D12: ='Plot (8)'!$V$44 -> 0 | E12: ='Plot (8)'!$W$44 -> 0 | F12: ='Plot (8)'!$X$44 -> 0 | G12: ='Plot (8)'!$Z$42 -> 0 | H12: ='Plot (8)'!$Y$44 -> 0 | I12: ='Plot (8)'!$Z$44 -> 0 | J12: ='Plot (8)'!$AA$44 -> 0 | K12: ='Plot (8)'!$AB$42 -> 0 | L12: ='Plot (8)'!$AB$44 -> 0 | M12: ='Plot (8)'!$AC$42 -> 0 | N12: ='Plot (8)'!$AC$44 -> 0 | O12: ='Plot (8)'!$AD$42 -> 0 | P12: ='Plot (8)'!$AD$44 -> 0 | Q12: ='Plot (8)'!$AE$42 -> 0 | R12: ='Plot (8)'!$AE$44 -> 0 | S12: =D12+H12+L12+N12+P12+R12 -> 0 | U12: =RANK(X12,X$5:X$61) -> #DIV/0! | V12: ='Validation Lists'!F9 -> Bl | W12: =+SUMIF($C$5:$C$14,V12,$D$5:$D$14)+SUMIF($G$5:$G$14,V12,$H$5:$H$14)+SUMIF(K$5:K$14,V12,L$5:L$14)+SUMIF(M$5:M$14,V12,N$5:N$14)+SUMIF(O$5:O$14,V12,P$5:P$14)+SUMIF(Q$5:Q$14,V12,R$5:R$14) -> 0 | X12: =(W12)/$J$16 -> #DIV/0!
B13: 9 | C13: ='Plot (9)'!$W$42 -> 0 | D13: ='Plot (9)'!$V$44 -> 0 | E13: ='Plot (9)'!$W$44 -> 0 | F13: ='Plot (9)'!$X$44 -> 0 | G13: ='Plot (9)'!$Z$42 -> 0 | H13: ='Plot (9)'!$Y$44 -> 0 | I13: ='Plot (9)'!$Z$44 -> 0 | J13: ='Plot (9)'!$AA$44 -> 0 | K13: ='Plot (9)'!$AB$42 -> 0 | L13: ='Plot (9)'!$AB$44 -> 0 | M13: ='Plot (9)'!$AC$42 -> 0 | N13: ='Plot (9)'!$AC$44 -> 0 | O13: ='Plot (9)'!$AD$42 -> 0 | P13: ='Plot (9)'!$AD$44 -> 0 | Q13: ='Plot (9)'!$AE$42 -> 0 | R13: ='Plot (9)'!$AE$44 -> 0 | S13: =D13+H13+L13+N13+P13+R13 -> 0 | U13: =RANK(X13,X$5:X$61) -> #DIV/0! | V13: ='Validation Lists'!F10 -> Bn | W13: =+SUMIF($C$5:$C$14,V13,$D$5:$D$14)+SUMIF($G$5:$G$14,V13,$H$5:$H$14)+SUMIF(K$5:K$14,V13,L$5:L$14)+SUMIF(M$5:M$14,V13,N$5:N$14)+SUMIF(O$5:O$14,V13,P$5:P$14)+SUMIF(Q$5:Q$14,V13,R$5:R$14) -> 0 | X13: =(W13)/$J$16 -> #DIV/0!
B14: 10 | C14: ='Plot (10)'!$W$42 -> 0 | D14: ='Plot (10)'!$V$44 -> 0 | E14: ='Plot (10)'!$W$44 -> 0 | F14: ='Plot (10)'!$X$44 -> 0 | G14: ='Plot (10)'!$Z$42 -> 0 | H14: ='Plot (10)'!$Y$44 -> 0 | I14: ='Plot (10)'!$Z$44 -> 0 | J14: ='Plot (10)'!$AA$44 -> 0 | K14: ='Plot (10)'!$AB$42 -> 0 | L14: ='Plot (10)'!$AB$44 -> 0 | M14: ='Plot (10)'!$AC$42 -> 0 | N14: ='Plot (10)'!$AC$44 -> 0 | O14: ='Plot (10)'!$AD$42 -> 0 | P14: ='Plot (10)'!$AD$44 -> 0 | Q14: ='Plot (10)'!$AE$42 -> 0 | R14: ='Plot (10)'!$AE$44 -> 0 | S14: =D14+H14+L14+N14+P14+R14 -> 0 | U14: =RANK(X14,X$5:X$61) -> #DIV/0! | V14: ='Validation Lists'!F11 -> Cwc | W14: =+SUMIF($C$5:$C$14,V14,$D$5:$D$14)+SUMIF($G$5:$G$14,V14,$H$5:$H$14)+SUMIF(K$5:K$14,V14,L$5:L$14)+SUMIF(M$5:M$14,V14,N$5:N$14)+SUMIF(O$5:O$14,V14,P$5:P$14)+SUMIF(Q$5:Q$14,V14,R$5:R$14) -> 0 | X14: =(W14)/$J$16 -> #DIV/0!
U15: =RANK(X15,X$5:X$61) -> #DIV/0! | V15: ='Validation Lists'!F12 -> Cwi | W15: =+SUMIF($C$5:$C$14,V15,$D$5:$D$14)+SUMIF($G$5:$G$14,V15,$H$5:$H$14)+SUMIF(K$5:K$14,V15,L$5:L$14)+SUMIF(M$5:M$14,V15,N$5:N$14)+SUMIF(O$5:O$14,V15,P$5:P$14)+SUMIF(Q$5:Q$14,V15,R$5:R$14) -> 0 | X15: =(W15)/$J$16 -> #DIV/0!
E16: Number of species recorded: | F16: =COUNTIF(X5:X61,">0") -> 0 | I16: Number of Plots with data: | J16: =COUNTIF(D5:D14,">0") -> 0 | U16: =RANK(X16,X$5:X$61) -> #DIV/0! | V16: ='Validation Lists'!F13 -> Dr | W16: =+SUMIF($C$5:$C$14,V16,$D$5:$D$14)+SUMIF($G$5:$G$14,V16,$H$5:$H$14)+SUMIF(K$5:K$14,V16,L$5:L$14)+SUMIF(M$5:M$14,V16,N$5:N$14)+SUMIF(O$5:O$14,V16,P$5:P$14)+SUMIF(Q$5:Q$14,V16,R$5:R$14) -> 0 | X16: =(W16)/$J$16 -> #DIV/0! | Z16: CODES, FOR REFERENCE AND CALCULATION PURPOSES
C17: Leading | D17: % | E17: Second | F17: % | G17: Third | H17: % | I17: Fourth | J17: % | K17: Fifth | L17: % | M17: Sixth | N17: % | O17: Total % | P17: Check: | U17: =RANK(X17,X$5:X$61) -> #DIV/0! | V17: ='Validation Lists'!F14 -> Ea | W17: =+SUMIF($C$5:$C$14,V17,$D$5:$D$14)+SUMIF($G$5:$G$14,V17,$H$5:$H$14)+SUMIF(K$5:K$14,V17,L$5:L$14)+SUMIF(M$5:M$14,V17,N$5:N$14)+SUMIF(O$5:O$14,V17,P$5:P$14)+SUMIF(Q$5:Q$14,V17,R$5:R$14) -> 0 | X17: =(W17)/$J$16 -> #DIV/0! | Z17: These codes come directly from the validation list in
C18: =IF(F16>=1,VLOOKUP(1,$U$5:$X$61,2,FALSE)," ") | D18: =VLOOKUP(1,$U$5:$X$61,4,FALSE) -> #N/A | E18: =IFERROR(IF(F16>=2,VLOOKUP(2,$U$5:$X$61,2,FALSE)," "),"TIE?") | F18: =IFERROR(IF(F16>=2,VLOOKUP(2,$U$5:$X$61,4,FALSE),0),D18) -> 0 | G18: =IFERROR(IF(F16>=3,VLOOKUP(3,$U$5:$X$61,2,FALSE)," "),"TIE?") | H18: =IFERROR(IF(F16>=3,VLOOKUP(3,$U$5:$X$61,4,FALSE),0),F18) -> 0 | I18: =IFERROR(IF(F16>=4,VLOOKUP(4,$U$5:$X$61,2,FALSE)," "),"TIE?") | J18: =IFERROR(IF(F16>=4,VLOOKUP(4,$U$5:$X$61,4,FALSE),0),H18) -> 0 | K18: =IFERROR(IF(F16>=5,VLOOKUP(5,$U$5:$X$61,2,FALSE)," "),"TIE?") | L18: =IFERROR(IF(F16>=5,VLOOKUP(5,$U$5:$X$61,4,FALSE),0),J18) -> 0 | M18: =IFERROR(IF(F16>=6,VLOOKUP(6,$U$5:$X$61,2,FALSE)," "),"TIE?") | N18: =IFERROR(IF(F16>=6,VLOOKUP(6,$U$5:$X$61,4,FALSE),0),L18) -> 0 | O18: =D18+F18+H18+J18+L18+N18 -> #N/A | P18: =SUM(D5:D14,H5:H14,L5:L14,N5:N14,P5:P14,R5:R14)/J16 -> #DIV/0! | U18: =RANK(X18,X$5:X$61) -> #DIV/0! | V18: ='Validation Lists'!F15 -> Ep | W18: =+SUMIF($C$5:$C$14,V18,$D$5:$D$14)+SUMIF($G$5:$G$14,V18,$H$5:$H$14)+SUMIF(K$5:K$14,V18,L$5:L$14)+SUMIF(M$5:M$14,V18,N$5:N$14)+SUMIF(O$5:O$14,V18,P$5:P$14)+SUMIF(Q$5:Q$14,V18,R$5:R$14) -> 0 | X18: =(W18)/$J$16 -> #DIV/0! | Z18: the Validation List worksheet. To change these codes, change those.
B19: Rounded: | C19: =C18 | D19: =IF(O18>0,ROUND(D18*10/$O18,1),"") -> #N/A | E19: =E18 | F19: =IF(O18>0,ROUND(F18*10/$O18,1),"") -> #N/A | G19: =G18 | H19: =IF(O18>0,ROUND(H18*10/$O18,1),"") -> #N/A | I19: =I18 | J19: =IF(O18>0,ROUND(J18*10/$O18,1),"") -> #N/A | K19: =K18 | L19: =IF(O18>0,ROUND(L18*10/$O18,1),"") -> #N/A | M19: =M18 | N19: =IF(O18>0,ROUND(N18*10/$O18,1),"") -> #N/A | O19: =IFERROR(D19+F19+H19+J19+L19+N19,"") | U19: =RANK(X19,X$5:X$61) -> #DIV/0! | V19: ='Validation Lists'!F16 -> Fdc | W19: =+SUMIF($C$5:$C$14,V19,$D$5:$D$14)+SUMIF($G$5:$G$14,V19,$H$5:$H$14)+SUMIF(K$5:K$14,V19,L$5:L$14)+SUMIF(M$5:M$14,V19,N$5:N$14)+SUMIF(O$5:O$14,V19,P$5:P$14)+SUMIF(Q$5:Q$14,V19,R$5:R$14) -> 0 | X19: =(W19)/$J$16 -> #DIV/0! | Z19: (These is some room at the bottom for a few more species codes)
U20: =RANK(X20,X$5:X$61) -> #DIV/0! | V20: ='Validation Lists'!F17 -> Fdi | W20: =+SUMIF($C$5:$C$14,V20,$D$5:$D$14)+SUMIF($G$5:$G$14,V20,$H$5:$H$14)+SUMIF(K$5:K$14,V20,L$5:L$14)+SUMIF(M$5:M$14,V20,N$5:N$14)+SUMIF(O$5:O$14,V20,P$5:P$14)+SUMIF(Q$5:Q$14,V20,R$5:R$14) -> 0 | X20: =(W20)/$J$16 -> #DIV/0!
U21: =RANK(X21,X$5:X$61) -> #DIV/0! | V21: ='Validation Lists'!F18 -> Hm | W21: =+SUMIF($C$5:$C$14,V21,$D$5:$D$14)+SUMIF($G$5:$G$14,V21,$H$5:$H$14)+SUMIF(K$5:K$14,V21,L$5:L$14)+SUMIF(M$5:M$14,V21,N$5:N$14)+SUMIF(O$5:O$14,V21,P$5:P$14)+SUMIF(Q$5:Q$14,V21,R$5:R$14) -> 0 | X21: =(W21)/$J$16 -> #DIV/0!
C22: Note 1: | D22: % in this last row is in tens of %, whether tens of percent were entered or ones of percent | U22: =RANK(X22,X$5:X$61) -> #DIV/0! | V22: ='Validation Lists'!F19 -> Hwc | W22: =+SUMIF($C$5:$C$14,V22,$D$5:$D$14)+SUMIF($G$5:$G$14,V22,$H$5:$H$14)+SUMIF(K$5:K$14,V22,L$5:L$14)+SUMIF(M$5:M$14,V22,N$5:N$14)+SUMIF(O$5:O$14,V22,P$5:P$14)+SUMIF(Q$5:Q$14,V22,R$5:R$14) -> 0 | X22: =(W22)/$J$16 -> #DIV/0!
C23: Note 2: | D23: The Check of the total % won't match if more than 6 species are eligible | U23: =RANK(X23,X$5:X$61) -> #DIV/0! | V23: ='Validation Lists'!F20 -> Hwi | W23: =+SUMIF($C$5:$C$14,V23,$D$5:$D$14)+SUMIF($G$5:$G$14,V23,$H$5:$H$14)+SUMIF(K$5:K$14,V23,L$5:L$14)+SUMIF(M$5:M$14,V23,N$5:N$14)+SUMIF(O$5:O$14,V23,P$5:P$14)+SUMIF(Q$5:Q$14,V23,R$5:R$14) -> 0 | X23: =(W23)/$J$16 -> #DIV/0!
C24: Note 3: | D24: If there is a TIE then check the table on the right for a species with the same rank as the species to the left of the TIE. | U24: =RANK(X24,X$5:X$61) -> #DIV/0! | V24: ='Validation Lists'!F21 -> La | W24: =+SUMIF($C$5:$C$14,V24,$D$5:$D$14)+SUMIF($G$5:$G$14,V24,$H$5:$H$14)+SUMIF(K$5:K$14,V24,L$5:L$14)+SUMIF(M$5:M$14,V24,N$5:N$14)+SUMIF(O$5:O$14,V24,P$5:P$14)+SUMIF(Q$5:Q$14,V24,R$5:R$14) -> 0 | X24: =(W24)/$J$16 -> #DIV/0!
U25: =RANK(X25,X$5:X$61) -> #DIV/0! | V25: ='Validation Lists'!F22 -> Ls | W25: =+SUMIF($C$5:$C$14,V25,$D$5:$D$14)+SUMIF($G$5:$G$14,V25,$H$5:$H$14)+SUMIF(K$5:K$14,V25,L$5:L$14)+SUMIF(M$5:M$14,V25,N$5:N$14)+SUMIF(O$5:O$14,V25,P$5:P$14)+SUMIF(Q$5:Q$14,V25,R$5:R$14) -> 0 | X25: =(W25)/$J$16 -> #DIV/0!
U26: =RANK(X26,X$5:X$61) -> #DIV/0! | V26: ='Validation Lists'!F23 -> Lt | W26: =+SUMIF($C$5:$C$14,V26,$D$5:$D$14)+SUMIF($G$5:$G$14,V26,$H$5:$H$14)+SUMIF(K$5:K$14,V26,L$5:L$14)+SUMIF(M$5:M$14,V26,N$5:N$14)+SUMIF(O$5:O$14,V26,P$5:P$14)+SUMIF(Q$5:Q$14,V26,R$5:R$14) -> 0 | X26: =(W26)/$J$16 -> #DIV/0!
U27: =RANK(X27,X$5:X$61) -> #DIV/0! | V27: ='Validation Lists'!F24 -> Lw | W27: =+SUMIF($C$5:$C$14,V27,$D$5:$D$14)+SUMIF($G$5:$G$14,V27,$H$5:$H$14)+SUMIF(K$5:K$14,V27,L$5:L$14)+SUMIF(M$5:M$14,V27,N$5:N$14)+SUMIF(O$5:O$14,V27,P$5:P$14)+SUMIF(Q$5:Q$14,V27,R$5:R$14) -> 0 | X27: =(W27)/$J$16 -> #DIV/0!
U28: =RANK(X28,X$5:X$61) -> #DIV/0! | V28: ='Validation Lists'!F25 -> Mb | W28: =+SUMIF($C$5:$C$14,V28,$D$5:$D$14)+SUMIF($G$5:$G$14,V28,$H$5:$H$14)+SUMIF(K$5:K$14,V28,L$5:L$14)+SUMIF(M$5:M$14,V28,N$5:N$14)+SUMIF(O$5:O$14,V28,P$5:P$14)+SUMIF(Q$5:Q$14,V28,R$5:R$14) -> 0 | X28: =(W28)/$J$16 -> #DIV/0!
U29: =RANK(X29,X$5:X$61) -> #DIV/0! | V29: ='Validation Lists'!F26 -> Pa | W29: =+SUMIF($C$5:$C$14,V29,$D$5:$D$14)+SUMIF($G$5:$G$14,V29,$H$5:$H$14)+SUMIF(K$5:K$14,V29,L$5:L$14)+SUMIF(M$5:M$14,V29,N$5:N$14)+SUMIF(O$5:O$14,V29,P$5:P$14)+SUMIF(Q$5:Q$14,V29,R$5:R$14) -> 0 | X29: =(W29)/$J$16 -> #DIV/0!
D30: The "Inventory Label Summary" tab is automated. It DOES NOT require any input. | U30: =RANK(X30,X$5:X$61) -> #DIV/0! | V30: ='Validation Lists'!F27 -> Pf | W30: =+SUMIF($C$5:$C$14,V30,$D$5:$D$14)+SUMIF($G$5:$G$14,V30,$H$5:$H$14)+SUMIF(K$5:K$14,V30,L$5:L$14)+SUMIF(M$5:M$14,V30,N$5:N$14)+SUMIF(O$5:O$14,V30,P$5:P$14)+SUMIF(Q$5:Q$14,V30,R$5:R$14) -> 0 | X30: =(W30)/$J$16 -> #DIV/0!
U31: =RANK(X31,X$5:X$61) -> #DIV/0! | V31: ='Validation Lists'!F28 -> Pj | W31: =+SUMIF($C$5:$C$14,V31,$D$5:$D$14)+SUMIF($G$5:$G$14,V31,$H$5:$H$14)+SUMIF(K$5:K$14,V31,L$5:L$14)+SUMIF(M$5:M$14,V31,N$5:N$14)+SUMIF(O$5:O$14,V31,P$5:P$14)+SUMIF(Q$5:Q$14,V31,R$5:R$14) -> 0 | X31: =(W31)/$J$16 -> #DIV/0!
U32: =RANK(X32,X$5:X$61) -> #DIV/0! | V32: ='Validation Lists'!F29 -> Plc | W32: =+SUMIF($C$5:$C$14,V32,$D$5:$D$14)+SUMIF($G$5:$G$14,V32,$H$5:$H$14)+SUMIF(K$5:K$14,V32,L$5:L$14)+SUMIF(M$5:M$14,V32,N$5:N$14)+SUMIF(O$5:O$14,V32,P$5:P$14)+SUMIF(Q$5:Q$14,V32,R$5:R$14) -> 0 | X32: =(W32)/$J$16 -> #DIV/0!
U33: =RANK(X33,X$5:X$61) -> #DIV/0! | V33: ='Validation Lists'!F30 -> Pli | W33: =+SUMIF($C$5:$C$14,V33,$D$5:$D$14)+SUMIF($G$5:$G$14,V33,$H$5:$H$14)+SUMIF(K$5:K$14,V33,L$5:L$14)+SUMIF(M$5:M$14,V33,N$5:N$14)+SUMIF(O$5:O$14,V33,P$5:P$14)+SUMIF(Q$5:Q$14,V33,R$5:R$14) -> 0 | X33: =(W33)/$J$16 -> #DIV/0!
U34: =RANK(X34,X$5:X$61) -> #DIV/0! | V34: ='Validation Lists'!F31 -> Pw | W34: =+SUMIF($C$5:$C$14,V34,$D$5:$D$14)+SUMIF($G$5:$G$14,V34,$H$5:$H$14)+SUMIF(K$5:K$14,V34,L$5:L$14)+SUMIF(M$5:M$14,V34,N$5:N$14)+SUMIF(O$5:O$14,V34,P$5:P$14)+SUMIF(Q$5:Q$14,V34,R$5:R$14) -> 0 | X34: =(W34)/$J$16 -> #DIV/0!
U35: =RANK(X35,X$5:X$61) -> #DIV/0! | V35: ='Validation Lists'!F32 -> Py | W35: =+SUMIF($C$5:$C$14,V35,$D$5:$D$14)+SUMIF($G$5:$G$14,V35,$H$5:$H$14)+SUMIF(K$5:K$14,V35,L$5:L$14)+SUMIF(M$5:M$14,V35,N$5:N$14)+SUMIF(O$5:O$14,V35,P$5:P$14)+SUMIF(Q$5:Q$14,V35,R$5:R$14) -> 0 | X35: =(W35)/$J$16 -> #DIV/0!
U36: =RANK(X36,X$5:X$61) -> #DIV/0! | V36: ='Validation Lists'!F33 -> Sa | W36: =+SUMIF($C$5:$C$14,V36,$D$5:$D$14)+SUMIF($G$5:$G$14,V36,$H$5:$H$14)+SUMIF(K$5:K$14,V36,L$5:L$14)+SUMIF(M$5:M$14,V36,N$5:N$14)+SUMIF(O$5:O$14,V36,P$5:P$14)+SUMIF(Q$5:Q$14,V36,R$5:R$14) -> 0 | X36: =(W36)/$J$16 -> #DIV/0!
U37: =RANK(X37,X$5:X$61) -> #DIV/0! | V37: ='Validation Lists'!F34 -> Sb | W37: =+SUMIF($C$5:$C$14,V37,$D$5:$D$14)+SUMIF($G$5:$G$14,V37,$H$5:$H$14)+SUMIF(K$5:K$14,V37,L$5:L$14)+SUMIF(M$5:M$14,V37,N$5:N$14)+SUMIF(O$5:O$14,V37,P$5:P$14)+SUMIF(Q$5:Q$14,V37,R$5:R$14) -> 0 | X37: =(W37)/$J$16 -> #DIV/0!
U38: =RANK(X38,X$5:X$61) -> #DIV/0! | V38: ='Validation Lists'!F35 -> Se | W38: =+SUMIF($C$5:$C$14,V38,$D$5:$D$14)+SUMIF($G$5:$G$14,V38,$H$5:$H$14)+SUMIF(K$5:K$14,V38,L$5:L$14)+SUMIF(M$5:M$14,V38,N$5:N$14)+SUMIF(O$5:O$14,V38,P$5:P$14)+SUMIF(Q$5:Q$14,V38,R$5:R$14) -> 0 | X38: =(W38)/$J$16 -> #DIV/0!
U39: =RANK(X39,X$5:X$61) -> #DIV/0! | V39: ='Validation Lists'!F36 -> Ss | W39: =+SUMIF($C$5:$C$14,V39,$D$5:$D$14)+SUMIF($G$5:$G$14,V39,$H$5:$H$14)+SUMIF(K$5:K$14,V39,L$5:L$14)+SUMIF(M$5:M$14,V39,N$5:N$14)+SUMIF(O$5:O$14,V39,P$5:P$14)+SUMIF(Q$5:Q$14,V39,R$5:R$14) -> 0 | X39: =(W39)/$J$16 -> #DIV/0!
U40: =RANK(X40,X$5:X$61) -> #DIV/0! | V40: ='Validation Lists'!F37 -> Sw | W40: =+SUMIF($C$5:$C$14,V40,$D$5:$D$14)+SUMIF($G$5:$G$14,V40,$H$5:$H$14)+SUMIF(K$5:K$14,V40,L$5:L$14)+SUMIF(M$5:M$14,V40,N$5:N$14)+SUMIF(O$5:O$14,V40,P$5:P$14)+SUMIF(Q$5:Q$14,V40,R$5:R$14) -> 0 | X40: =(W40)/$J$16 -> #DIV/0!
U41: =RANK(X41,X$5:X$61) -> #DIV/0! | V41: ='Validation Lists'!F38 -> Sx | W41: =+SUMIF($C$5:$C$14,V41,$D$5:$D$14)+SUMIF($G$5:$G$14,V41,$H$5:$H$14)+SUMIF(K$5:K$14,V41,L$5:L$14)+SUMIF(M$5:M$14,V41,N$5:N$14)+SUMIF(O$5:O$14,V41,P$5:P$14)+SUMIF(Q$5:Q$14,V41,R$5:R$14) -> 0 | X41: =(W41)/$J$16 -> #DIV/0!
U42: =RANK(X42,X$5:X$61) -> #DIV/0! | V42: ='Validation Lists'!F39 -> Sxb | W42: =+SUMIF($C$5:$C$14,V42,$D$5:$D$14)+SUMIF($G$5:$G$14,V42,$H$5:$H$14)+SUMIF(K$5:K$14,V42,L$5:L$14)+SUMIF(M$5:M$14,V42,N$5:N$14)+SUMIF(O$5:O$14,V42,P$5:P$14)+SUMIF(Q$5:Q$14,V42,R$5:R$14) -> 0 | X42: =(W42)/$J$16 -> #DIV/0!
... U61: =RANK(X61,X$5:X$61) -> #DIV/0! | V61: ='Validation Lists'!F58 -> 0 | W61: =+SUMIF($C$5:$C$14,V61,$D$5:$D$14)+SUMIF($G$5:$G$14,V61,$H$5:$H$14)+SUMIF(K$5:K$14,V61,L$5:L$14)+SUMIF(M$5:M$14,V61,N$5:N$14)+SUMIF(O$5:O$14,V61,P$5:P$14)+SUMIF(Q$5:Q$14,V61,R$5:R$14) -> 0 | X61: =(W61)/$J$16 -> #DIV/0!
X63: =COUNTIF(X5:X61,">0") -> 0

Sheet LCL Calculator
C2: Mapsheet | E2: Polygon | L2: Quick Plot Density LCL Calculator
C3: ='Plot (1)'!$A$4 | E3: ='Plot (1)'!$G$4 -> 0
J4: CAPPED VALUES (M) DATA
B5: Plot | C5: Total Trees | D5: Total Conifers | E5: WS | F5: WS (M) | G5: FG | H5: FG (M) | J5: WS (M) | K5: Mean WS (M)/plot | L5: SD WS (M) | U5: FG (M) | V5: Mean FG (M)/plot | W5: SD FG (M)
B6: 1 | C6: ='Plot (1)'!D10 -> 0 | D6: ='Plot (1)'!E10 -> 0 | E6: ='Plot (1)'!H10 -> 0 | F6: =IF(E6>$D$20,$D$20,E6) -> 0 | G6: ='Plot (1)'!I10 -> 0 | H6: =IF(G6>$D$20,$D$20,G6) -> 0 | J6: =F16 -> 0 | K6: =AVERAGE(F6:F15) -> 0 | L6: =STDEV(F6:F15) -> 0 | U6: =H16 -> 0 | V6: =AVERAGE(H6:H15) -> 0 | W6: =STDEV(H6:H15) -> 0
B7: 2 | C7: ='Plot (2)'!D10 -> 0 | D7: ='Plot (2)'!E10 -> 0 | E7: ='Plot (2)'!H10 -> 0 | F7: =IF(E7>$D$20,$D$20,E7) -> 0 | G7: ='Plot (2)'!I10 -> 0 | H7: =IF(G7>$D$20,$D$20,G7) -> 0
